From mboxrd@z Thu Jan 1 00:00:00 1970 Return-Path: Received: from mails.dpdk.org (mails.dpdk.org [217.70.189.124]) by inbox.dpdk.org (Postfix) with ESMTP id CD17A4894D for ; Thu, 16 Oct 2025 08:18:28 +0200 (CEST) Received: from mails.dpdk.org (localhost [127.0.0.1]) by mails.dpdk.org (Postfix) with ESMTP id C45D940269; Thu, 16 Oct 2025 08:18:28 +0200 (CEST) Received: from mail-io1-f99.google.com (mail-io1-f99.google.com [209.85.166.99]) by mails.dpdk.org (Postfix) with ESMTP id 63B2140269 for ; Thu, 16 Oct 2025 08:18:20 +0200 (CEST) Received: by mail-io1-f99.google.com with SMTP id ca18e2360f4ac-938bf212b72so15061639f.1 for ; Wed, 15 Oct 2025 23:18:20 -0700 (PDT) DKIM-Signature: v=1; a=rsa-sha256; c=relaxed/relaxed; d=iol.unh.edu; s=unh-iol; t=1760595499; x=1761200299; darn=dpdk.org; h=cc:to:from:subject:message-id:date:from:to:cc:subject:date :message-id:reply-to; bh=aNroVYiHPbYshD5m1qKH7kImtKGSr4RHRLMyg8fJSmY=; b=R6JPdRdps54dyzvDxjd/ef3sd1vNBSvJdPG54KirebV7Mk3KYVyhPigEJqUvzagajl BnPUtT7kutYxhjjAHw9Z2ZmJmc/QWbXM59DXwSjb7A7qD+aguWUqsZYziEACdwNXsQDD RVOMgg/34QZux9KOZm6II1pUv0oehRLTLSpco= X-Google-DKIM-Signature: v=1; a=rsa-sha256; c=relaxed/relaxed; d=1e100.net; s=20230601; t=1760595499; x=1761200299; h=cc:to:from:subject:message-id:date:x-gm-message-state:from:to:cc :subject:date:message-id:reply-to; bh=aNroVYiHPbYshD5m1qKH7kImtKGSr4RHRLMyg8fJSmY=; b=EayBVn0Y/f//smm3xZ+nNNLC9vq6uB5mOkDv5HtyEBZjsd8Ji2cjojGy43NGZAZq9y zmVNWpsCZ3+liJK8kCNFiQDk+AJVggEsmYe2nIOUWf2Ul8snpQSZ5F/llUlhv9UU5kda mDmsYu6j2tsNbx2ZLjY+s3gXdsBVxLLJNI/Jk/0UDABYVP1mHPrBM+VeET0fwgc9zUst zd+7bMMssORcdy0cgKScIezhmH8byVduX6bKx+bcXsFaawFso3VbE0Ew9R7W+F8vajUB E3H8GN4xre8HQzZQt8AjZh2FuBkD17DuoP7DlSQKYV28E4calrcOH9VdTKgFjndBMIHy 33Bw== X-Gm-Message-State: AOJu0YwTtPRweRw7rghCN4EcgRxTCIjKtwM3fcRDUdvFJjAzUXzXNQAu EsiAyjMvqJ0hnn8ewlaPm6LZAQljt1iKRn7mkMmy53D2XEKRfssVNXodjdUdPo3M9zmEY15D2aa HNuQwamgeuqsUTm5cblC6i7eHFDaN5x0P4QdBlNgDd47d X-Gm-Gg: ASbGncvYk/nqpkv5dM1d4GtAn6x8LUxRPsDe9GuE8wpLyg30yiIygdjeERf0Q+i1DZD NSwTWtgOus9hQNK7SjoMgZmhdphbyUYTK6IaAUSzm7HoUu1HxORp7W99WyaOFe9XKuli+e71BoE DNoJY4qAbgI70qiOHHqTUeyLr62MsqOaPN31UlIZ8ceA4pP4f+tAMN399jf/Xn9NwRkZZ43ZDGP aZ2Ed3Q1DzAVUEmPPCT8CG+qU68Z8KpZP8GYUCkur/6jSgVXV6zFodn7bV+rjKYTJ3220TiYzi5 +Wv2i+4sPO/cTrb4IJKQ6isZE4BtNc1+UEQpWmwazXdM0+Fk22Cres37+NehgpBSFG+2fSvNx6G rHeMkr6Y4tAZuD0ixKaHHBstYjQKq5CQ= X-Google-Smtp-Source: AGHT+IFyq9NGJ2WQHKVMqGRueAfzGh4mcPsYjBj+DNc9fwgCRqEN2Iq6y4zeES1AGnuVy1xAbaA0xN4z1vb0 X-Received: by 2002:a05:6e02:4803:b0:430:a66b:4ec1 with SMTP id e9e14a558f8ab-430a66b50e8mr91191965ab.23.1760595499705; Wed, 15 Oct 2025 23:18:19 -0700 (PDT) Received: from postal.iol.unh.edu (postal.iol.unh.edu. [132.177.123.84]) by smtp-relay.gmail.com with ESMTPS id e9e14a558f8ab-430b513e47fsm1577715ab.25.2025.10.15.23.18.19 (version=TLS1_2 cipher=ECDHE-ECDSA-AES128-GCM-SHA256 bits=128/128); Wed, 15 Oct 2025 23:18:19 -0700 (PDT) X-Relaying-Domain: iol.unh.edu Date: Wed, 15 Oct 2025 23:18:19 -0700 (PDT) Message-ID: <68f08e2b.050a0220.1840c1.867eSMTPIN_ADDED_MISSING@mx.google.com> Received: from [172.21.0.2] (unknown [172.18.0.240]) by postal.iol.unh.edu (Postfix) with ESMTP id 363656051830; Thu, 16 Oct 2025 02:18:19 -0400 (EDT) Subject: |SUCCESS| [GIT MASTER] a62b0fbf8e367c88d28d78210db1b28c8eac4b1b From: dpdklab@iol.unh.edu To: Test Report Cc: dpdk-test-reports@iol.unh.edu, Chenbo Xia , Maxime Coquelin Content-Type: text/plain X-BeenThere: test-report@dpdk.org X-Mailman-Version: 2.1.29 Precedence: list List-Id: automatic DPDK test reports List-Unsubscribe: , List-Archive: List-Post: List-Help: List-Subscribe: , Errors-To: test-report-bounces@dpdk.org _Testing PASS_ Branch: dpdk-next-virtio a62b0fbf8e367c88d28d78210db1b28c8eac4b1b --> testing pass Upstream job id: Windows-Compile-DPDK-Native#31665 Test environment and result as below: +---------------------+--------------------+-------------------+-------------------------+ | Environment | dpdk_meson_compile | dpdk_msvc_compile | dpdk_llvm_clang_compile | +=====================+====================+===================+=========================+ | FreeBSD 14.2 | PASS | SKIPPED | SKIPPED | +---------------------+--------------------+-------------------+-------------------------+ | Ubuntu 20.04 | PASS | SKIPPED | SKIPPED | +---------------------+--------------------+-------------------+-------------------------+ | Windows Server 2022 | SKIPPED | PASS | PASS | +---------------------+--------------------+-------------------+-------------------------+ FreeBSD 14.2 Kernel: 14.2-RELEASE Compiler: clang 18.1.6 Ubuntu 20.04 Kernel: 4.19 Compiler: gcc gcc (Ubuntu 9.4.0-1ubuntu1~20.04.2) 9.4.0 Windows Server 2022 Kernel: 10.0.20348.2031 Compiler: clang 15.0.7, gcc 14.1.0 (MinGW), and MSVC VS 19.39.33521 To view detailed results, visit: https://lab.dpdk.org/results/dashboard/tarballs/35230/ UNH-IOL DPDK Community Lab To manage your email subscriptions, visit: https://lab.dpdk.org/results/dashboard/preferences/subscriptions/