From mboxrd@z Thu Jan 1 00:00:00 1970 Return-Path: Received: from mails.dpdk.org (mails.dpdk.org [217.70.189.124]) by inbox.dpdk.org (Postfix) with ESMTP id 388704894D for ; Thu, 16 Oct 2025 08:42:37 +0200 (CEST) Received: from mails.dpdk.org (localhost [127.0.0.1]) by mails.dpdk.org (Postfix) with ESMTP id 1D4EB40269; Thu, 16 Oct 2025 08:42:37 +0200 (CEST) Received: from mail-pl1-f227.google.com (mail-pl1-f227.google.com [209.85.214.227]) by mails.dpdk.org (Postfix) with ESMTP id 8FB2640269 for ; Thu, 16 Oct 2025 08:42:35 +0200 (CEST) Received: by mail-pl1-f227.google.com with SMTP id d9443c01a7336-290ac2ef203so2849625ad.1 for ; Wed, 15 Oct 2025 23:42:35 -0700 (PDT) DKIM-Signature: v=1; a=rsa-sha256; c=relaxed/relaxed; d=iol.unh.edu; s=unh-iol; t=1760596954; x=1761201754; darn=dpdk.org; h=cc:to:from:subject:message-id:date:from:to:cc:subject:date :message-id:reply-to; bh=OTRp273W6utBY8Zn11is3uYnlLw9MiLCvDhjSXcVxOU=; b=SAsM4EXzTmDX8qkM8HWmpys7BZDdBos2VXIbci+vdFEoX2TA2dnAOCO2dD1SCdnWro 2+ZdWWJvGpRAX/xxNUEsSFf3DYotYpoZjTEptk/Q8Gx1GvyTq0Rwx8tv9AgI7yDgk/Ws bYNYB0nV6lVJ3JYvH0i+wDDZ0a2JNFEIc50rc= X-Google-DKIM-Signature: v=1; a=rsa-sha256; c=relaxed/relaxed; d=1e100.net; s=20230601; t=1760596954; x=1761201754; h=cc:to:from:subject:message-id:date:x-gm-message-state:from:to:cc :subject:date:message-id:reply-to; bh=OTRp273W6utBY8Zn11is3uYnlLw9MiLCvDhjSXcVxOU=; b=J9aNSZL1tcNGKeBL6QdTow+wOlzAzFowZ3QwmNp5CC57Q22Q73WOpO+Fxecx5FMzzs ot2tvHFDz8BuVaUo71DXV1ab1VUCvuBoXMcIU7VEEZzgbaYhyrx8R3xooK56Ic/kV2iT 9mMFycL9ProXEygBSD2VtbI19jD4lAa6oj+EtmYTNCOEv5BNT7avABkR9erEFIb0oUvD h8zQXxpwIgtDmdcUUEO9ZOt7gu3o5crqPLHlcVHGylcp3/2QpPViqb9OszY1jxJh5KQw fq1HDUvNhAxpAHwDPODagvtDE56X4i8iGEkG1CxoXum/Np2CUoE5CaLLOdVZRm6KmJT8 VXwQ== X-Gm-Message-State: AOJu0YyMQwZ1NgMApPQsJzDOpfhIHYkkRxRXFHX26diav1v8RfonYUR7 x2mPCAlKixEoo2w3Yx28eJvFSQhTTg7PNv1ACDDxIDWdYju9Q9Pxm/JNM54GxMIKN4kVEk1nwtZ 5bG8aSSW7MS3cLkfmAMER+7Oo5ZZCSQ3Qf90s X-Gm-Gg: ASbGncu8lS+Mg9IbojRcPBqUQTCYzvWwMov7CSodIJAeTHynqRjjNDpD4xXf5FXtXFD xk0lZjB9+HHiETOK660rFUcVQuYjQmn8x5Jgr7lnGn+T1cfrVBB+sh8dOvxIgW3sI8nLFCP39dV swtO9IEg2NqER30ZXvDPi29fgHHguTyBSriY7Q68hNlm64NJbrLyDB4QdH9AyrR5x3DCxdHm+cw tL+Dv2A8S1X3wdL8PfLzrKswyH+y0wZJp4ewm90PLIN6eTthtxPCI9CPrfInIsS4C5mTkZlStbe OyaslloBOG7+wlR+HewXarPk8dJcB7LoBaG24kypIpX5CcSXlahN/q86IM73/PI6tCxR65Zf0xq WCZg4zWZ1LpsZygbLmsmYas16pQLjcXA= X-Google-Smtp-Source: AGHT+IH6AO04Cylz9KMqAlQikw9tzrE2xfzhrCwNQWCPMLmQva8KpnRdP5x/zat2klIPvuHgTWCWS+C8/UTB X-Received: by 2002:a17:903:38cf:b0:267:87be:505e with SMTP id d9443c01a7336-2902737c68bmr337855035ad.23.1760596954630; Wed, 15 Oct 2025 23:42:34 -0700 (PDT) Received: from postal.iol.unh.edu (postal.iol.unh.edu. [132.177.123.84]) by smtp-relay.gmail.com with ESMTPS id d9443c01a7336-29098fbaac3sm2097565ad.16.2025.10.15.23.42.34 (version=TLS1_2 cipher=ECDHE-ECDSA-AES128-GCM-SHA256 bits=128/128); Wed, 15 Oct 2025 23:42:34 -0700 (PDT) X-Relaying-Domain: iol.unh.edu Date: Wed, 15 Oct 2025 23:42:34 -0700 (PDT) Message-ID: <68f093da.170a0220.1e2d2.ad0aSMTPIN_ADDED_MISSING@mx.google.com> Received: from [172.21.0.2] (unknown [172.18.0.240]) by postal.iol.unh.edu (Postfix) with ESMTP id D43816051830; Thu, 16 Oct 2025 02:42:33 -0400 (EDT) Subject: |WARNING| [GIT MASTER] 62f583c49bf67dd4d6733ece14e55fe6839e66d1 From: dpdklab@iol.unh.edu To: Test Report Cc: dpdk-test-reports@iol.unh.edu, Xueming Li , Christian Ehrhardt , Kevin Traynor , Luca Boccassi Content-Type: text/plain X-BeenThere: test-report@dpdk.org X-Mailman-Version: 2.1.29 Precedence: list List-Id: automatic DPDK test reports List-Unsubscribe: , List-Archive: List-Post: List-Help: List-Subscribe: , Errors-To: test-report-bounces@dpdk.org _Testing issues_ Branch: tags/v23.11 62f583c49bf67dd4d6733ece14e55fe6839e66d1 --> testing issues Upstream job id: Generic-Unit-Test-DPDK#382027 Test environment and result as below: +-------------------------------+----------------+ | Environment | dpdk_unit_test | +===============================+================+ | CentOS Stream 9 | PASS | +-------------------------------+----------------+ | Debian GNU/Linux 12 | PASS | +-------------------------------+----------------+ | CentOS Stream 10 | PASS | +-------------------------------+----------------+ | Fedora Linux 40 | PASS | +-------------------------------+----------------+ | Fedora Linux 41 | PASS | +-------------------------------+----------------+ | Red Hat Enterprise Linux 8.10 | PASS | +-------------------------------+----------------+ | Ubuntu 24.04 | PASS | +-------------------------------+----------------+ | Fedora Linux 42 | PASS | +-------------------------------+----------------+ | Ubuntu 22.04 | PASS | +-------------------------------+----------------+ | Red Hat Enterprise Linux 9.5 | PASS | +-------------------------------+----------------+ | Ubuntu 20.04 | PASS | +-------------------------------+----------------+ CentOS Stream 9 Kernel: 5.15 Compiler: gcc gcc (GCC) 11.5.0 20240719 (Red Hat 11.5.0-11) Debian GNU/Linux 12 Kernel: 5.15 Compiler: gcc gcc (Debian 12.2.0-14+deb12u1) 12.2.0 CentOS Stream 10 Kernel: 5.15 Compiler: gcc gcc (GCC) 14.2.1 20250110 (Red Hat 14.2.1-8) Fedora Linux 40 Kernel: 5.15 Compiler: clang gcc (GCC) 14.2.1 20240912 (Red Hat 14.2.1-3) Fedora Linux 41 Kernel: 5.15 Compiler: gcc gcc (GCC) 14.3.1 20250523 (Red Hat 14.3.1-1) Red Hat Enterprise Linux 8.10 Kernel: 5.15 Compiler: gcc gcc (GCC) 8.5.0 20210514 (Red Hat 8.5.0-22) Ubuntu 24.04 Kernel: 5.15 Compiler: gcc gcc (Ubuntu 13.3.0-6ubuntu2~24.04) 13.3.0 Fedora Linux 42 Kernel: 5.15 Compiler: gcc gcc (GCC) 15.2.1 20250808 (Red Hat 15.2.1-1) Ubuntu 22.04 Kernel: 5.15 Compiler: gcc gcc (Ubuntu 11.4.0-1ubuntu1~22.04) 11.4.0 Red Hat Enterprise Linux 9.5 Kernel: 5.15 Compiler: gcc gcc (GCC) 11.5.0 20240719 (Red Hat 11.5.0-2) Ubuntu 20.04 Kernel: 5.15 Compiler: gcc gcc (Ubuntu 9.4.0-1ubuntu1~20.04.2) 9.4.0 To view detailed results, visit: https://lab.dpdk.org/results/dashboard/tarballs/35228/ UNH-IOL DPDK Community Lab To manage your email subscriptions, visit: https://lab.dpdk.org/results/dashboard/preferences/subscriptions/