From mboxrd@z Thu Jan 1 00:00:00 1970 Return-Path: Received: from mails.dpdk.org (mails.dpdk.org [217.70.189.124]) by inbox.dpdk.org (Postfix) with ESMTP id 9D36B4894D for ; Thu, 16 Oct 2025 08:46:03 +0200 (CEST) Received: from mails.dpdk.org (localhost [127.0.0.1]) by mails.dpdk.org (Postfix) with ESMTP id 66E4840269; Thu, 16 Oct 2025 08:46:03 +0200 (CEST) Received: from mail-ot1-f97.google.com (mail-ot1-f97.google.com [209.85.210.97]) by mails.dpdk.org (Postfix) with ESMTP id 7F31C40269 for ; Thu, 16 Oct 2025 08:46:01 +0200 (CEST) Received: by mail-ot1-f97.google.com with SMTP id 46e09a7af769-74572fb94b3so275246a34.2 for ; Wed, 15 Oct 2025 23:46:01 -0700 (PDT) DKIM-Signature: v=1; a=rsa-sha256; c=relaxed/relaxed; d=iol.unh.edu; s=unh-iol; t=1760597160; x=1761201960; darn=dpdk.org; h=cc:to:from:subject:message-id:date:from:to:cc:subject:date :message-id:reply-to; bh=8JRM5EFpES858mdqByuy6nU8/6Xe5IAOWOSdswf0n10=; b=YfYRWN8Se5AtmmPubdovQOYADArqPDtSfJI5ZxdARyyCyb8YsCSEV485f8GRF3/kI0 aSseXYtf5H4i73jbLzBR05mHHIO4pGPjDBcAgUGseQWE0nROkiGXTCh2jOhgMmpNs4J8 Xnk3v0idMziO5Hn703Fa3lgXXLHGkzU2L0Ks8= X-Google-DKIM-Signature: v=1; a=rsa-sha256; c=relaxed/relaxed; d=1e100.net; s=20230601; t=1760597160; x=1761201960; h=cc:to:from:subject:message-id:date:x-gm-message-state:from:to:cc :subject:date:message-id:reply-to; bh=8JRM5EFpES858mdqByuy6nU8/6Xe5IAOWOSdswf0n10=; b=adFrzFRaPAaeL5BJMP9VZZf5QQeao9/ENFSdgZoudEalhXxqt0AY4Ii+EdahgDhDHv 7QLGdLmTvWVCG+enKrrtPaA8lvhApjO8xVITutbXvGyE1sVDdTCAUHbMxRlhbxjNlQVD uoE1Z0rsovaAhmKueztyjaCJ/cuiR5Xq4+EM622yJC79rBEKJLG8qpMHhC2EROowUP2I qZg/y49nlW+qq598HJAqb/+QDqJ6mqQs0qt7P6NR8mLC5WMaOkD6bQyWb/K0pVNdnIpQ gszO9sPrqFf875rFaeZ1w7gdz9TBtcy1fBDf2xAvonaFn/x2jKmJDY2s14b4lgp3Z6jb bYRg== X-Gm-Message-State: AOJu0YwhppH67i3EW6GDYV/OnWv8Doi2Cu0ZevwRscbJe9BphBZCk+xN 0jjkiYL00VfOxmM/VW3pO51bPjOQftrFkOh35msOqMtGwIp6Z26so3CKnygFo72zBGtq1DeUXdF TqJshePl7KBPkDWedH8uQ+l7nIZtU7wAy2i9fb96Vrcp4 X-Gm-Gg: ASbGncvdTnWZzu3rmIkXC0F/vsM7sSuVCfFXY77BT/eCtQOBeXDoucTShiw813/xoUG bk3ji/L07c7gIYSfaVLhJX+KVQnM26GNw0rO4LrC5N1s0p04NuKwKc5XJVfVtGty3uksy4aFUEc 2zbYWBr9Sf/3WFBnmce7jJ3EaibHF0OFJNMCD3xEf+obSVtw3+/Z/EnnbNkt98WY7jIrhVO0Vz2 cfPpIKAxVyEzXLqmCFg5YPewI80omsNIsl41V+Rmte1v7m1cvihi5TOwVpa4mPbSbep2pE01BnX 7n1osoFh78gjiHD8RGDoK0yLvTAuhwDB+Vx5+akjJC1J6zNkKM3UZjnH3RLkPP6JyUT5wNkWKHl AyQcOgw5+QuJ1mKe2ohJ1wjgkOba5U8U= X-Google-Smtp-Source: AGHT+IFde0iqEo/FFm9qPxJKxDNac+CjH7xLNLB5Ud8JlI1zmOmKOFkTK9+qZOfUDdcbg0DfCj04JMTkOWbr X-Received: by 2002:a05:6830:2a89:b0:7bd:f7c:f8 with SMTP id 46e09a7af769-7c0df6e4a2bmr20237976a34.11.1760597160674; Wed, 15 Oct 2025 23:46:00 -0700 (PDT) Received: from postal.iol.unh.edu (postal.iol.unh.edu. [132.177.123.84]) by smtp-relay.gmail.com with ESMTPS id 46e09a7af769-7c0f901eba1sm1547175a34.1.2025.10.15.23.46.00 (version=TLS1_2 cipher=ECDHE-ECDSA-AES128-GCM-SHA256 bits=128/128); Wed, 15 Oct 2025 23:46:00 -0700 (PDT) X-Relaying-Domain: iol.unh.edu Date: Wed, 15 Oct 2025 23:46:00 -0700 (PDT) Message-ID: <68f094a8.050a0220.71873.e05dSMTPIN_ADDED_MISSING@mx.google.com> Received: from [172.21.0.2] (unknown [172.18.0.240]) by postal.iol.unh.edu (Postfix) with ESMTP id 27AB860003E8; Thu, 16 Oct 2025 02:46:00 -0400 (EDT) Subject: |SUCCESS| [GIT MASTER] a62b0fbf8e367c88d28d78210db1b28c8eac4b1b From: dpdklab@iol.unh.edu To: Test Report Cc: dpdk-test-reports@iol.unh.edu, Chenbo Xia , Maxime Coquelin Content-Type: text/plain X-BeenThere: test-report@dpdk.org X-Mailman-Version: 2.1.29 Precedence: list List-Id: automatic DPDK test reports List-Unsubscribe: , List-Archive: List-Post: List-Help: List-Subscribe: , Errors-To: test-report-bounces@dpdk.org _Testing PASS_ Branch: dpdk-next-virtio a62b0fbf8e367c88d28d78210db1b28c8eac4b1b --> testing pass Upstream job id: Generic-DPDK-Compile-Meson#434709 Test environment and result as below: +---------------------+--------------------+-------------------+-------------------------+----------------------+------------------+-------------------+ | Environment | dpdk_meson_compile | dpdk_msvc_compile | dpdk_llvm_clang_compile | dpdk_mingw64_compile | dpdk_compile_ovs | dpdk_compile_spdk | +=====================+====================+===================+=========================+======================+==================+===================+ | FreeBSD 14.2 | PASS | SKIPPED | SKIPPED | SKIPPED | SKIPPED | SKIPPED | +---------------------+--------------------+-------------------+-------------------------+----------------------+------------------+-------------------+ | Ubuntu 20.04 | PASS | SKIPPED | SKIPPED | SKIPPED | SKIPPED | SKIPPED | +---------------------+--------------------+-------------------+-------------------------+----------------------+------------------+-------------------+ | Ubuntu 24.04 | PASS | SKIPPED | SKIPPED | SKIPPED | PASS | PASS | +---------------------+--------------------+-------------------+-------------------------+----------------------+------------------+-------------------+ | Windows Server 2022 | SKIPPED | PASS | PASS | PASS | SKIPPED | SKIPPED | +---------------------+--------------------+-------------------+-------------------------+----------------------+------------------+-------------------+ FreeBSD 14.2 Kernel: 14.2-RELEASE Compiler: clang 18.1.6 Ubuntu 20.04 Kernel: 4.19 Compiler: gcc gcc (Ubuntu 9.4.0-1ubuntu1~20.04.2) 9.4.0 Ubuntu 24.04 Kernel: 5.15 Compiler: gcc gcc (Ubuntu 13.3.0-6ubuntu2~24.04) 13.3.0 Windows Server 2022 Kernel: 10.0.20348.2031 Compiler: clang 15.0.7, gcc 14.1.0 (MinGW), and MSVC VS 19.39.33521 To view detailed results, visit: https://lab.dpdk.org/results/dashboard/tarballs/35230/ UNH-IOL DPDK Community Lab To manage your email subscriptions, visit: https://lab.dpdk.org/results/dashboard/preferences/subscriptions/