From mboxrd@z Thu Jan 1 00:00:00 1970 Return-Path: Received: from mails.dpdk.org (mails.dpdk.org [217.70.189.124]) by inbox.dpdk.org (Postfix) with ESMTP id 04E9C4894D for ; Thu, 16 Oct 2025 08:50:40 +0200 (CEST) Received: from mails.dpdk.org (localhost [127.0.0.1]) by mails.dpdk.org (Postfix) with ESMTP id E697340269; Thu, 16 Oct 2025 08:50:40 +0200 (CEST) Received: from mail-pg1-f227.google.com (mail-pg1-f227.google.com [209.85.215.227]) by mails.dpdk.org (Postfix) with ESMTP id 1D7BA40269 for ; Thu, 16 Oct 2025 08:50:40 +0200 (CEST) Received: by mail-pg1-f227.google.com with SMTP id 41be03b00d2f7-b553412a19bso225782a12.1 for ; Wed, 15 Oct 2025 23:50:40 -0700 (PDT) DKIM-Signature: v=1; a=rsa-sha256; c=relaxed/relaxed; d=iol.unh.edu; s=unh-iol; t=1760597439; x=1761202239; darn=dpdk.org; h=references:in-reply-to:cc:to:from:subject:message-id:date:from:to :cc:subject:date:message-id:reply-to; bh=H6wTp6THAYdilMvYLNlW6fQX+tvAa1/AJZ8ZbvUGHGk=; b=WjwfkVhCOHAhNd9kmCh3Wy5MZJmqD3WTV3suBTUtCkUUUTDTiQaDFBGRwi5FHgMQ7s 2TdlA9FCH6wZkUn+E8fzVWt3FwyucFMICmh2mTmwOk+ceBkhDBH1R/Z/J0PzjNiRetDU DAumShvuoY+dRP7zVvaAw8cBlJDuQKJ3wih+E= X-Google-DKIM-Signature: v=1; a=rsa-sha256; c=relaxed/relaxed; d=1e100.net; s=20230601; t=1760597439; x=1761202239; h=references:in-reply-to:cc:to:from:subject:message-id:date :x-gm-message-state:from:to:cc:subject:date:message-id:reply-to; bh=H6wTp6THAYdilMvYLNlW6fQX+tvAa1/AJZ8ZbvUGHGk=; b=imawtC6U22dcWcHcoU2/KoxbeViOtR/hU8j1qy6CrfjIqS+rZiR+8juUYBjcb2NQP9 9CidqXLrUYv5jg6PkVCtEgEdXVg6HXUZz528w6o/2kFcGNsr9DBtYJQrpjqQEXke4vi5 KpOZoDWKIMMt9EVEtNhoJWKWl2C7k9m2RUaiiO5xh3leqX60NyjkTH+Dk9NISAq2HT2u /G+G/3KoY8m8klVSEbnWOXB5X58qrm79L6UTntyiqPTTBKTZtRwpt9HGx0OL1f95b6+I M9v+GcauqrkACRI5doDP9mnxji4Ql26XeulUvpJj68bt8fVcUPOc/Xj5krnhfJOGuB6L cHRA== X-Gm-Message-State: AOJu0Yw3RmjSC5Fq3zZd10zklB5fbua70IMmrFJWSol8mjcHf4+6IWQV riYl7odYOQbRCAcxiBpkcvpUjmiacM1T+BP3LJQ5CSI1sezkmhWdbJCrDkpENiA0mkNQZdEgP/W VOiRtwLtvxs0+IZhuXQMaDhmbqz0S3+uBAooSzdE1qt7l X-Gm-Gg: ASbGncvd4gmdyEZjaNZBaIaLSYsNL/znjwGRtj240mTR9bI1BXMoCcLGjHs8w0inVdi 0JsvDlO22btOKHRrHdYZ8hM5/5psvLEC4TpatFxX1B2/TofXJjkq5RF15KtElUYWLS6tY6dXVuM yO0mtm05IrHhpnCynJi6jOryVb78ipxlV8yEwt5ZVjlfQZKXCV6ccQ3QvozfEhNHD5+cxW7jHHe 1qxpE/OuBUrMlT7+X5TNa1nbxpppADPg4Yn0u8abOL5vtxKvxGl1lboc+vJ9gwfxzDB3n9WZvxP AMkOkRjMOWnpEnqxUNWiJJhdYyXxTQmypxpisz8cOx+YNTEhVsvxHRW2JzOYGd4Gz/zHbrvf1v4 AP53XOrf+GSyiwULCWOTqA4ItT/aAQBM= X-Google-Smtp-Source: AGHT+IF6HPfcj3bIEeGgijSfwlbzjU4xQCLzML5U/y7PCtYoO0+C8Hb4azoRkWFWrdWg1VC7lxizN0hgRQCm X-Received: by 2002:a17:903:2ecd:b0:28e:cc41:b0df with SMTP id d9443c01a7336-2902741fb25mr345148995ad.61.1760597439078; Wed, 15 Oct 2025 23:50:39 -0700 (PDT) Received: from postal.iol.unh.edu (postal.iol.unh.edu. [132.177.123.84]) by smtp-relay.gmail.com with ESMTPS id d9443c01a7336-29099675163sm1936035ad.39.2025.10.15.23.50.38 (version=TLS1_2 cipher=ECDHE-ECDSA-AES128-GCM-SHA256 bits=128/128); Wed, 15 Oct 2025 23:50:39 -0700 (PDT) X-Relaying-Domain: iol.unh.edu Date: Wed, 15 Oct 2025 23:50:39 -0700 (PDT) Message-ID: <68f095bf.170a0220.29d19f.a065SMTPIN_ADDED_MISSING@mx.google.com> Received: from [172.21.0.2] (unknown [172.18.0.240]) by postal.iol.unh.edu (Postfix) with ESMTP id 8A56A6051830; Thu, 16 Oct 2025 02:50:38 -0400 (EDT) Subject: |WARNING| pw157692 [PATCH] dma/hisi_pciep: rename hisilicon driver From: dpdklab@iol.unh.edu To: Test Report Cc: dpdk-test-reports@iol.unh.edu In-Reply-To: <20251016023747.18871-1-fengchengwen@huawei.com> References: <20251016023747.18871-1-fengchengwen@huawei.com> Content-Type: text/plain X-BeenThere: test-report@dpdk.org X-Mailman-Version: 2.1.29 Precedence: list List-Id: automatic DPDK test reports List-Unsubscribe: , List-Archive: List-Post: List-Help: List-Subscribe: , Errors-To: test-report-bounces@dpdk.org Test-Label: iol-compile-amd64-testing Test-Status: WARNING http://dpdk.org/patch/157692 _Testing issues_ Submitter: Chengwen Feng Date: Thursday, October 16 2025 02:37:47 DPDK git baseline: Repo:dpdk Branch: master CommitID:16f4c522003dcfecf23c8d38e009b95a3bbefd03 157692 --> testing issues Upstream job id: Generic-DPDK-Compile-Meson#434716 Test environment and result as below: +---------------------+--------------------+-------------------+-------------------------+----------------------+-------------------+ | Environment | dpdk_meson_compile | dpdk_msvc_compile | dpdk_llvm_clang_compile | dpdk_mingw64_compile | dpdk_compile_spdk | +=====================+====================+===================+=========================+======================+===================+ | Ubuntu 20.04 | PASS | SKIPPED | SKIPPED | SKIPPED | SKIPPED | +---------------------+--------------------+-------------------+-------------------------+----------------------+-------------------+ | FreeBSD 14.2 | PASS | SKIPPED | SKIPPED | SKIPPED | SKIPPED | +---------------------+--------------------+-------------------+-------------------------+----------------------+-------------------+ | CentOS Stream 9 | PASS | SKIPPED | SKIPPED | SKIPPED | WARN | +---------------------+--------------------+-------------------+-------------------------+----------------------+-------------------+ | CentOS Stream 10 | PEND | SKIPPED | SKIPPED | SKIPPED | SKIPPED | +---------------------+--------------------+-------------------+-------------------------+----------------------+-------------------+ | Debian GNU/Linux 12 | PEND | SKIPPED | SKIPPED | SKIPPED | PEND | +---------------------+--------------------+-------------------+-------------------------+----------------------+-------------------+ | Windows Server 2022 | SKIPPED | PASS | PASS | PASS | SKIPPED | +---------------------+--------------------+-------------------+-------------------------+----------------------+-------------------+ ==== 20 line log output for CentOS Stream 9 (dpdk_compile_spdk): ==== --- Failed to get log output --- ==== End log output ==== Ubuntu 20.04 Kernel: 4.19 Compiler: gcc gcc (Ubuntu 9.4.0-1ubuntu1~20.04.2) 9.4.0 FreeBSD 14.2 Kernel: 14.2-RELEASE Compiler: clang 18.1.6 CentOS Stream 9 Kernel: 5.15 Compiler: gcc gcc (GCC) 11.5.0 20240719 (Red Hat 11.5.0-11) CentOS Stream 10 Kernel: 5.15 Compiler: gcc gcc (GCC) 14.2.1 20250110 (Red Hat 14.2.1-8) Debian GNU/Linux 12 Kernel: 5.15 Compiler: gcc gcc (Debian 12.2.0-14+deb12u1) 12.2.0 Windows Server 2022 Kernel: 10.0.20348.2031 Compiler: clang 15.0.7, gcc 14.1.0 (MinGW), and MSVC VS 19.39.33521 To view detailed results, visit: https://lab.dpdk.org/results/dashboard/patchsets/34292/ UNH-IOL DPDK Community Lab To manage your email subscriptions, visit: https://lab.dpdk.org/results/dashboard/preferences/subscriptions/