From mboxrd@z Thu Jan 1 00:00:00 1970 Return-Path: Received: from mails.dpdk.org (mails.dpdk.org [217.70.189.124]) by inbox.dpdk.org (Postfix) with ESMTP id 5C48A4894D for ; Thu, 16 Oct 2025 09:03:12 +0200 (CEST) Received: from mails.dpdk.org (localhost [127.0.0.1]) by mails.dpdk.org (Postfix) with ESMTP id 57B1F40269; Thu, 16 Oct 2025 09:03:12 +0200 (CEST) Received: from mail-io1-f100.google.com (mail-io1-f100.google.com [209.85.166.100]) by mails.dpdk.org (Postfix) with ESMTP id 67A4A40269 for ; Thu, 16 Oct 2025 09:03:11 +0200 (CEST) Received: by mail-io1-f100.google.com with SMTP id ca18e2360f4ac-93bccd4901aso35293739f.2 for ; Thu, 16 Oct 2025 00:03:11 -0700 (PDT) DKIM-Signature: v=1; a=rsa-sha256; c=relaxed/relaxed; d=iol.unh.edu; s=unh-iol; t=1760598191; x=1761202991; darn=dpdk.org; h=cc:to:from:subject:message-id:date:from:to:cc:subject:date :message-id:reply-to; bh=dbbphm4Zi/ulfXyFkwNsWfZ2lsduv/py9HcZubkTi0I=; b=HTPuLytlXWdDcVzOhMBmpnDSddOb3yJ22bDDvgs4tMImnH+mXJJNAZ403SMMbkKoiO Xbvwf3BYtNFuL7PvcgKnHm0LQzbTXuAjs31GVVnPDyXXxVVodoc68jkPDov1d6rypsmv A1h/RmLzFi1sROasDgLsnA4LL+4+Vjioa9Btw= X-Google-DKIM-Signature: v=1; a=rsa-sha256; c=relaxed/relaxed; d=1e100.net; s=20230601; t=1760598191; x=1761202991; h=cc:to:from:subject:message-id:date:x-gm-message-state:from:to:cc :subject:date:message-id:reply-to; bh=dbbphm4Zi/ulfXyFkwNsWfZ2lsduv/py9HcZubkTi0I=; b=KOPLSQP56UVFynwv1zrSuMYNYCqhwAtEdpTYlPBlUdswQDJ4WuvWvSAzoIUQyhXLiD AEL7D6LkQnBJmf5bvbw5xIkaUmv7dbMNUzPDUz9MuuwZoFio3bPiufFaE2/C+OUQ9/lT XOHnMjQyvKnfUut0j7MZFRwAX9Yymce6wuEA5/MfUU4XR6OgXqXUlUQu8+qDByJBUCRn QDkOgdBn5oHXragyDjqwXtD9l4FlaII7uJaGFvAWG/jq8nRZydDBAglIJN+6o1mC2ezm FsxoB6lIL0HOr+WzNpv6kvc1LmAMRV3RPM9CIISrSfPAhxAejz2rGhCDqNWUCtbg7pre pLpQ== X-Gm-Message-State: AOJu0Yzhdbe/QCaDMObAxxW3kcrYBIAEgrDi9+dWEUNaivbEPRZP+WKi dtES3UH6DE1QwPqIsk60U875MBZmnA8t8BY03cOaJ/tzXFgNGHt1QPDh4cJYME/C9myP0dvK3RZ rA5dR4QiLrbdDgoAHrMOShb1QlPUrqDliRkM/1YOudILW X-Gm-Gg: ASbGncu6GEUltq6WlQ2nBl1ootevKD4JN73fMOpVYC6QkaDMKkkOsJaj1Zp/bK9Fk0f MsG8BghxKmJyPWxVs30EMF5NsQ1PJjKmb+p6dGyDPiO/ELlhnNeswgVmFjkKrY3UMrCXlEdMvNQ mxXDhjUzr3DPxnvdSFJCdZBcFAE0nPy0c85T++eNUQwOGWOSLpB2mP1L5dXOl/FOjK32IJ3qsxh pSg4cN4mWDtWypI6mE9N5IAenn8m8Gvc3olePADvZ8FZh/GqK5iUCQpMv72TiIQKf0m8BFvSj7O jMF+38DkwDNTe5mD5jR0C7MH1YGVM9EbAvsjt+49eg34ze6kOjDG8wWzcUOqJogdnyWWzURuRD7 hgbtRKOL7ffYmyB05g2Q5gCRE+J9d2gA= X-Google-Smtp-Source: AGHT+IGSXxuaR3h6boSoao038Ty6GQAW8u6MMXO8PqqYTIpBBSIlPgNg1VGFyvs4wNdBNKaW8YKXnU/5D1ir X-Received: by 2002:a05:6e02:1d8d:b0:42f:8d40:6c4b with SMTP id e9e14a558f8ab-42f8d40719dmr329766245ab.11.1760598190684; Thu, 16 Oct 2025 00:03:10 -0700 (PDT) Received: from postal.iol.unh.edu (postal.iol.unh.edu. [132.177.123.84]) by smtp-relay.gmail.com with ESMTPS id e9e14a558f8ab-430b50c5f52sm1767525ab.11.2025.10.16.00.03.10 (version=TLS1_2 cipher=ECDHE-ECDSA-AES128-GCM-SHA256 bits=128/128); Thu, 16 Oct 2025 00:03:10 -0700 (PDT) X-Relaying-Domain: iol.unh.edu Date: Thu, 16 Oct 2025 00:03:10 -0700 (PDT) Message-ID: <68f098ae.050a0220.29be7d.8fecSMTPIN_ADDED_MISSING@mx.google.com> Received: from [172.21.0.2] (unknown [172.18.0.240]) by postal.iol.unh.edu (Postfix) with ESMTP id 4A4F46051830; Thu, 16 Oct 2025 03:03:10 -0400 (EDT) Subject: |SUCCESS| [GIT MASTER] a62b0fbf8e367c88d28d78210db1b28c8eac4b1b From: dpdklab@iol.unh.edu To: Test Report Cc: dpdk-test-reports@iol.unh.edu, Chenbo Xia , Maxime Coquelin Content-Type: text/plain X-BeenThere: test-report@dpdk.org X-Mailman-Version: 2.1.29 Precedence: list List-Id: automatic DPDK test reports List-Unsubscribe: , List-Archive: List-Post: List-Help: List-Subscribe: , Errors-To: test-report-bounces@dpdk.org _Testing PASS_ Branch: dpdk-next-virtio a62b0fbf8e367c88d28d78210db1b28c8eac4b1b --> testing pass Upstream job id: Generic-Unit-Test-DPDK#382063 Test environment and result as below: +-------------------------------+----------------+ | Environment | dpdk_unit_test | +===============================+================+ | Debian GNU/Linux 12 | PASS | +-------------------------------+----------------+ | CentOS Stream 9 | PASS | +-------------------------------+----------------+ | CentOS Stream 10 | PASS | +-------------------------------+----------------+ | Fedora Linux 42 | PASS | +-------------------------------+----------------+ | Fedora Linux 40 | PASS | +-------------------------------+----------------+ | Fedora Linux 41 | PASS | +-------------------------------+----------------+ | Red Hat Enterprise Linux 9.5 | PASS | +-------------------------------+----------------+ | Red Hat Enterprise Linux 8.10 | PASS | +-------------------------------+----------------+ | Ubuntu 20.04 | PASS | +-------------------------------+----------------+ | Ubuntu 24.04 | PASS | +-------------------------------+----------------+ | Ubuntu 22.04 | PASS | +-------------------------------+----------------+ Debian GNU/Linux 12 Kernel: 5.15 Compiler: gcc gcc (Debian 12.2.0-14+deb12u1) 12.2.0 CentOS Stream 9 Kernel: 5.15 Compiler: gcc gcc (GCC) 11.5.0 20240719 (Red Hat 11.5.0-11) CentOS Stream 10 Kernel: 5.15 Compiler: gcc gcc (GCC) 14.2.1 20250110 (Red Hat 14.2.1-8) Fedora Linux 42 Kernel: 5.15 Compiler: gcc gcc (GCC) 15.2.1 20250808 (Red Hat 15.2.1-1) Fedora Linux 40 Kernel: 5.15 Compiler: clang gcc (GCC) 14.2.1 20240912 (Red Hat 14.2.1-3) Fedora Linux 41 Kernel: 5.15 Compiler: clang gcc (GCC) 14.3.1 20250523 (Red Hat 14.3.1-1) Red Hat Enterprise Linux 9.5 Kernel: 5.15 Compiler: gcc gcc (GCC) 11.5.0 20240719 (Red Hat 11.5.0-2) Red Hat Enterprise Linux 8.10 Kernel: 5.15 Compiler: gcc gcc (GCC) 8.5.0 20210514 (Red Hat 8.5.0-22) Ubuntu 20.04 Kernel: 5.15 Compiler: gcc gcc (Ubuntu 9.4.0-1ubuntu1~20.04.2) 9.4.0 Ubuntu 24.04 Kernel: 5.15 Compiler: gcc gcc (Ubuntu 13.3.0-6ubuntu2~24.04) 13.3.0 Ubuntu 22.04 Kernel: 5.15 Compiler: gcc gcc (Ubuntu 11.4.0-1ubuntu1~22.04) 11.4.0 To view detailed results, visit: https://lab.dpdk.org/results/dashboard/tarballs/35230/ UNH-IOL DPDK Community Lab To manage your email subscriptions, visit: https://lab.dpdk.org/results/dashboard/preferences/subscriptions/