From mboxrd@z Thu Jan 1 00:00:00 1970 Return-Path: Received: from mails.dpdk.org (mails.dpdk.org [217.70.189.124]) by inbox.dpdk.org (Postfix) with ESMTP id 9609C4894D for ; Thu, 16 Oct 2025 09:39:09 +0200 (CEST) Received: from mails.dpdk.org (localhost [127.0.0.1]) by mails.dpdk.org (Postfix) with ESMTP id 8FBBE40269; Thu, 16 Oct 2025 09:39:09 +0200 (CEST) Received: from mail-qv1-f99.google.com (mail-qv1-f99.google.com [209.85.219.99]) by mails.dpdk.org (Postfix) with ESMTP id 9EA1B40269 for ; Thu, 16 Oct 2025 09:39:08 +0200 (CEST) Received: by mail-qv1-f99.google.com with SMTP id 6a1803df08f44-78ea15d3489so5557976d6.3 for ; Thu, 16 Oct 2025 00:39:08 -0700 (PDT) DKIM-Signature: v=1; a=rsa-sha256; c=relaxed/relaxed; d=iol.unh.edu; s=unh-iol; t=1760600348; x=1761205148; darn=dpdk.org; h=cc:to:from:subject:message-id:date:from:to:cc:subject:date :message-id:reply-to; bh=S4htuhVcWNtUmxsr+SU2x7NMBWNllVPrKO3KY3rKFm4=; b=WNRa1coeVxb0rdhcQ2BlZyb6Dszd9Q1kEG+T6/GjqlrX42vygeiStueFKJ3i/n16PF Ub5OX4q0NdOTobZu62qMLYBFok2FFLRskPbhwDuZoa3keo0CjLQmhvYfqPSr5ZqUQjmm rRlqOr+cXzRuqVFjf6ZhjyEyL9IWua7mUtxc8= X-Google-DKIM-Signature: v=1; a=rsa-sha256; c=relaxed/relaxed; d=1e100.net; s=20230601; t=1760600348; x=1761205148; h=cc:to:from:subject:message-id:date:x-gm-message-state:from:to:cc :subject:date:message-id:reply-to; bh=S4htuhVcWNtUmxsr+SU2x7NMBWNllVPrKO3KY3rKFm4=; b=J2PyuyocdNGrNDmbswv5VOcwyrf7Kut0BgaK9GrcAQougKzVrwu1kB7sefoDvf+iVY m4wS9AgRA5WKE+MDjn97O9eBnSH6C/fiotvELhRV+BIWgjHSjHV3AdY5+kuv0iIsGTIm Us+gUIPOB472CfCeuhyAhjhNeMkj1ZwaJpDaTc4yk6QaSsZtMwoNHcKtuSvsmZAgMIVL vNp9MVtf1k/7e0AoHUd/H5lRZE4kfmc2zZEZ7dRxg7YJeUuqsIb71WX7+ywiIePHHtLc q2CwJ3TTqiQxt07+KJr8CUaNQ6xk0s39fKrClnBtM/EZCyJnhwsAW3pIZMAnzKOFbmBG PVxA== X-Gm-Message-State: AOJu0Yx3T8bFAT8VJm40SWjaxWEwYWRGrqz6gMnDwCIffLtWz2PwWAYn D6dGygsOXuAYcon5yZG1gAlmWcRUcZFfUhR4YnPKAAtDdE5R4wOrrXCahlX56ad9NLjz5qqRWvy TRx6gZO54tH1xMgeiFdn2pvEk5lB3p9Tw2iT94C39yJp0Cz+Xl9pntEHy62wQ X-Gm-Gg: ASbGnct3Pth2PClQnS+AEW2Vpmv8pyMusGF2NVqipgw+DvQ4P4jXtXpUUe1hc6QlB0o ajiGe4WJ3bE0HBEUvy5AXzEDpRuCDRXqZQYcbXUd0AIlvSCb+B42gJQVwrUKTRqUCXi45qqEQa3 hYkCfsp0V4MBIHN7ZT3HudZj+Tgf19eHPSeN5aQz+23Bi1pOzSGfn8zws1hZ+Dg0DIbWFQGeKMv xboHA3LDgXBEDFdQ5kS8CZj6PeG4lxVR6k+6ps2VRXXlgQ4UT5xpRtvysxih3h9wiTC0Fr+gSso hNoVm5DzHtj+mBhwEsT26wMUMqlCaMl9tZjirb+XWA4gr+TFLU6ggLKlCI3cHbwSCApJeO0zWec MjJX/wrmC X-Google-Smtp-Source: AGHT+IFBaF942Riw4UcRMdO+P0hkxfIfvCCIfLrR5U/yFROMsxz7ZeoGmsLIPIEXuVVNtNYKZMGITetmMl2a X-Received: by 2002:a05:6214:1949:b0:874:e884:583c with SMTP id 6a1803df08f44-87b2ef947f3mr479879216d6.62.1760600348087; Thu, 16 Oct 2025 00:39:08 -0700 (PDT) Received: from postal.iol.unh.edu (postal.iol.unh.edu. [2606:4100:3880:1234::84]) by smtp-relay.gmail.com with ESMTPS id 6a1803df08f44-87c01226dc5sm4649556d6.16.2025.10.16.00.39.08 (version=TLS1_2 cipher=ECDHE-ECDSA-AES128-GCM-SHA256 bits=128/128); Thu, 16 Oct 2025 00:39:08 -0700 (PDT) X-Relaying-Domain: iol.unh.edu Date: Thu, 16 Oct 2025 00:39:08 -0700 (PDT) Message-ID: <68f0a11c.d40a0220.2c4c8f.710aSMTPIN_ADDED_MISSING@mx.google.com> Received: from [172.21.0.3] (unknown [172.18.0.240]) by postal.iol.unh.edu (Postfix) with ESMTP id C3A786051830; Thu, 16 Oct 2025 03:39:07 -0400 (EDT) Subject: |SUCCESS| [GIT MASTER] 791cea04798a8e2de014b99c009cd25b5929000a From: dpdklab@iol.unh.edu To: Test Report Cc: dpdk-test-reports@iol.unh.edu, Stephen Hemminger Content-Type: text/plain X-BeenThere: test-report@dpdk.org X-Mailman-Version: 2.1.29 Precedence: list List-Id: automatic DPDK test reports List-Unsubscribe: , List-Archive: List-Post: List-Help: List-Subscribe: , Errors-To: test-report-bounces@dpdk.org _Testing PASS_ Branch: dpdk-next-net 791cea04798a8e2de014b99c009cd25b5929000a --> testing pass Upstream job id: Windows-Compile-DPDK-Native#31668 Test environment and result as below: +---------------------+-------------------------+-------------------+--------------------+----------------------+ | Environment | dpdk_llvm_clang_compile | dpdk_msvc_compile | dpdk_meson_compile | dpdk_mingw64_compile | +=====================+=========================+===================+====================+======================+ | Windows Server 2022 | PASS | PASS | SKIPPED | PASS | +---------------------+-------------------------+-------------------+--------------------+----------------------+ | FreeBSD 14.2 | SKIPPED | SKIPPED | PASS | SKIPPED | +---------------------+-------------------------+-------------------+--------------------+----------------------+ | Ubuntu 20.04 | SKIPPED | SKIPPED | PASS | SKIPPED | +---------------------+-------------------------+-------------------+--------------------+----------------------+ Windows Server 2022 Kernel: 10.0.20348.2031 Compiler: clang 15.0.7, gcc 14.1.0 (MinGW), and MSVC VS 19.39.33521 FreeBSD 14.2 Kernel: 14.2-RELEASE Compiler: clang 18.1.6 Ubuntu 20.04 Kernel: 4.19 Compiler: gcc gcc (Ubuntu 9.4.0-1ubuntu1~20.04.2) 9.4.0 To view detailed results, visit: https://lab.dpdk.org/results/dashboard/tarballs/35231/ UNH-IOL DPDK Community Lab To manage your email subscriptions, visit: https://lab.dpdk.org/results/dashboard/preferences/subscriptions/