From mboxrd@z Thu Jan 1 00:00:00 1970 Return-Path: Received: from mails.dpdk.org (mails.dpdk.org [217.70.189.124]) by inbox.dpdk.org (Postfix) with ESMTP id CE8674894D for ; Thu, 16 Oct 2025 09:40:58 +0200 (CEST) Received: from mails.dpdk.org (localhost [127.0.0.1]) by mails.dpdk.org (Postfix) with ESMTP id C941D40269; Thu, 16 Oct 2025 09:40:58 +0200 (CEST) Received: from mail-oa1-f99.google.com (mail-oa1-f99.google.com [209.85.160.99]) by mails.dpdk.org (Postfix) with ESMTP id 63A6040269 for ; Thu, 16 Oct 2025 09:40:57 +0200 (CEST) Received: by mail-oa1-f99.google.com with SMTP id 586e51a60fabf-3c97c98c791so121356fac.2 for ; Thu, 16 Oct 2025 00:40:57 -0700 (PDT) DKIM-Signature: v=1; a=rsa-sha256; c=relaxed/relaxed; d=iol.unh.edu; s=unh-iol; t=1760600456; x=1761205256; darn=dpdk.org; h=cc:to:from:subject:message-id:date:from:to:cc:subject:date :message-id:reply-to; bh=rZIsosAI0o5duzsJ52hG8kdS16ADnvvFa5KlVmkfZR4=; b=NTbF+ZeqoIyJbtcEEROMvaH65STWLnBI6MbLS2PCFyOxVgrfV8cfSTUdOmeW0dyrpc sQxcfzSlOZEPdy5exawGk7VsqEZqixk+SXgP7hrfUPsdCah8RYC1opDgZGJxJSAuUYRm /5fJg6RF0paymZNpRFZTlvn5fVWBX8pjmZCRs= X-Google-DKIM-Signature: v=1; a=rsa-sha256; c=relaxed/relaxed; d=1e100.net; s=20230601; t=1760600456; x=1761205256; h=cc:to:from:subject:message-id:date:x-gm-message-state:from:to:cc :subject:date:message-id:reply-to; bh=rZIsosAI0o5duzsJ52hG8kdS16ADnvvFa5KlVmkfZR4=; b=IogRoBmFOxKcJOQVta4i30XL7+CqxuTpLfdWV6D9tPNDddDBc6e6h6EWsF7Vd+LJsf 9HggpfFw3RzAKSx+ZCbKwWdTduyH+D60vc+sDxR5lx1Ji/TrkngSwOEJ/lDxG7Ai1J4I mSgWeyrpMdHJlmdaiM+3d0RjtPIzKffFoioE7eKCr2nQ2WhW0frkeiJHEP5iMRmKV1Tf 1leC7HtTP3LaqSmR/GLrDBE1OPAS4u7TuTZZmu9wAozNeJEbNoKxWwrncxAXZGXkc8Og cB1IF5yTg2l2J5yVI0QJ1Ci9WUwU8AagNf5CWGGji1+O1ARFAp+nAiPa7AT9w8YL8RUu unOg== X-Gm-Message-State: AOJu0YwQhrwe71PfkBzeL3kl3Y4AOFQJ9IhGTwVXQ2iRRGjkgM9KKVk7 gxrdv1aePegYaZJkGfJyMY0ZhQSowBBJb6PXH3hln+Gwi3vKjKRV6kNZB8eJ/1HTVXGICL5EPlm YPjGL/nQLbwlt3LDQhjQ3te/CQzcEjpjSva+plXjG8OKuhAQbbzy9Wp2ZkQ6I X-Gm-Gg: ASbGncvz2Eh02ME4mMnNoGwEHasRNBdWCBBjH+IXvNtdUKT7u3j0HmVsSYWApl7Oa98 kXlvJBcnMGrs/30vl87hpSxCU6gA0BgYU+OIFQDcY07NePzfJyS7LWJPMIxeV8v9B+BF0N/dsOS s5THGHxY7ehMco5OXXLicQjmXdXiU9kvy2Y9Wdftjan13uWJoIPnkqcZ4uri9ISGyvTQNhXq69e FOIxRNCAnwEE8GpDumnwnhYeaC7QOg5IQwNe2UqTQTsKV779TZiAadhOHYz9O4ORNULDg5KBLmF rE2JsoMYMbD1MroLFILpdVUmh0HsZS5lRPk5tbNejFtgb3R4r5rsDDU3e+REi5pn8dqhLLA8tVH 8dubZUaRw X-Google-Smtp-Source: AGHT+IF6y6L7UCpqkj0Pi390Q5GDGBNwzl1aKp2+4ILhDhTr87yQj28BLtdYVcG5PpSH79cv/Wc1RN17cxsC X-Received: by 2002:a05:6870:c18f:b0:343:a20a:3feb with SMTP id 586e51a60fabf-3c0f9c7a275mr15846026fac.37.1760600456610; Thu, 16 Oct 2025 00:40:56 -0700 (PDT) Received: from postal.iol.unh.edu (postal.iol.unh.edu. [2606:4100:3880:1234::84]) by smtp-relay.gmail.com with ESMTPS id 586e51a60fabf-3c8c8b11fa8sm1738320fac.1.2025.10.16.00.40.56 (version=TLS1_2 cipher=ECDHE-ECDSA-AES128-GCM-SHA256 bits=128/128); Thu, 16 Oct 2025 00:40:56 -0700 (PDT) X-Relaying-Domain: iol.unh.edu Date: Thu, 16 Oct 2025 00:40:56 -0700 (PDT) Message-ID: <68f0a188.050a0220.251384.99abSMTPIN_ADDED_MISSING@mx.google.com> Received: from [172.21.0.2] (unknown [172.18.0.240]) by postal.iol.unh.edu (Postfix) with ESMTP id 244DB6051830; Thu, 16 Oct 2025 03:40:56 -0400 (EDT) Subject: |SUCCESS| [GIT MASTER] 791cea04798a8e2de014b99c009cd25b5929000a From: dpdklab@iol.unh.edu To: Test Report Cc: dpdk-test-reports@iol.unh.edu, Stephen Hemminger Content-Type: text/plain X-BeenThere: test-report@dpdk.org X-Mailman-Version: 2.1.29 Precedence: list List-Id: automatic DPDK test reports List-Unsubscribe: , List-Archive: List-Post: List-Help: List-Subscribe: , Errors-To: test-report-bounces@dpdk.org _Testing PASS_ Branch: dpdk-next-net 791cea04798a8e2de014b99c009cd25b5929000a --> testing pass Upstream job id: Generic-Unit-Test-DPDK#382089 Test environment and result as below: +-------------------------------+----------------+ | Environment | dpdk_unit_test | +===============================+================+ | CentOS Stream 10 | PASS | +-------------------------------+----------------+ | Debian GNU/Linux 12 | PASS | +-------------------------------+----------------+ | CentOS Stream 9 | PASS | +-------------------------------+----------------+ | Fedora Linux 40 | PASS | +-------------------------------+----------------+ | Fedora Linux 41 | PASS | +-------------------------------+----------------+ | Fedora Linux 42 | PASS | +-------------------------------+----------------+ | Red Hat Enterprise Linux 8.10 | PASS | +-------------------------------+----------------+ | Ubuntu 20.04 | PASS | +-------------------------------+----------------+ | Ubuntu 22.04 | PASS | +-------------------------------+----------------+ | Red Hat Enterprise Linux 9.5 | PASS | +-------------------------------+----------------+ | Ubuntu 24.04 | PASS | +-------------------------------+----------------+ CentOS Stream 10 Kernel: 5.15 Compiler: gcc gcc (GCC) 14.2.1 20250110 (Red Hat 14.2.1-8) Debian GNU/Linux 12 Kernel: 5.15 Compiler: gcc gcc (Debian 12.2.0-14+deb12u1) 12.2.0 CentOS Stream 9 Kernel: 5.15 Compiler: gcc gcc (GCC) 11.5.0 20240719 (Red Hat 11.5.0-11) Fedora Linux 40 Kernel: 5.15 Compiler: gcc gcc (GCC) 14.2.1 20240912 (Red Hat 14.2.1-3) Fedora Linux 41 Kernel: 5.15 Compiler: gcc gcc (GCC) 14.3.1 20250523 (Red Hat 14.3.1-1) Fedora Linux 42 Kernel: 5.15 Compiler: clang gcc (GCC) 15.2.1 20250808 (Red Hat 15.2.1-1) Red Hat Enterprise Linux 8.10 Kernel: 5.15 Compiler: gcc gcc (GCC) 8.5.0 20210514 (Red Hat 8.5.0-22) Ubuntu 20.04 Kernel: 5.15 Compiler: gcc gcc (Ubuntu 9.4.0-1ubuntu1~20.04.2) 9.4.0 Ubuntu 22.04 Kernel: 5.15 Compiler: gcc gcc (Ubuntu 11.4.0-1ubuntu1~22.04) 11.4.0 Red Hat Enterprise Linux 9.5 Kernel: 5.15 Compiler: gcc gcc (GCC) 11.5.0 20240719 (Red Hat 11.5.0-2) Ubuntu 24.04 Kernel: 5.15 Compiler: gcc gcc (Ubuntu 13.3.0-6ubuntu2~24.04) 13.3.0 To view detailed results, visit: https://lab.dpdk.org/results/dashboard/tarballs/35231/ UNH-IOL DPDK Community Lab To manage your email subscriptions, visit: https://lab.dpdk.org/results/dashboard/preferences/subscriptions/