automatic DPDK test reports
 help / color / mirror / Atom feed
From: dpdklab@iol.unh.edu
To: Test Report <test-report@dpdk.org>
Cc: dpdk-test-reports@iol.unh.edu
Subject: |SUCCESS| pw157683 [PATCH] dmadev: replace zero length array
Date: Thu, 16 Oct 2025 00:49:44 -0700 (PDT)	[thread overview]
Message-ID: <68f0a398.170a0220.39ae26.2114SMTPIN_ADDED_MISSING@mx.google.com> (raw)
In-Reply-To: <20251015185946.338417-1-stephen@networkplumber.org>

Test-Label: iol-compile-arm64-testing
Test-Status: SUCCESS
http://dpdk.org/patch/157683

_Testing PASS_

Submitter: Stephen Hemminger <stephen@networkplumber.org>
Date: Wednesday, October 15 2025 18:59:46 
DPDK git baseline: Repo:dpdk
  Branch: master
  CommitID:f15575af65c3ede008ecf89665a265fd2793b6ec

157683 --> testing pass

Upstream job id: Generic-DPDK-Compile-Meson#434616

Test environment and result as below:

+------------------------------+--------------------+
|         Environment          | dpdk_meson_compile |
+==============================+====================+
| Red Hat Enterprise Linux 9.5 | PASS               |
+------------------------------+--------------------+
| Ubuntu 20.04                 | PASS               |
+------------------------------+--------------------+
| Debian GNU/Linux 12          | PASS               |
+------------------------------+--------------------+
| Fedora Linux 42              | PASS               |
+------------------------------+--------------------+
| Ubuntu 22.04                 | PASS               |
+------------------------------+--------------------+
| Ubuntu 24.04                 | PASS               |
+------------------------------+--------------------+
| CentOS Stream 9              | PASS               |
+------------------------------+--------------------+
| CentOS Stream 10             | PASS               |
+------------------------------+--------------------+


Red Hat Enterprise Linux 9.5
	Kernel: 5.4
	Compiler: gcc gcc (GCC) 11.5.0 20240719 (Red Hat 11.5.0-2)

Ubuntu 20.04
	Kernel: 5.15
	Compiler: aarch64-linux-gnu-gcc gcc (Ubuntu 9.4.0-1ubuntu1~20.04.2) 9.4.0

Debian GNU/Linux 12
	Kernel: 5.4
	Compiler: gcc gcc (Debian 12.2.0-14+deb12u1) 12.2.0

Fedora Linux 42
	Kernel: 5.4
	Compiler: gcc gcc (GCC) 15.2.1 20250808 (Red Hat 15.2.1-1)

Ubuntu 22.04
	Kernel: 5.4
	Compiler: gcc gcc (Ubuntu 11.4.0-1ubuntu1~22.04) 11.4.0

Ubuntu 24.04
	Kernel: 5.4
	Compiler: gcc gcc (Ubuntu 13.3.0-6ubuntu2~24.04) 13.3.0

CentOS Stream 9
	Kernel: 5.4
	Compiler: gcc gcc (GCC) 11.5.0 20240719 (Red Hat 11.5.0-11)

CentOS Stream 10
	Kernel: 5.4
	Compiler: gcc gcc (GCC) 14.2.1 20250110 (Red Hat 14.2.1-8)

To view detailed results, visit:
https://lab.dpdk.org/results/dashboard/patchsets/34288/

UNH-IOL DPDK Community Lab

To manage your email subscriptions, visit: 
https://lab.dpdk.org/results/dashboard/preferences/subscriptions/

  parent reply	other threads:[~2025-10-16  7:49 UTC|newest]

Thread overview: 23+ messages / expand[flat|nested]  mbox.gz  Atom feed  top
     [not found] <20251015185946.338417-1-stephen@networkplumber.org>
2025-10-15 18:38 ` qemudev
2025-10-15 18:43 ` qemudev
2025-10-15 18:59 ` checkpatch
2025-10-15 19:27 ` dpdklab
2025-10-15 19:31 ` dpdklab
2025-10-15 19:45 ` |PENDING| " dpdklab
2025-10-15 19:46 ` |SUCCESS| " dpdklab
2025-10-15 19:48 ` dpdklab
2025-10-15 19:48 ` dpdklab
2025-10-15 19:59 ` |PENDING| " dpdklab
2025-10-15 20:03 ` |SUCCESS| " dpdklab
2025-10-15 20:10 ` 0-day Robot
2025-10-15 20:10 ` 0-day Robot
2025-10-15 20:11 ` dpdklab
2025-10-15 20:13 ` |PENDING| " dpdklab
2025-10-15 20:29 ` |SUCCESS| " dpdklab
2025-10-15 20:37 ` dpdklab
2025-10-15 20:46 ` |WARNING| " dpdklab
2025-10-15 20:56 ` |SUCCESS| " dpdklab
2025-10-16  7:49 ` dpdklab [this message]
2025-10-16  9:34 ` dpdklab
2025-10-16 13:38 ` dpdklab
2025-10-16 13:54 ` dpdklab

Reply instructions:

You may reply publicly to this message via plain-text email
using any one of the following methods:

* Save the following mbox file, import it into your mail client,
  and reply-to-all from there: mbox

  Avoid top-posting and favor interleaved quoting:
  https://en.wikipedia.org/wiki/Posting_style#Interleaved_style

* Reply using the --to, --cc, and --in-reply-to
  switches of git-send-email(1):

  git send-email \
    --in-reply-to=68f0a398.170a0220.39ae26.2114SMTPIN_ADDED_MISSING@mx.google.com \
    --to=dpdklab@iol.unh.edu \
    --cc=dpdk-test-reports@iol.unh.edu \
    --cc=test-report@dpdk.org \
    /path/to/YOUR_REPLY

  https://kernel.org/pub/software/scm/git/docs/git-send-email.html

* If your mail client supports setting the In-Reply-To header
  via mailto: links, try the mailto: link
Be sure your reply has a Subject: header at the top and a blank line before the message body.
This is a public inbox, see mirroring instructions
for how to clone and mirror all data and code used for this inbox;
as well as URLs for NNTP newsgroup(s).