From mboxrd@z Thu Jan 1 00:00:00 1970 Return-Path: Received: from mails.dpdk.org (mails.dpdk.org [217.70.189.124]) by inbox.dpdk.org (Postfix) with ESMTP id DB6754894D for ; Thu, 16 Oct 2025 09:49:46 +0200 (CEST) Received: from mails.dpdk.org (localhost [127.0.0.1]) by mails.dpdk.org (Postfix) with ESMTP id A218440269; Thu, 16 Oct 2025 09:49:46 +0200 (CEST) Received: from mail-pf1-f225.google.com (mail-pf1-f225.google.com [209.85.210.225]) by mails.dpdk.org (Postfix) with ESMTP id 0084C40269 for ; Thu, 16 Oct 2025 09:49:44 +0200 (CEST) Received: by mail-pf1-f225.google.com with SMTP id d2e1a72fcca58-789fb76b466so442150b3a.0 for ; Thu, 16 Oct 2025 00:49:44 -0700 (PDT) DKIM-Signature: v=1; a=rsa-sha256; c=relaxed/relaxed; d=iol.unh.edu; s=unh-iol; t=1760600984; x=1761205784; darn=dpdk.org; h=references:in-reply-to:cc:to:from:subject:message-id:date:from:to :cc:subject:date:message-id:reply-to; bh=NJFSuvXUeHBIxjOrFebJhDwYBCLXFoEVDnnfmP7SdJ8=; b=RWFzdx19bCLlYfAeyGGAScR9z+btZAV75mJMBboZ+xj3b4o1tz5UghQQMQiDOwvYm4 j7ml/BeE5LJfFvCtL5rDwzLQMkoktlI2U61i7dYcroNJ4p5vdgs+dchTcutwYjh9s0qS gH+xFz5V8Ka12inxxkIns/ohbqj0dc6qM6jBs= X-Google-DKIM-Signature: v=1; a=rsa-sha256; c=relaxed/relaxed; d=1e100.net; s=20230601; t=1760600984; x=1761205784; h=references:in-reply-to:cc:to:from:subject:message-id:date :x-gm-message-state:from:to:cc:subject:date:message-id:reply-to; bh=NJFSuvXUeHBIxjOrFebJhDwYBCLXFoEVDnnfmP7SdJ8=; b=OPEgedDz6j2ynQD6n0YsfpYTO1xhc74ODBPe0N+aO3sbD0B+Hecy4QT945A2o24TeA yR8StjLr+TOyeqPxG/Rae8RrM1rnhLUCWBY/XJApqLfqn72QD3EzYiuXmRcRrCwF4IoF pZEmiyRG0yE0PIujOOrLriiV7S7ajG1mSjlFGzj4A2CVHpQyP7GIR25IEmhArJ6NOWL2 xAbEicvDq6pVcrZAfe/DadLhxkVVFWaUGCy3+J43m+y+ka3S1olYX79BWKRGVebbSZyN Ts1KpFA9ulzWcUBekVjipCUUfydvgIH2pZBmqPAwCXfSsPSjFT/10gxLk5aixKyM2Gmd A6MA== X-Gm-Message-State: AOJu0YyQOFxdSKB6bNTDP04wi/3jMEnnxrUyAI62UH/lmSCvstv6tXAz r2QmKLFh1bkJqaAXXeIDly1vQ2vdSzyjdDnJpgmkZXxExinZzXiJAnd0o5xaxaL3PIkBPxINaMK sQe4qMUyMb6jrMZj7YqEXKyeMxxBts4ve67wLFCJvaT3UWI9uQm6ncP00h9iO X-Gm-Gg: ASbGncsgq3qg+9azBaSl2d+/xgypzkp1RkMtkHVRlKXkSJDk76h0Lgg0yKuYggPlfsA kAvGhHSMeMkWvd1s5RKZG2LQFawQuZKQqP/hseOnoCVcdeVQIU7NRil9d3U4436GKd/YC4Ep4m1 pEUbccVbYkAIfZRkTPdr8RijeggAucrWSIRoIKJDbh1bwfx5TsB0uOJXCa7CKrBXXaIH+j2wopx n3ssUQ1mnDmu78jVM7+7ZXklVgFDNTUcULcznIhgqpFmyUEkqR+dCODSg7woVQWy7eiXqc5b2EZ HrYLiPl8a44oBnKCQMM3YOmnbGFXAI71/SZK41MVJn4ZJgi8+s94TsGwqU0VBz48dfP7qvwYQkp njb80hEDW X-Google-Smtp-Source: AGHT+IGxJ00+kbTG+b/22hUMj2OgFzOMqZwPEHVDY2MTl1i6SuhPZXMNlcGrTq2FiNEymXXIk3Y/m0+EQFrY X-Received: by 2002:a05:6a20:3d93:b0:2f6:ec69:d448 with SMTP id adf61e73a8af0-32da83e389bmr43761382637.31.1760600984065; Thu, 16 Oct 2025 00:49:44 -0700 (PDT) Received: from postal.iol.unh.edu (postal.iol.unh.edu. [2606:4100:3880:1234::84]) by smtp-relay.gmail.com with ESMTPS id 98e67ed59e1d1-33bb667469csm48800a91.4.2025.10.16.00.49.43 (version=TLS1_2 cipher=ECDHE-ECDSA-AES128-GCM-SHA256 bits=128/128); Thu, 16 Oct 2025 00:49:44 -0700 (PDT) X-Relaying-Domain: iol.unh.edu Date: Thu, 16 Oct 2025 00:49:44 -0700 (PDT) Message-ID: <68f0a398.170a0220.39ae26.2114SMTPIN_ADDED_MISSING@mx.google.com> Received: from [172.21.0.2] (unknown [172.18.0.240]) by postal.iol.unh.edu (Postfix) with ESMTP id B8FD36051830; Thu, 16 Oct 2025 03:49:42 -0400 (EDT) Subject: |SUCCESS| pw157683 [PATCH] dmadev: replace zero length array From: dpdklab@iol.unh.edu To: Test Report Cc: dpdk-test-reports@iol.unh.edu In-Reply-To: <20251015185946.338417-1-stephen@networkplumber.org> References: <20251015185946.338417-1-stephen@networkplumber.org> Content-Type: text/plain X-BeenThere: test-report@dpdk.org X-Mailman-Version: 2.1.29 Precedence: list List-Id: automatic DPDK test reports List-Unsubscribe: , List-Archive: List-Post: List-Help: List-Subscribe: , Errors-To: test-report-bounces@dpdk.org Test-Label: iol-compile-arm64-testing Test-Status: SUCCESS http://dpdk.org/patch/157683 _Testing PASS_ Submitter: Stephen Hemminger Date: Wednesday, October 15 2025 18:59:46 DPDK git baseline: Repo:dpdk Branch: master CommitID:f15575af65c3ede008ecf89665a265fd2793b6ec 157683 --> testing pass Upstream job id: Generic-DPDK-Compile-Meson#434616 Test environment and result as below: +------------------------------+--------------------+ | Environment | dpdk_meson_compile | +==============================+====================+ | Red Hat Enterprise Linux 9.5 | PASS | +------------------------------+--------------------+ | Ubuntu 20.04 | PASS | +------------------------------+--------------------+ | Debian GNU/Linux 12 | PASS | +------------------------------+--------------------+ | Fedora Linux 42 | PASS | +------------------------------+--------------------+ | Ubuntu 22.04 | PASS | +------------------------------+--------------------+ | Ubuntu 24.04 | PASS | +------------------------------+--------------------+ | CentOS Stream 9 | PASS | +------------------------------+--------------------+ | CentOS Stream 10 | PASS | +------------------------------+--------------------+ Red Hat Enterprise Linux 9.5 Kernel: 5.4 Compiler: gcc gcc (GCC) 11.5.0 20240719 (Red Hat 11.5.0-2) Ubuntu 20.04 Kernel: 5.15 Compiler: aarch64-linux-gnu-gcc gcc (Ubuntu 9.4.0-1ubuntu1~20.04.2) 9.4.0 Debian GNU/Linux 12 Kernel: 5.4 Compiler: gcc gcc (Debian 12.2.0-14+deb12u1) 12.2.0 Fedora Linux 42 Kernel: 5.4 Compiler: gcc gcc (GCC) 15.2.1 20250808 (Red Hat 15.2.1-1) Ubuntu 22.04 Kernel: 5.4 Compiler: gcc gcc (Ubuntu 11.4.0-1ubuntu1~22.04) 11.4.0 Ubuntu 24.04 Kernel: 5.4 Compiler: gcc gcc (Ubuntu 13.3.0-6ubuntu2~24.04) 13.3.0 CentOS Stream 9 Kernel: 5.4 Compiler: gcc gcc (GCC) 11.5.0 20240719 (Red Hat 11.5.0-11) CentOS Stream 10 Kernel: 5.4 Compiler: gcc gcc (GCC) 14.2.1 20250110 (Red Hat 14.2.1-8) To view detailed results, visit: https://lab.dpdk.org/results/dashboard/patchsets/34288/ UNH-IOL DPDK Community Lab To manage your email subscriptions, visit: https://lab.dpdk.org/results/dashboard/preferences/subscriptions/