From mboxrd@z Thu Jan 1 00:00:00 1970 Return-Path: Received: from mails.dpdk.org (mails.dpdk.org [217.70.189.124]) by inbox.dpdk.org (Postfix) with ESMTP id DE05F4894D for ; Thu, 16 Oct 2025 09:51:21 +0200 (CEST) Received: from mails.dpdk.org (localhost [127.0.0.1]) by mails.dpdk.org (Postfix) with ESMTP id D77A040269; Thu, 16 Oct 2025 09:51:21 +0200 (CEST) Received: from mail-pf1-f227.google.com (mail-pf1-f227.google.com [209.85.210.227]) by mails.dpdk.org (Postfix) with ESMTP id 7D67840269 for ; Thu, 16 Oct 2025 09:51:20 +0200 (CEST) Received: by mail-pf1-f227.google.com with SMTP id d2e1a72fcca58-7a213c3c3f5so640792b3a.3 for ; Thu, 16 Oct 2025 00:51:20 -0700 (PDT) DKIM-Signature: v=1; a=rsa-sha256; c=relaxed/relaxed; d=iol.unh.edu; s=unh-iol; t=1760601080; x=1761205880; darn=dpdk.org; h=cc:to:from:subject:message-id:date:from:to:cc:subject:date :message-id:reply-to; bh=sv8wdToBJaTmb2RLAjS37UGDrMGOeUsUNqZZiGl+bR4=; b=dHO5tk6AcWkrvjCONAirg4oDXUSaBEIxwQKgzNhDkW3kKd6KJEoc/q68E9AxD0QST7 YMtlkM9axOH2ND2dec70xl5DApY5232g/WMPSauBQU851EsxOkTdhsbjouZi82q2icoG oQnEuBvpQR8qNAHQTDqJM384JwaDRC3yD6C9A= X-Google-DKIM-Signature: v=1; a=rsa-sha256; c=relaxed/relaxed; d=1e100.net; s=20230601; t=1760601080; x=1761205880; h=cc:to:from:subject:message-id:date:x-gm-message-state:from:to:cc :subject:date:message-id:reply-to; bh=sv8wdToBJaTmb2RLAjS37UGDrMGOeUsUNqZZiGl+bR4=; b=nNGw6b4adjy2QZYZvchXRLggM5ubSKemieijctQeSkG0v6F/9EWKMWtpG6kjvuz3Pb SG1GYgHE6ptc1ImBjZFHui7GNLEetX7dBrNnt8kqLcVIHtBE970b0roeANVYUylsdsDD MHjs1/wa7vAFJ5qfSc4tIAZSWfoDcIYvajt9eGsQ043BdJfvcg8i3+arNfn2w9q/IwEg nG+a9yxhcG7oHtDzJjtQYwyEr+RWhBubhgYAWv3aqBDZSl7C3imHJc0DzBHJvrdDRl9I hliGHT28496ttjsr5USlf8AwaDcR1Z+JS6qQvecooTlJ3NtZ+utsOn31+fOJPq4ocpWF SPFA== X-Gm-Message-State: AOJu0YwySmWi4DVjqzuZ/f+mcUBDj44VzWPKwDwnnOYgHDY4OZS4DaXd hvYZjs5tubVJqdpTTSOreWVPRb2b/tsD4eh4PCbdCcAChYabiuYq3gerbV5a147DL6xeKaXPVcq n7vDHTmRvbeARs8LQ9nWmFLwyfyD8GoRxYDHyKW4FibwfZYWDXwv/96CgKHQs X-Gm-Gg: ASbGncuMEyLwGnExZMG2pa8VYYbR16Af6ErZuxJgJiEHQ7JOSVhRMSiYlDpF0NCDXPa ScfdGegC/5E8pHelhYy/yhE00VsLGr5OfdwLXfHDm2H776QnLm9ZJZ/9RJygUrw8zMsxI9ExxYX 8Ox6P2vLDIj3/UHBFuL/xfTaGGpltUX5apVMYaHCsQmJX/jelPhCkdDJsURl9gLMHuphYWq0cHR xkRlEtbw1oatJtrBDf8moeH0LobtQibHO3ufWQ2zrsyOPUH693ng5TANIK58ICBVxJjEuMRyOo3 vHPSWZdSJCzfLKK5xvlW28KSNnjLllt/Z8WTBv+XQOY0rC/TRAgCNA5v97H21bcvxmr3oUA6b8n iIfWt/RvH X-Google-Smtp-Source: AGHT+IFaW7TBtjfRQ2SFtEyqBl3FsFpuloRjPaKuN59tMipYYoiCX1oVb2M6P2uTZsccqkfJ9ksADYpCebj3 X-Received: by 2002:a05:6a20:12c3:b0:334:9bdc:16af with SMTP id adf61e73a8af0-3349bdc1b7emr2691242637.1.1760601079460; Thu, 16 Oct 2025 00:51:19 -0700 (PDT) Received: from postal.iol.unh.edu (postal.iol.unh.edu. [2606:4100:3880:1234::84]) by smtp-relay.gmail.com with ESMTPS id 41be03b00d2f7-b6a22b2d6cdsm142586a12.9.2025.10.16.00.51.19 (version=TLS1_2 cipher=ECDHE-ECDSA-AES128-GCM-SHA256 bits=128/128); Thu, 16 Oct 2025 00:51:19 -0700 (PDT) X-Relaying-Domain: iol.unh.edu Date: Thu, 16 Oct 2025 00:51:19 -0700 (PDT) Message-ID: <68f0a3f7.050a0220.18ed1.7a86SMTPIN_ADDED_MISSING@mx.google.com> Received: from [172.21.0.2] (unknown [172.18.0.240]) by postal.iol.unh.edu (Postfix) with ESMTP id B3F956051830; Thu, 16 Oct 2025 03:51:18 -0400 (EDT) Subject: |SUCCESS| [GIT MASTER] a62b0fbf8e367c88d28d78210db1b28c8eac4b1b From: dpdklab@iol.unh.edu To: Test Report Cc: dpdk-test-reports@iol.unh.edu, Chenbo Xia , Maxime Coquelin Content-Type: text/plain X-BeenThere: test-report@dpdk.org X-Mailman-Version: 2.1.29 Precedence: list List-Id: automatic DPDK test reports List-Unsubscribe: , List-Archive: List-Post: List-Help: List-Subscribe: , Errors-To: test-report-bounces@dpdk.org _Testing PASS_ Branch: dpdk-next-virtio a62b0fbf8e367c88d28d78210db1b28c8eac4b1b --> testing pass Upstream job id: Generic-VM-Unit-Test-DPDK#31836 Test environment and result as below: +-------------------------------+----------------+ | Environment | dpdk_unit_test | +===============================+================+ | Debian GNU/Linux 12 | PASS | +-------------------------------+----------------+ | CentOS Stream 9 | PASS | +-------------------------------+----------------+ | CentOS Stream 10 | PASS | +-------------------------------+----------------+ | Fedora Linux 42 | PASS | +-------------------------------+----------------+ | Fedora Linux 40 | PASS | +-------------------------------+----------------+ | Fedora Linux 41 | PASS | +-------------------------------+----------------+ | Red Hat Enterprise Linux 9.5 | PASS | +-------------------------------+----------------+ | Red Hat Enterprise Linux 8.10 | PASS | +-------------------------------+----------------+ | Ubuntu 20.04 | PASS | +-------------------------------+----------------+ | Ubuntu 24.04 | PASS | +-------------------------------+----------------+ | Ubuntu 22.04 | PASS | +-------------------------------+----------------+ | Windows Server 2022 | PASS | +-------------------------------+----------------+ Debian GNU/Linux 12 Kernel: 5.15 Compiler: gcc gcc (Debian 12.2.0-14+deb12u1) 12.2.0 CentOS Stream 9 Kernel: 5.15 Compiler: gcc gcc (GCC) 11.5.0 20240719 (Red Hat 11.5.0-11) CentOS Stream 10 Kernel: 5.15 Compiler: gcc gcc (GCC) 14.2.1 20250110 (Red Hat 14.2.1-8) Fedora Linux 42 Kernel: 5.15 Compiler: gcc gcc (GCC) 15.2.1 20250808 (Red Hat 15.2.1-1) Fedora Linux 40 Kernel: 5.15 Compiler: clang gcc (GCC) 14.2.1 20240912 (Red Hat 14.2.1-3) Fedora Linux 41 Kernel: 5.15 Compiler: clang gcc (GCC) 14.3.1 20250523 (Red Hat 14.3.1-1) Red Hat Enterprise Linux 9.5 Kernel: 5.15 Compiler: gcc gcc (GCC) 11.5.0 20240719 (Red Hat 11.5.0-2) Red Hat Enterprise Linux 8.10 Kernel: 5.15 Compiler: gcc gcc (GCC) 8.5.0 20210514 (Red Hat 8.5.0-22) Ubuntu 20.04 Kernel: 5.15 Compiler: gcc gcc (Ubuntu 9.4.0-1ubuntu1~20.04.2) 9.4.0 Ubuntu 24.04 Kernel: 5.15 Compiler: gcc gcc (Ubuntu 13.3.0-6ubuntu2~24.04) 13.3.0 Ubuntu 22.04 Kernel: 5.15 Compiler: gcc gcc (Ubuntu 11.4.0-1ubuntu1~22.04) 11.4.0 Windows Server 2022 Kernel: 10.0.20348.2031 Compiler: clang 15.0.7, gcc 14.1.0 (MinGW), and MSVC VS 19.39.33521 To view detailed results, visit: https://lab.dpdk.org/results/dashboard/tarballs/35230/ UNH-IOL DPDK Community Lab To manage your email subscriptions, visit: https://lab.dpdk.org/results/dashboard/preferences/subscriptions/