From mboxrd@z Thu Jan 1 00:00:00 1970 Return-Path: Received: from mails.dpdk.org (mails.dpdk.org [217.70.189.124]) by inbox.dpdk.org (Postfix) with ESMTP id C856D4894E for ; Thu, 16 Oct 2025 10:00:03 +0200 (CEST) Received: from mails.dpdk.org (localhost [127.0.0.1]) by mails.dpdk.org (Postfix) with ESMTP id C205540269; Thu, 16 Oct 2025 10:00:03 +0200 (CEST) Received: from mail-il1-f227.google.com (mail-il1-f227.google.com [209.85.166.227]) by mails.dpdk.org (Postfix) with ESMTP id 87BDF40269 for ; Thu, 16 Oct 2025 10:00:02 +0200 (CEST) Received: by mail-il1-f227.google.com with SMTP id e9e14a558f8ab-430ae09ea23so1724175ab.0 for ; Thu, 16 Oct 2025 01:00:02 -0700 (PDT) DKIM-Signature: v=1; a=rsa-sha256; c=relaxed/relaxed; d=iol.unh.edu; s=unh-iol; t=1760601602; x=1761206402; darn=dpdk.org; h=references:in-reply-to:cc:to:from:subject:message-id:date:from:to :cc:subject:date:message-id:reply-to; bh=F68wimRbb9gMXP78Sp/ZR4VUMXRuspIFeMgS8tbQZfA=; b=gPqp4uXXNQ0RrHKyax0IM9Nvg3+xrA72JLq6PbXw1QyLkWMx4ZrpUyueoC6HTYw32I qsyX78SC3Yk3YjDUn300rCs57tMWW6K+iMiO6Km/77IJlh2L9W2fKiHfbsiRBEr5htuu tM4vyxn5fl7f+v+GlkzePft5M9uzvhxOiM7Do= X-Google-DKIM-Signature: v=1; a=rsa-sha256; c=relaxed/relaxed; d=1e100.net; s=20230601; t=1760601602; x=1761206402; h=references:in-reply-to:cc:to:from:subject:message-id:date :x-gm-message-state:from:to:cc:subject:date:message-id:reply-to; bh=F68wimRbb9gMXP78Sp/ZR4VUMXRuspIFeMgS8tbQZfA=; b=Dy083VjxUxKAmCrYVBCVdV4JQ5moXq28hjVmwrurXRA1DnOj9qQ+8lFZTDwhm6gqqR adxsynQlIekgPW2iAusrcHErh3WA0Tf4YCuDKPlKAmjOe/6eBXoGP2Q3nd3GpNpqex8n ImIUxFE+q7lCElY+lhxK48bcHZTEdx+6QiGVBkoC4fSqt9LRwPDhVIgdAb5WqAkUn6Yf K4n6Ziyx5/ugBRZhpzYZncy6nrxNn5HaNY9HoRz4Lq90uiSsTT+7DGA1v5GSF+DvhzZ5 d+ZNyKVbDPv9/XPzH6sRXHep79svl86PyfpZD1rkJ7I+pkkJGWYARIoVeWnmbIA1C2UK +R5A== X-Gm-Message-State: AOJu0YzES2Gve1dxrvuv1YHbKZlncIeV1rAEu83LS+Mg0sL32Of9Xfvm xHPR0HFtszZhDq9z9hJgrGOSZjpu3gMaCmBElOPdmEJwik/8myy6XzCbaEZtVVCpuRf0lAm9Op+ wRtw7rdA5AfmjtVwRrknVEI08byAQAn1+3S1shyX2TyiH X-Gm-Gg: ASbGncs7Gvb1IXo4NzLv+to2pnrwMamgreh+QuQC4z00VHOWnl8W2LsODXnFjhjEi5+ MaNZF/a8i2qu8Cj+7V8cW3p7imtwexEjR2Y9UBuWgUlcj67PxgY+RkWQhfdHU2S2WcGbq/IuqA0 hwMOdyJmte49S69PGGUJ7vCFnfnsAAyizHDXDeh83qiHTnCDflxlpPtpz3EyN3JCiV8F1PBiC7H +95+IbOh8BK9o3MOfkSo7uetwHxJlHyY0fUxrrlO8E0m8FjXkFHWvBdaNK45ZekjE76hHwYZILj j6NlT2ATA3tFyjx2UAFMvVn66QQ1wzJ0fVNgvaInnqARKXtESfd31Oy9QSLv84ilKP6m3cpnZc0 +xwR7IAt/yADIyt4tENkiJlgWoQ+TugQ= X-Google-Smtp-Source: AGHT+IEYynFcYDTXpCskRcb/JQXb70pAR/IHT62pocSKHpu0eYQqLMeyA0tUc70BbTTNW8ZdW82x0mRl03iM X-Received: by 2002:a05:6e02:4713:b0:42f:8eeb:49a1 with SMTP id e9e14a558f8ab-42f8eeb4a2fmr298802645ab.13.1760601601839; Thu, 16 Oct 2025 01:00:01 -0700 (PDT) Received: from postal.iol.unh.edu (postal.iol.unh.edu. [132.177.123.84]) by smtp-relay.gmail.com with ESMTPS id e9e14a558f8ab-430b50b686bsm1820885ab.1.2025.10.16.01.00.01 (version=TLS1_2 cipher=ECDHE-ECDSA-AES128-GCM-SHA256 bits=128/128); Thu, 16 Oct 2025 01:00:01 -0700 (PDT) X-Relaying-Domain: iol.unh.edu Date: Thu, 16 Oct 2025 01:00:01 -0700 (PDT) Message-ID: <68f0a601.050a0220.1856bf.95dfSMTPIN_ADDED_MISSING@mx.google.com> Received: from [172.21.0.4] (unknown [172.18.0.240]) by postal.iol.unh.edu (Postfix) with ESMTP id 7CDCC6051830; Thu, 16 Oct 2025 04:00:01 -0400 (EDT) Subject: |WARNING| pw157692 [PATCH] dma/hisi_pciep: rename hisilicon driver From: dpdklab@iol.unh.edu To: Test Report Cc: dpdk-test-reports@iol.unh.edu In-Reply-To: <20251016023747.18871-1-fengchengwen@huawei.com> References: <20251016023747.18871-1-fengchengwen@huawei.com> Content-Type: text/plain X-BeenThere: test-report@dpdk.org X-Mailman-Version: 2.1.29 Precedence: list List-Id: automatic DPDK test reports List-Unsubscribe: , List-Archive: List-Post: List-Help: List-Subscribe: , Errors-To: test-report-bounces@dpdk.org Test-Label: iol-compile-amd64-testing Test-Status: WARNING http://dpdk.org/patch/157692 _Testing issues_ Submitter: Chengwen Feng Date: Thursday, October 16 2025 02:37:47 DPDK git baseline: Repo:dpdk Branch: master CommitID:16f4c522003dcfecf23c8d38e009b95a3bbefd03 157692 --> testing issues Upstream job id: Generic-DPDK-Compile-Meson#434728 Test environment and result as below: +-------------------------------+--------------------+-------------------+-------------------------+----------------------+-------------------+------------------+ | Environment | dpdk_meson_compile | dpdk_msvc_compile | dpdk_llvm_clang_compile | dpdk_mingw64_compile | dpdk_compile_spdk | dpdk_compile_ovs | +===============================+====================+===================+=========================+======================+===================+==================+ | Ubuntu 20.04 | PASS | SKIPPED | SKIPPED | SKIPPED | SKIPPED | SKIPPED | +-------------------------------+--------------------+-------------------+-------------------------+----------------------+-------------------+------------------+ | FreeBSD 14.2 | PASS | SKIPPED | SKIPPED | SKIPPED | SKIPPED | SKIPPED | +-------------------------------+--------------------+-------------------+-------------------------+----------------------+-------------------+------------------+ | CentOS Stream 9 | PASS | SKIPPED | SKIPPED | SKIPPED | WARN | SKIPPED | +-------------------------------+--------------------+-------------------+-------------------------+----------------------+-------------------+------------------+ | CentOS Stream 10 | PASS | SKIPPED | SKIPPED | SKIPPED | SKIPPED | SKIPPED | +-------------------------------+--------------------+-------------------+-------------------------+----------------------+-------------------+------------------+ | Debian GNU/Linux 12 | PASS | SKIPPED | SKIPPED | SKIPPED | WARN | SKIPPED | +-------------------------------+--------------------+-------------------+-------------------------+----------------------+-------------------+------------------+ | Fedora Linux 42 | PASS | SKIPPED | SKIPPED | SKIPPED | WARN | PASS | +-------------------------------+--------------------+-------------------+-------------------------+----------------------+-------------------+------------------+ | openSUSE Leap 15.6 | PASS | SKIPPED | SKIPPED | SKIPPED | SKIPPED | SKIPPED | +-------------------------------+--------------------+-------------------+-------------------------+----------------------+-------------------+------------------+ | Red Hat Enterprise Linux 8.10 | PASS | SKIPPED | SKIPPED | SKIPPED | SKIPPED | SKIPPED | +-------------------------------+--------------------+-------------------+-------------------------+----------------------+-------------------+------------------+ | Red Hat Enterprise Linux 9.5 | PASS | SKIPPED | SKIPPED | SKIPPED | SKIPPED | SKIPPED | +-------------------------------+--------------------+-------------------+-------------------------+----------------------+-------------------+------------------+ | Ubuntu 22.04 | PASS | SKIPPED | SKIPPED | SKIPPED | WARN | SKIPPED | +-------------------------------+--------------------+-------------------+-------------------------+----------------------+-------------------+------------------+ | Ubuntu 24.04 | PASS | SKIPPED | SKIPPED | SKIPPED | WARN | PASS | +-------------------------------+--------------------+-------------------+-------------------------+----------------------+-------------------+------------------+ | Alpine Linux 3.22.0 | PASS | SKIPPED | SKIPPED | SKIPPED | SKIPPED | SKIPPED | +-------------------------------+--------------------+-------------------+-------------------------+----------------------+-------------------+------------------+ | Windows Server 2022 | SKIPPED | PASS | PASS | PASS | SKIPPED | SKIPPED | +-------------------------------+--------------------+-------------------+-------------------------+----------------------+-------------------+------------------+ ==== 20 line log output for Ubuntu 24.04 (dpdk_compile_spdk): ==== --- Failed to get log output --- ==== End log output ==== Ubuntu 20.04 Kernel: 4.19 Compiler: gcc gcc (Ubuntu 9.4.0-1ubuntu1~20.04.2) 9.4.0 FreeBSD 14.2 Kernel: 14.2-RELEASE Compiler: clang 18.1.6 CentOS Stream 9 Kernel: 5.15 Compiler: gcc gcc (GCC) 11.5.0 20240719 (Red Hat 11.5.0-11) CentOS Stream 10 Kernel: 5.15 Compiler: gcc gcc (GCC) 14.2.1 20250110 (Red Hat 14.2.1-8) Debian GNU/Linux 12 Kernel: 5.15 Compiler: gcc gcc (Debian 12.2.0-14+deb12u1) 12.2.0 Fedora Linux 42 Kernel: 5.15 Compiler: clang gcc (GCC) 15.2.1 20250808 (Red Hat 15.2.1-1) openSUSE Leap 15.6 Kernel: 5.15 Compiler: gcc gcc (SUSE Linux) 7.5.0 Red Hat Enterprise Linux 8.10 Kernel: 5.15 Compiler: gcc gcc (GCC) 8.5.0 20210514 (Red Hat 8.5.0-22) Red Hat Enterprise Linux 9.5 Kernel: 5.15 Compiler: gcc gcc (GCC) 11.5.0 20240719 (Red Hat 11.5.0-2) Ubuntu 22.04 Kernel: 5.15 Compiler: gcc gcc (Ubuntu 11.4.0-1ubuntu1~22.04) 11.4.0 Ubuntu 24.04 Kernel: 5.15 Compiler: gcc gcc (Ubuntu 13.3.0-6ubuntu2~24.04) 13.3.0 Alpine Linux 3.22.0 Kernel: 5.15 Compiler: gcc gcc (Alpine 14.2.0) 14.2.0 Windows Server 2022 Kernel: 10.0.20348.2031 Compiler: clang 15.0.7, gcc 14.1.0 (MinGW), and MSVC VS 19.39.33521 To view detailed results, visit: https://lab.dpdk.org/results/dashboard/patchsets/34292/ UNH-IOL DPDK Community Lab To manage your email subscriptions, visit: https://lab.dpdk.org/results/dashboard/preferences/subscriptions/