From mboxrd@z Thu Jan 1 00:00:00 1970 Return-Path: Received: from mails.dpdk.org (mails.dpdk.org [217.70.189.124]) by inbox.dpdk.org (Postfix) with ESMTP id E201F4894F for ; Thu, 16 Oct 2025 10:08:45 +0200 (CEST) Received: from mails.dpdk.org (localhost [127.0.0.1]) by mails.dpdk.org (Postfix) with ESMTP id DD3B740E6E; Thu, 16 Oct 2025 10:08:45 +0200 (CEST) Received: from mail-yw1-f228.google.com (mail-yw1-f228.google.com [209.85.128.228]) by mails.dpdk.org (Postfix) with ESMTP id 873BF40E6E for ; Thu, 16 Oct 2025 10:08:45 +0200 (CEST) Received: by mail-yw1-f228.google.com with SMTP id 00721157ae682-781421f5bf5so4762377b3.3 for ; Thu, 16 Oct 2025 01:08:45 -0700 (PDT) DKIM-Signature: v=1; a=rsa-sha256; c=relaxed/relaxed; d=iol.unh.edu; s=unh-iol; t=1760602125; x=1761206925; darn=dpdk.org; h=cc:to:from:subject:message-id:date:from:to:cc:subject:date :message-id:reply-to; bh=/NJw+mY71k6mL0epKPg8jlc3uK3tYoZc8KBeVNUHJUw=; b=bkHOUGWepy2ml2SIeiZumZgk5nbl4tPNkYJYql5kR8q9thYRbidePSVHyUBsFrITFV oaZp1XQo7TyLyD5y6/BLd4TEjyVAmCFLnwoiRY/cvblxE8eZ9rIOtqyMAA7tVznHLYzo JgcgmnOAQFlQoCelxoOJzQ8JktV7ooqo5e/Rk= X-Google-DKIM-Signature: v=1; a=rsa-sha256; c=relaxed/relaxed; d=1e100.net; s=20230601; t=1760602125; x=1761206925; h=cc:to:from:subject:message-id:date:x-gm-message-state:from:to:cc :subject:date:message-id:reply-to; bh=/NJw+mY71k6mL0epKPg8jlc3uK3tYoZc8KBeVNUHJUw=; b=H1dokVV6e7eDj1mEL0z6akUosJZ3ILAc2IKs2RrRPjIq4mxeGqgg9d0aq/7IS0WQv/ 6f9mljGFi24LOc042le0mU/d7+8UdDuYTMvK9FGJ5MRL3etk2hKSckZBuPQIoisTyVrj zhYZImGKMhnYQyq55Z5G/gdXpE9Sefj9Q/QSa0OziHidTFutLDbw3Ad8GtSzCnDHJrJs yQ691Z+/A5qGvQNhrUrULP53yzzXKVU+TNsEgN40TK++r3uBZbNOrfAQhCiaImPY1tqZ GmEBn+Lb89AqEQcmnIbe5dKVTuAf3MyL5iUMJVM0QBkoovIEDn9F7JHC2tBiyWtoigoj gd8g== X-Gm-Message-State: AOJu0YyIfbx3ETteaLjBGNmPgVmE7cHDXp2q2U7YP0xzDECLJGXaWUUF 5v8RZ2il3kcck44RdOTAUth6tw63bHF4HH3fsl75nn/rOprqPsXdpXKiOuNRg3QABJfJhgfeuMA 1gvhVzY9kWxbbYv4GhL37fRGE9+PXhWuoywKxp2XFmwgToIqxr2a1y/baCk0+ X-Gm-Gg: ASbGncuxpXdSXNaPdldzYimDawl0cBANyyM9dUpnX5PiRgFo3rHSEVUhdKh5w51nFYv H+oNF1Vzg1WD2UzxTmoy3RzhjepRpWbNNYrI0GyAxr5NlqYh7pNb01ePbilWWV7LnWQZZtflXHx 0oCaS/Ux2i6sOT5t/j7ZzBYKfMofTajbW67Hoxw/agpx4/J9o21fw3AVDpuLYpjAETX3eg74NhG bvKzJjiCQ9FTEnxhyKxRvCWEXJGdZE5jp6ktQhKTkjlQWTuaNttF/3bVxLDHms2assg8Iypr/zR b8C1Infa8W7MRJH7SLPZX1FmxmNfGMOxm3ZS0eo0sFVLqoyxhXQ2zA8QfAfaqCseIIXJm6VnXBP tkY6HP28o X-Google-Smtp-Source: AGHT+IFxO58fzkre3UerM52rHKNMWxYGZJFkfscaqD26/Jj9Ix0/gGllvTvdck9td3YjrFN9Oh/lS5zbDieE X-Received: by 2002:a81:ff07:0:b0:780:f8b7:c16f with SMTP id 00721157ae682-780f8b7c463mr337987517b3.21.1760602124770; Thu, 16 Oct 2025 01:08:44 -0700 (PDT) Received: from postal.iol.unh.edu (postal.iol.unh.edu. [2606:4100:3880:1234::84]) by smtp-relay.gmail.com with ESMTPS id 00721157ae682-7829015347csm1181807b3.32.2025.10.16.01.08.44 (version=TLS1_2 cipher=ECDHE-ECDSA-AES128-GCM-SHA256 bits=128/128); Thu, 16 Oct 2025 01:08:44 -0700 (PDT) X-Relaying-Domain: iol.unh.edu Date: Thu, 16 Oct 2025 01:08:44 -0700 (PDT) Message-ID: <68f0a80c.050a0220.341f55.60d1SMTPIN_ADDED_MISSING@mx.google.com> Received: from [172.21.0.3] (unknown [172.18.0.240]) by postal.iol.unh.edu (Postfix) with ESMTP id 2E9F06051830; Thu, 16 Oct 2025 04:08:44 -0400 (EDT) Subject: |SUCCESS| [GIT MASTER] a62b0fbf8e367c88d28d78210db1b28c8eac4b1b From: dpdklab@iol.unh.edu To: Test Report Cc: dpdk-test-reports@iol.unh.edu, Chenbo Xia , Maxime Coquelin Content-Type: text/plain X-BeenThere: test-report@dpdk.org X-Mailman-Version: 2.1.29 Precedence: list List-Id: automatic DPDK test reports List-Unsubscribe: , List-Archive: List-Post: List-Help: List-Subscribe: , Errors-To: test-report-bounces@dpdk.org _Testing PASS_ Branch: dpdk-next-virtio a62b0fbf8e367c88d28d78210db1b28c8eac4b1b --> testing pass Upstream job id: Generic-VM-Unit-Test-DPDK#31837 Test environment and result as below: +-------------------------------+----------------+ | Environment | dpdk_unit_test | +===============================+================+ | Debian GNU/Linux 12 | PASS | +-------------------------------+----------------+ | CentOS Stream 9 | PASS | +-------------------------------+----------------+ | CentOS Stream 10 | PASS | +-------------------------------+----------------+ | Fedora Linux 42 | PASS | +-------------------------------+----------------+ | Fedora Linux 40 | PASS | +-------------------------------+----------------+ | Fedora Linux 41 | PASS | +-------------------------------+----------------+ | Red Hat Enterprise Linux 9.5 | PASS | +-------------------------------+----------------+ | Red Hat Enterprise Linux 8.10 | PASS | +-------------------------------+----------------+ | Ubuntu 20.04 | PASS | +-------------------------------+----------------+ | Ubuntu 24.04 | PASS | +-------------------------------+----------------+ | Ubuntu 22.04 | PASS | +-------------------------------+----------------+ | Windows Server 2022 | PASS | +-------------------------------+----------------+ Debian GNU/Linux 12 Kernel: 5.15 Compiler: gcc gcc (Debian 12.2.0-14+deb12u1) 12.2.0 CentOS Stream 9 Kernel: 5.15 Compiler: gcc gcc (GCC) 11.5.0 20240719 (Red Hat 11.5.0-11) CentOS Stream 10 Kernel: 5.15 Compiler: gcc gcc (GCC) 14.2.1 20250110 (Red Hat 14.2.1-8) Fedora Linux 42 Kernel: 5.15 Compiler: gcc gcc (GCC) 15.2.1 20250808 (Red Hat 15.2.1-1) Fedora Linux 40 Kernel: 5.15 Compiler: clang gcc (GCC) 14.2.1 20240912 (Red Hat 14.2.1-3) Fedora Linux 41 Kernel: 5.15 Compiler: clang gcc (GCC) 14.3.1 20250523 (Red Hat 14.3.1-1) Red Hat Enterprise Linux 9.5 Kernel: 5.15 Compiler: gcc gcc (GCC) 11.5.0 20240719 (Red Hat 11.5.0-2) Red Hat Enterprise Linux 8.10 Kernel: 5.15 Compiler: gcc gcc (GCC) 8.5.0 20210514 (Red Hat 8.5.0-22) Ubuntu 20.04 Kernel: 5.15 Compiler: gcc gcc (Ubuntu 9.4.0-1ubuntu1~20.04.2) 9.4.0 Ubuntu 24.04 Kernel: 5.15 Compiler: gcc gcc (Ubuntu 13.3.0-6ubuntu2~24.04) 13.3.0 Ubuntu 22.04 Kernel: 5.15 Compiler: gcc gcc (Ubuntu 11.4.0-1ubuntu1~22.04) 11.4.0 Windows Server 2022 Kernel: 10.0.20348.2031 Compiler: clang 15.0.7, gcc 14.1.0 (MinGW), and MSVC VS 19.39.33521 To view detailed results, visit: https://lab.dpdk.org/results/dashboard/tarballs/35230/ UNH-IOL DPDK Community Lab To manage your email subscriptions, visit: https://lab.dpdk.org/results/dashboard/preferences/subscriptions/