From mboxrd@z Thu Jan 1 00:00:00 1970 Return-Path: Received: from mails.dpdk.org (mails.dpdk.org [217.70.189.124]) by inbox.dpdk.org (Postfix) with ESMTP id BE62A4894F for ; Thu, 16 Oct 2025 10:20:14 +0200 (CEST) Received: from mails.dpdk.org (localhost [127.0.0.1]) by mails.dpdk.org (Postfix) with ESMTP id B8A85402C3; Thu, 16 Oct 2025 10:20:14 +0200 (CEST) Received: from mail-ot1-f98.google.com (mail-ot1-f98.google.com [209.85.210.98]) by mails.dpdk.org (Postfix) with ESMTP id F361E402C3 for ; Thu, 16 Oct 2025 10:20:12 +0200 (CEST) Received: by mail-ot1-f98.google.com with SMTP id 46e09a7af769-7827025e548so190727a34.2 for ; Thu, 16 Oct 2025 01:20:12 -0700 (PDT) DKIM-Signature: v=1; a=rsa-sha256; c=relaxed/relaxed; d=iol.unh.edu; s=unh-iol; t=1760602812; x=1761207612; darn=dpdk.org; h=cc:to:from:subject:message-id:date:from:to:cc:subject:date :message-id:reply-to; bh=J+nOv4+2fxDG6G9CHXvbu/IhTVSlJis+1a6//jWZDA4=; b=Am7c+pcsNHMgw9N763gS+hy2IXg6StgE0expcK8fGOlWQpWh2Ear3CNNC5ecDkSUmO tYIEp1WP5PyWgsDVBPyQG+ZlytvKfE2jLqODe7uY5Z5FBz27F1fQLqwJu5X5VwEpPVuF MpFVqAUuxEVvpiVMHef+68ZmepQpE4PT7Q16c= X-Google-DKIM-Signature: v=1; a=rsa-sha256; c=relaxed/relaxed; d=1e100.net; s=20230601; t=1760602812; x=1761207612; h=cc:to:from:subject:message-id:date:x-gm-message-state:from:to:cc :subject:date:message-id:reply-to; bh=J+nOv4+2fxDG6G9CHXvbu/IhTVSlJis+1a6//jWZDA4=; b=UdsnHZ9scD5WLdfIztx25je6MxOAqk/yH02lfmERaWp1+einpcyb5NTbiW+07hi0Ml FQFsDOso4lGCEcaUBItr3/v0jzkTf0imsWjHA5tYYVO0h1N6K36fyqqHuOsM4rbWoPfU uq0BqJtV50zbKBm0J4dsNd5Bd0Xb0bxVsz3BgHX8f6F1qqbC3b+lDl61U3uXzcAvzV03 bUKsLHFjka36ExehwhFBicV+bPpMq+TpS0hR5h01/p/ZGA9dH+xWykUfub/3N1ZIJs8p uFtFWS9xyFjFjJSMy6p+4GZYuZtZfxgM1MwdzQ6eHPWrawSpsqfaJsZpv3SW63BfGJ4D DFUg== X-Gm-Message-State: AOJu0YwxaXg7xc/Kc8JR+OX+8mfuDJMtyG1n1fw+Ap/aV6D4BjmK3JOp r/qY8ZFKrPhyeufGr1SIC3tH15/mZ2W3JCFjVIPpybbgpBT2I8h2PPVimYFNiL9TpNQzFU33wYX IPMXTQIEfSBhl/ATVdOwT8T3l4vxPwPHqDkdUkHjLwQf3Ws4FEgwgD79sNxUM X-Gm-Gg: ASbGncsIoaNT6SqzoBebKo62hIMqglGhArRVmXNnxkpiVDg/oDV+1ct3TmmV5VrXvup kursnXPD0bMflPf2ECcr1bVWSC8hYwRRDy735DMQvdOb1NOBgU5OJLMSOHl8bNWxhqPi1Qf0fny J72DLPYHdudrcy+agWK8y43UyN8wi/FPmQhph2SVvosO08iQHwQkB2a7tsxBxgznAMEGEwR3x6k E3p303INeXumccF1acAjAy/gaiwqH019r9D3WdUPxaA6Lfy95ffVVsIY8FjDl4kRJKLX512VHFo RUNaooyEblp15G8NqpFfa5hjyJ1kMxY5TNzkgBojJvFLaDUQj8z6YD7r5nYT/yizy84yQdckPB0 hlkUOgn6R X-Google-Smtp-Source: AGHT+IF55L2yo5yI5Mjqa+6Y2tzH+Z1ueII36zaUFy3v5Rdyabumd0q6mGNw1wgVZBR6EF+0f3ehl7ZuDx1O X-Received: by 2002:a05:6830:2b27:b0:7bd:8995:843a with SMTP id 46e09a7af769-7c0df7e1b10mr19712595a34.21.1760602812157; Thu, 16 Oct 2025 01:20:12 -0700 (PDT) Received: from postal.iol.unh.edu (postal.iol.unh.edu. [2606:4100:3880:1234::84]) by smtp-relay.gmail.com with ESMTPS id 46e09a7af769-7c0f90b6ca7sm1535377a34.3.2025.10.16.01.20.12 (version=TLS1_2 cipher=ECDHE-ECDSA-AES128-GCM-SHA256 bits=128/128); Thu, 16 Oct 2025 01:20:12 -0700 (PDT) X-Relaying-Domain: iol.unh.edu Date: Thu, 16 Oct 2025 01:20:12 -0700 (PDT) Message-ID: <68f0aabc.050a0220.17c3d0.c14cSMTPIN_ADDED_MISSING@mx.google.com> Received: from [172.21.0.3] (unknown [172.18.0.240]) by postal.iol.unh.edu (Postfix) with ESMTP id 8AB426051830; Thu, 16 Oct 2025 04:20:11 -0400 (EDT) Subject: |SUCCESS| [GIT MASTER] 791cea04798a8e2de014b99c009cd25b5929000a From: dpdklab@iol.unh.edu To: Test Report Cc: dpdk-test-reports@iol.unh.edu, Stephen Hemminger Content-Type: text/plain X-BeenThere: test-report@dpdk.org X-Mailman-Version: 2.1.29 Precedence: list List-Id: automatic DPDK test reports List-Unsubscribe: , List-Archive: List-Post: List-Help: List-Subscribe: , Errors-To: test-report-bounces@dpdk.org _Testing PASS_ Branch: dpdk-next-net 791cea04798a8e2de014b99c009cd25b5929000a --> testing pass Upstream job id: Generic-VM-Unit-Test-DPDK#31838 Test environment and result as below: +-------------------------------+----------------+ | Environment | dpdk_unit_test | +===============================+================+ | CentOS Stream 10 | PASS | +-------------------------------+----------------+ | Debian GNU/Linux 12 | PASS | +-------------------------------+----------------+ | CentOS Stream 9 | PASS | +-------------------------------+----------------+ | Fedora Linux 40 | PASS | +-------------------------------+----------------+ | Fedora Linux 41 | PASS | +-------------------------------+----------------+ | Fedora Linux 42 | PASS | +-------------------------------+----------------+ | Red Hat Enterprise Linux 8.10 | PASS | +-------------------------------+----------------+ | Ubuntu 20.04 | PASS | +-------------------------------+----------------+ | Ubuntu 22.04 | PASS | +-------------------------------+----------------+ | Red Hat Enterprise Linux 9.5 | PASS | +-------------------------------+----------------+ | Ubuntu 24.04 | PASS | +-------------------------------+----------------+ | Windows Server 2022 | PASS | +-------------------------------+----------------+ CentOS Stream 10 Kernel: 5.15 Compiler: gcc gcc (GCC) 14.2.1 20250110 (Red Hat 14.2.1-8) Debian GNU/Linux 12 Kernel: 5.15 Compiler: gcc gcc (Debian 12.2.0-14+deb12u1) 12.2.0 CentOS Stream 9 Kernel: 5.15 Compiler: gcc gcc (GCC) 11.5.0 20240719 (Red Hat 11.5.0-11) Fedora Linux 40 Kernel: 5.15 Compiler: gcc gcc (GCC) 14.2.1 20240912 (Red Hat 14.2.1-3) Fedora Linux 41 Kernel: 5.15 Compiler: gcc gcc (GCC) 14.3.1 20250523 (Red Hat 14.3.1-1) Fedora Linux 42 Kernel: 5.15 Compiler: clang gcc (GCC) 15.2.1 20250808 (Red Hat 15.2.1-1) Red Hat Enterprise Linux 8.10 Kernel: 5.15 Compiler: gcc gcc (GCC) 8.5.0 20210514 (Red Hat 8.5.0-22) Ubuntu 20.04 Kernel: 5.15 Compiler: gcc gcc (Ubuntu 9.4.0-1ubuntu1~20.04.2) 9.4.0 Ubuntu 22.04 Kernel: 5.15 Compiler: gcc gcc (Ubuntu 11.4.0-1ubuntu1~22.04) 11.4.0 Red Hat Enterprise Linux 9.5 Kernel: 5.15 Compiler: gcc gcc (GCC) 11.5.0 20240719 (Red Hat 11.5.0-2) Ubuntu 24.04 Kernel: 5.15 Compiler: gcc gcc (Ubuntu 13.3.0-6ubuntu2~24.04) 13.3.0 Windows Server 2022 Kernel: 10.0.20348.2031 Compiler: clang 15.0.7, gcc 14.1.0 (MinGW), and MSVC VS 19.39.33521 To view detailed results, visit: https://lab.dpdk.org/results/dashboard/tarballs/35231/ UNH-IOL DPDK Community Lab To manage your email subscriptions, visit: https://lab.dpdk.org/results/dashboard/preferences/subscriptions/