From: dpdklab@iol.unh.edu
To: Test Report <test-report@dpdk.org>
Cc: dpdk-test-reports@iol.unh.edu
Subject: |PENDING| pw157714 [PATCH] config/arm: fix inconsistency for Neovers
Date: Thu, 16 Oct 2025 01:34:59 -0700 (PDT) [thread overview]
Message-ID: <68f0ae33.050a0220.1478b1.0d97SMTPIN_ADDED_MISSING@mx.google.com> (raw)
In-Reply-To: <20251016080533.535266-1-thierry.herbelot@6wind.com>
Test-Label: iol-compile-amd64-testing
Test-Status: PENDING
http://dpdk.org/patch/157714
_Testing pending_
Submitter: Thierry Herbelot <thierry.herbelot@6wind.com>
Date: Thursday, October 16 2025 08:05:33
DPDK git baseline: Repo:dpdk
Branch: master
CommitID:16f4c522003dcfecf23c8d38e009b95a3bbefd03
157714 --> testing pending
Upstream job id: Generic-VM-DPDK-Compile-Meson#39035
Test environment and result as below:
+---------------------+--------------------+-------------------+-------------------------+
| Environment | dpdk_meson_compile | dpdk_msvc_compile | dpdk_llvm_clang_compile |
+=====================+====================+===================+=========================+
| FreeBSD 14.2 | PASS | SKIPPED | SKIPPED |
+---------------------+--------------------+-------------------+-------------------------+
| Windows Server 2022 | SKIPPED | PEND | PEND |
+---------------------+--------------------+-------------------+-------------------------+
FreeBSD 14.2
Kernel: 14.2-RELEASE
Compiler: clang 18.1.6
Windows Server 2022
Kernel: 10.0.20348.2031
Compiler: clang 15.0.7, gcc 14.1.0 (MinGW), and MSVC VS 19.39.33521
To view detailed results, visit:
https://lab.dpdk.org/results/dashboard/patchsets/34294/
UNH-IOL DPDK Community Lab
To manage your email subscriptions, visit:
https://lab.dpdk.org/results/dashboard/preferences/subscriptions/
next prev parent reply other threads:[~2025-10-16 8:35 UTC|newest]
Thread overview: 26+ messages / expand[flat|nested] mbox.gz Atom feed top
[not found] <20251016080533.535266-1-thierry.herbelot@6wind.com>
2025-10-16 7:37 ` |SUCCESS| pw157714 [PATCH] config/arm: fix inconsistency for Neoverse N2 qemudev
2025-10-16 7:42 ` qemudev
2025-10-16 8:05 ` checkpatch
2025-10-16 8:32 ` |PENDING| pw157714 [PATCH] config/arm: fix inconsistency for Neovers dpdklab
2025-10-16 8:34 ` |SUCCESS| " dpdklab
2025-10-16 8:34 ` dpdklab [this message]
2025-10-16 8:41 ` |PENDING| " dpdklab
2025-10-16 8:42 ` |SUCCESS| " dpdklab
2025-10-16 8:50 ` |PENDING| " dpdklab
2025-10-16 8:53 ` |SUCCESS| " dpdklab
2025-10-16 8:53 ` dpdklab
2025-10-16 9:14 ` dpdklab
2025-10-16 9:15 ` dpdklab
2025-10-16 9:22 ` dpdklab
2025-10-16 9:22 ` dpdklab
2025-10-16 9:22 ` dpdklab
2025-10-16 9:36 ` |SUCCESS| pw157714 [PATCH] config/arm: fix inconsistency for Neoverse N2 0-day Robot
2025-10-16 9:36 ` 0-day Robot
2025-10-16 9:54 ` |SUCCESS| pw157714 [PATCH] config/arm: fix inconsistency for Neovers dpdklab
2025-10-16 10:08 ` dpdklab
2025-10-16 10:11 ` dpdklab
2025-10-16 10:50 ` dpdklab
2025-10-16 17:08 ` |WARNING| " dpdklab
2025-10-16 17:17 ` |SUCCESS| " dpdklab
2025-10-16 17:34 ` dpdklab
2025-10-16 21:22 ` |WARNING| " dpdklab
Reply instructions:
You may reply publicly to this message via plain-text email
using any one of the following methods:
* Save the following mbox file, import it into your mail client,
and reply-to-all from there: mbox
Avoid top-posting and favor interleaved quoting:
https://en.wikipedia.org/wiki/Posting_style#Interleaved_style
* Reply using the --to, --cc, and --in-reply-to
switches of git-send-email(1):
git send-email \
--in-reply-to=68f0ae33.050a0220.1478b1.0d97SMTPIN_ADDED_MISSING@mx.google.com \
--to=dpdklab@iol.unh.edu \
--cc=dpdk-test-reports@iol.unh.edu \
--cc=test-report@dpdk.org \
/path/to/YOUR_REPLY
https://kernel.org/pub/software/scm/git/docs/git-send-email.html
* If your mail client supports setting the In-Reply-To header
via mailto: links, try the mailto: link
Be sure your reply has a Subject: header at the top and a blank line
before the message body.
This is a public inbox, see mirroring instructions
for how to clone and mirror all data and code used for this inbox;
as well as URLs for NNTP newsgroup(s).