From mboxrd@z Thu Jan 1 00:00:00 1970 Return-Path: Received: from mails.dpdk.org (mails.dpdk.org [217.70.189.124]) by inbox.dpdk.org (Postfix) with ESMTP id 2518D4894F for ; Thu, 16 Oct 2025 10:43:45 +0200 (CEST) Received: from mails.dpdk.org (localhost [127.0.0.1]) by mails.dpdk.org (Postfix) with ESMTP id 1F39E402C3; Thu, 16 Oct 2025 10:43:45 +0200 (CEST) Received: from mail-pl1-f227.google.com (mail-pl1-f227.google.com [209.85.214.227]) by mails.dpdk.org (Postfix) with ESMTP id 7FD3D402C3 for ; Thu, 16 Oct 2025 10:43:44 +0200 (CEST) Received: by mail-pl1-f227.google.com with SMTP id d9443c01a7336-2681660d604so6450645ad.0 for ; Thu, 16 Oct 2025 01:43:44 -0700 (PDT) DKIM-Signature: v=1; a=rsa-sha256; c=relaxed/relaxed; d=iol.unh.edu; s=unh-iol; t=1760604224; x=1761209024; darn=dpdk.org; h=cc:to:from:subject:message-id:date:from:to:cc:subject:date :message-id:reply-to; bh=2KvOa7O+Iw08fRD0O16+b4t08p2h9IxRb1SanJEEaC8=; b=JdBQlKxcEL1ltAKRvP4ETS8Ro3AsHHIdMRugv1oRmT35OQgC1f91Q1l1Iq1/YM0xcH UItfRC44W5Pmk8HBhdu/zbcLWH8srOPrJDfV5y95MZg9WC6hEUYHjHto+B+Z3sg7O/nl YvONc3A99y7imhdO6CZBMOwtlGqHcbkvc1gi4= X-Google-DKIM-Signature: v=1; a=rsa-sha256; c=relaxed/relaxed; d=1e100.net; s=20230601; t=1760604224; x=1761209024; h=cc:to:from:subject:message-id:date:x-gm-message-state:from:to:cc :subject:date:message-id:reply-to; bh=2KvOa7O+Iw08fRD0O16+b4t08p2h9IxRb1SanJEEaC8=; b=wrvfO/HnPXnWTANlLAvGBzaOrtOsNjB3bJsZB2z3UNcOkj5b/hxFrU+G4dT9O0ICd0 akSMcLszjtiqSZpvSNFan6JfuXr3QL7Pvu977TgvaTVXs2YdLsCHr/2bxUASK7hIkmPc tU/sk4RcyfVRNxR9/8wRSRY+N8egki4t+UAqZ9d2k4P/WnfmRjap8zQ9oLacoCdKCn72 XjVTvXrKzi0AM8worofuXt93Dkgw4KNRmTmRe8ZY78tk1no+15UuTWaUgLHkhnCF3hUU AlE04L8lbA9MeZKJTsfcXAGp9ni3xAJ+uNrXjfs5ndmceaQtpd+klaLSoilj/F3xZsNv BVzA== X-Gm-Message-State: AOJu0YzG5WUmF3fgp+Z5CivDRMTVhx4EL+7EmsVhlKCx4i9ryUad4M1Q yFIT+Glt95SMFSEIORfTHVFyRM6i06xCV3nQ2qHCUA86zyXsetVxOo3UWjVEfJtfmcV1N5p1tb2 T95CG6yxsuKSCuG7KI9P2FiuwTLhqU8Qh/03KhQ6WSiOAGeGvLfqxQ0xQhAQE X-Gm-Gg: ASbGncvaiGzQ0ojeu3gttlVEezvPuQ3J9RVaU13CGeoU1FLg11aB6AMUAh902Hv1mXV n4pVnmcj8AG2K7hOh2ww5voKql4w2tEq/hv1MzyBajIatXxCrFPAPp4jHIazhN+2Q7lgokGluAu /Tgo/tFEHNrPD96yL+Yt3GMWypoji8xej369EFIKsw6ZF9XncWje576tT6fL2mvOEanca9i9djS krwHXpmheUGZnakBj1DrCdNkejF2W24j7PmxmmXINnye3ylZJeQEA8ohzyz3byXkO7nyDabgPtb lC4I5xe01423SF1UaPrw+NW0xq/9MvcV5RgQPpZCSv4SaP6TEUueUdh0FwjwKGGRZyvVYanw47g 81Jm5kkDh X-Google-Smtp-Source: AGHT+IGcN4siHyH3wLJTE/G3h/VNrBleGKgl/N4wjykVOuMWjapYehqjZh+ZOWF0d9yMYPMqjMoEU64oUh5T X-Received: by 2002:a17:903:37cd:b0:235:e8da:8d1 with SMTP id d9443c01a7336-29027213309mr350975235ad.8.1760604223642; Thu, 16 Oct 2025 01:43:43 -0700 (PDT) Received: from postal.iol.unh.edu (postal.iol.unh.edu. [2606:4100:3880:1234::84]) by smtp-relay.gmail.com with ESMTPS id d9443c01a7336-29099a9ded7sm2604825ad.60.2025.10.16.01.43.43 (version=TLS1_2 cipher=ECDHE-ECDSA-AES128-GCM-SHA256 bits=128/128); Thu, 16 Oct 2025 01:43:43 -0700 (PDT) X-Relaying-Domain: iol.unh.edu Date: Thu, 16 Oct 2025 01:43:43 -0700 (PDT) Message-ID: <68f0b03f.170a0220.3eb2f.d6d6SMTPIN_ADDED_MISSING@mx.google.com> Received: from [172.21.0.2] (unknown [172.18.0.240]) by postal.iol.unh.edu (Postfix) with ESMTP id E38336051830; Thu, 16 Oct 2025 04:43:42 -0400 (EDT) Subject: |SUCCESS| [GIT MASTER] 791cea04798a8e2de014b99c009cd25b5929000a From: dpdklab@iol.unh.edu To: Test Report Cc: dpdk-test-reports@iol.unh.edu, Stephen Hemminger Content-Type: text/plain X-BeenThere: test-report@dpdk.org X-Mailman-Version: 2.1.29 Precedence: list List-Id: automatic DPDK test reports List-Unsubscribe: , List-Archive: List-Post: List-Help: List-Subscribe: , Errors-To: test-report-bounces@dpdk.org _Testing PASS_ Branch: dpdk-next-net 791cea04798a8e2de014b99c009cd25b5929000a --> testing pass Upstream job id: Generic-VM-Unit-Test-DPDK#31839 Test environment and result as below: +-------------------------------+----------------+ | Environment | dpdk_unit_test | +===============================+================+ | CentOS Stream 10 | PASS | +-------------------------------+----------------+ | Debian GNU/Linux 12 | PASS | +-------------------------------+----------------+ | CentOS Stream 9 | PASS | +-------------------------------+----------------+ | Fedora Linux 40 | PASS | +-------------------------------+----------------+ | Fedora Linux 41 | PASS | +-------------------------------+----------------+ | Fedora Linux 42 | PASS | +-------------------------------+----------------+ | Red Hat Enterprise Linux 8.10 | PASS | +-------------------------------+----------------+ | Ubuntu 20.04 | PASS | +-------------------------------+----------------+ | Ubuntu 22.04 | PASS | +-------------------------------+----------------+ | Red Hat Enterprise Linux 9.5 | PASS | +-------------------------------+----------------+ | Ubuntu 24.04 | PASS | +-------------------------------+----------------+ | Windows Server 2022 | PASS | +-------------------------------+----------------+ CentOS Stream 10 Kernel: 5.15 Compiler: gcc gcc (GCC) 14.2.1 20250110 (Red Hat 14.2.1-8) Debian GNU/Linux 12 Kernel: 5.15 Compiler: gcc gcc (Debian 12.2.0-14+deb12u1) 12.2.0 CentOS Stream 9 Kernel: 5.15 Compiler: gcc gcc (GCC) 11.5.0 20240719 (Red Hat 11.5.0-11) Fedora Linux 40 Kernel: 5.15 Compiler: gcc gcc (GCC) 14.2.1 20240912 (Red Hat 14.2.1-3) Fedora Linux 41 Kernel: 5.15 Compiler: gcc gcc (GCC) 14.3.1 20250523 (Red Hat 14.3.1-1) Fedora Linux 42 Kernel: 5.15 Compiler: clang gcc (GCC) 15.2.1 20250808 (Red Hat 15.2.1-1) Red Hat Enterprise Linux 8.10 Kernel: 5.15 Compiler: gcc gcc (GCC) 8.5.0 20210514 (Red Hat 8.5.0-22) Ubuntu 20.04 Kernel: 5.15 Compiler: gcc gcc (Ubuntu 9.4.0-1ubuntu1~20.04.2) 9.4.0 Ubuntu 22.04 Kernel: 5.15 Compiler: gcc gcc (Ubuntu 11.4.0-1ubuntu1~22.04) 11.4.0 Red Hat Enterprise Linux 9.5 Kernel: 5.15 Compiler: gcc gcc (GCC) 11.5.0 20240719 (Red Hat 11.5.0-2) Ubuntu 24.04 Kernel: 5.15 Compiler: gcc gcc (Ubuntu 13.3.0-6ubuntu2~24.04) 13.3.0 Windows Server 2022 Kernel: 10.0.20348.2031 Compiler: clang 15.0.7, gcc 14.1.0 (MinGW), and MSVC VS 19.39.33521 To view detailed results, visit: https://lab.dpdk.org/results/dashboard/tarballs/35231/ UNH-IOL DPDK Community Lab To manage your email subscriptions, visit: https://lab.dpdk.org/results/dashboard/preferences/subscriptions/