From mboxrd@z Thu Jan 1 00:00:00 1970 Return-Path: Received: from mails.dpdk.org (mails.dpdk.org [217.70.189.124]) by inbox.dpdk.org (Postfix) with ESMTP id 8196F4894F for ; Thu, 16 Oct 2025 11:14:26 +0200 (CEST) Received: from mails.dpdk.org (localhost [127.0.0.1]) by mails.dpdk.org (Postfix) with ESMTP id 5E6CF402C3; Thu, 16 Oct 2025 11:14:26 +0200 (CEST) Received: from mail-oo1-f99.google.com (mail-oo1-f99.google.com [209.85.161.99]) by mails.dpdk.org (Postfix) with ESMTP id 0FE8A402C3 for ; Thu, 16 Oct 2025 11:14:25 +0200 (CEST) Received: by mail-oo1-f99.google.com with SMTP id 006d021491bc7-65033a46e9dso213926eaf.2 for ; Thu, 16 Oct 2025 02:14:25 -0700 (PDT) DKIM-Signature: v=1; a=rsa-sha256; c=relaxed/relaxed; d=iol.unh.edu; s=unh-iol; t=1760606064; x=1761210864; darn=dpdk.org; h=references:in-reply-to:cc:to:from:subject:message-id:date:from:to :cc:subject:date:message-id:reply-to; bh=Gt5h8bc92JR58OQRB+V/H1lZkcjji+V1Q1gqisWt6cE=; b=BLxU80ICPfnOANcrylSJPKiZCUn32gJ8UZU1aSPEiK4Rhxkqf+xJ6tOpl8D+Aqerud RQwuAx7Mbixse4fEK78I2tbmehQI145qACu8g6WM5Wy/PspgDaUAyEAh688mrjqmQ4LH g/5XeGo7m4QP17bWWHDl2ZHKJbIEwztIBCoCk= X-Google-DKIM-Signature: v=1; a=rsa-sha256; c=relaxed/relaxed; d=1e100.net; s=20230601; t=1760606064; x=1761210864; h=references:in-reply-to:cc:to:from:subject:message-id:date :x-gm-message-state:from:to:cc:subject:date:message-id:reply-to; bh=Gt5h8bc92JR58OQRB+V/H1lZkcjji+V1Q1gqisWt6cE=; b=BulXCx+/TFTKOBkYpr2x7LPpMayAauHpyHioA52V0KtDM6wDyiwnCoI4IY8H2IgYzT bubZhQ4VGXkO1kmd05z3ZulpB/h6m+9UBqIO2sCqSNk01q7BMFMgJtvVFFPfTHzbSQq6 Ynon3CGlBrEOicRCT0uonozS6x71Cr5cXhHn552Dt+5YtQIWaRdDygzKuPP7RZiTGyxz kGNFQNnS8jwiKV41CkiVe2dzl/4a+akkpeT7vu2BFYRi6kBN/R0OQtE9CDX45mz3Vuc+ 5uU1WrVv7iyyGVRdbvvuusv9byAOQ3L+7ILScIxpchZxCBueUWIGJF6YfO1wgAc0Fucs deGQ== X-Gm-Message-State: AOJu0Yx2uG+uqwvJhnMRiJ7Dvkz7YbJM2ORlb7c5gmdBLTm/HWYqWuf8 OtE6odPIE0Jqfq6347co9b2DfGfSej+lLRgfycS4vjJ9qAaQfK3k25gJm7wzK7TY/wo0az0OI5j 67DVZqZWwO3Fr/wwFIpCAHWktV0EzBZqJffcBuQ9ifhxM X-Gm-Gg: ASbGncvsi9x/Xa4seq+zbwNudAHNVIG0n7UDYNT+ooVzThHYCqDQL4ENi9lwHPs3z7V P/w7PorHOLh8cYc/FQvQqB6519ZKtm/wtM3FKIV7c4FZl4UvRPNRTxlrIAitjk892DAhTBmAiWa zteW0a8I+blajQgvLW/mcD1bgGCOpVfUNhyiYdBHEOOq6+JzaqvjHHqxU6BBuIwmwCfPkCWR4KD cPpiyTIrQdNp9jIdgq3jUKnAIcwIhgbsPyTUcSmsIBaR238dmGzkjbQzdZFrxdrc1bh6nytmeDN zmow/IiB/iQHxxQgFVq1jcUuGKkdgsYkhfQlWc89PuXdxFi9uwhHF/7p9wsHIYk4kSSa8wkQjpa TUY8vAhna6k9Ietg0blS+g3Pu+W1TFns= X-Google-Smtp-Source: AGHT+IH6wd9o/WbZNWzfl+/VyKKp8uk7N43FwzdKSaASbP9PA/wfTSfee17c1duX8bY53Ss1GyF8HSz4Q8Gr X-Received: by 2002:a05:6870:8899:b0:331:15b8:807 with SMTP id 586e51a60fabf-3c0f968d2e3mr16045510fac.41.1760606063994; Thu, 16 Oct 2025 02:14:23 -0700 (PDT) Received: from postal.iol.unh.edu (postal.iol.unh.edu. [132.177.123.84]) by smtp-relay.gmail.com with ESMTPS id 586e51a60fabf-3c985d6daf6sm12538fac.17.2025.10.16.02.14.23 (version=TLS1_2 cipher=ECDHE-ECDSA-AES128-GCM-SHA256 bits=128/128); Thu, 16 Oct 2025 02:14:23 -0700 (PDT) X-Relaying-Domain: iol.unh.edu Date: Thu, 16 Oct 2025 02:14:23 -0700 (PDT) Message-ID: <68f0b76f.050a0220.264df1.0806SMTPIN_ADDED_MISSING@mx.google.com> Received: from [172.21.0.2] (unknown [172.18.0.240]) by postal.iol.unh.edu (Postfix) with ESMTP id 784E26051830; Thu, 16 Oct 2025 05:14:23 -0400 (EDT) Subject: |SUCCESS| pw157714 [PATCH] config/arm: fix inconsistency for Neovers From: dpdklab@iol.unh.edu To: Test Report Cc: dpdk-test-reports@iol.unh.edu In-Reply-To: <20251016080533.535266-1-thierry.herbelot@6wind.com> References: <20251016080533.535266-1-thierry.herbelot@6wind.com> Content-Type: text/plain X-BeenThere: test-report@dpdk.org X-Mailman-Version: 2.1.29 Precedence: list List-Id: automatic DPDK test reports List-Unsubscribe: , List-Archive: List-Post: List-Help: List-Subscribe: , Errors-To: test-report-bounces@dpdk.org Test-Label: iol-compile-amd64-testing Test-Status: SUCCESS http://dpdk.org/patch/157714 _Testing PASS_ Submitter: Thierry Herbelot Date: Thursday, October 16 2025 08:05:33 DPDK git baseline: Repo:dpdk Branch: master CommitID:16f4c522003dcfecf23c8d38e009b95a3bbefd03 157714 --> testing pass Upstream job id: Windows-Compile-DPDK-Native#31669 Test environment and result as below: +---------------------+--------------------+-------------------+-------------------------+ | Environment | dpdk_meson_compile | dpdk_msvc_compile | dpdk_llvm_clang_compile | +=====================+====================+===================+=========================+ | FreeBSD 14.2 | PASS | SKIPPED | SKIPPED | +---------------------+--------------------+-------------------+-------------------------+ | Ubuntu 20.04 | PASS | SKIPPED | SKIPPED | +---------------------+--------------------+-------------------+-------------------------+ | Windows Server 2022 | SKIPPED | PASS | PASS | +---------------------+--------------------+-------------------+-------------------------+ FreeBSD 14.2 Kernel: 14.2-RELEASE Compiler: clang 18.1.6 Ubuntu 20.04 Kernel: 4.19 Compiler: gcc gcc (Ubuntu 9.4.0-1ubuntu1~20.04.2) 9.4.0 Windows Server 2022 Kernel: 10.0.20348.2031 Compiler: clang 15.0.7, gcc 14.1.0 (MinGW), and MSVC VS 19.39.33521 To view detailed results, visit: https://lab.dpdk.org/results/dashboard/patchsets/34294/ UNH-IOL DPDK Community Lab To manage your email subscriptions, visit: https://lab.dpdk.org/results/dashboard/preferences/subscriptions/