From: dpdklab@iol.unh.edu
To: Test Report <test-report@dpdk.org>
Cc: dpdk-test-reports@iol.unh.edu,
Stephen Hemminger <stephen@networkplumber.org>
Subject: |SUCCESS| pw157697-157712 [PATCH] [v13,17/17] net/nbl: add nbl devic
Date: Thu, 16 Oct 2025 02:22:21 -0700 (PDT) [thread overview]
Message-ID: <68f0b94d.050a0220.39220b.ef5aSMTPIN_ADDED_MISSING@mx.google.com> (raw)
In-Reply-To: <20251016080128.3133579-18-dimon.zhao@nebula-matrix.com>
Test-Label: iol-sample-apps-testing
Test-Status: SUCCESS
http://dpdk.org/patch/157712
_Testing PASS_
Submitter: Dimon Zhao <dimon.zhao@nebula-matrix.com>
Date: Thursday, October 16 2025 08:01:28
DPDK git baseline: Repo:dpdk-next-net
Branch: master
CommitID:791cea04798a8e2de014b99c009cd25b5929000a
157697-157712 --> testing pass
Upstream job id: ACVP-FIPS-testing#11449
Test environment and result as below:
+--------------+----------------------+----------------------+
| Environment | dpdk_fips_validation | compressdev_zlib_pmd |
+==============+======================+======================+
| Ubuntu 20.04 | PASS | SKIPPED |
+--------------+----------------------+----------------------+
| Ubuntu 22.04 | SKIPPED | PASS |
+--------------+----------------------+----------------------+
Ubuntu 20.04
Kernel: 5.15
Compiler: gcc gcc (Ubuntu 9.4.0-1ubuntu1~20.04.2) 9.4.0
Ubuntu 22.04
Kernel: 5.15
Compiler: gcc gcc (Ubuntu 11.4.0-1ubuntu1~22.04.2) 11.4.0
To view detailed results, visit:
https://lab.dpdk.org/results/dashboard/patchsets/34295/
UNH-IOL DPDK Community Lab
To manage your email subscriptions, visit:
https://lab.dpdk.org/results/dashboard/preferences/subscriptions/
next prev parent reply other threads:[~2025-10-16 9:22 UTC|newest]
Thread overview: 25+ messages / expand[flat|nested] mbox.gz Atom feed top
[not found] <20251016080128.3133579-18-dimon.zhao@nebula-matrix.com>
2025-10-16 7:30 ` |SUCCESS| pw157697-157712 [PATCH v13 17/17] net/nbl: add nbl device set MTU and promisc qemudev
2025-10-16 7:35 ` qemudev
2025-10-16 8:05 ` |SUCCESS| pw157712 " checkpatch
2025-10-16 8:45 ` |SUCCESS| pw157697-157712 [PATCH] [v13,17/17] net/nbl: add nbl devic dpdklab
2025-10-16 8:47 ` |PENDING| " dpdklab
2025-10-16 8:49 ` |SUCCESS| " dpdklab
2025-10-16 8:52 ` dpdklab
2025-10-16 8:57 ` |PENDING| " dpdklab
2025-10-16 9:01 ` dpdklab
2025-10-16 9:02 ` dpdklab
2025-10-16 9:18 ` |SUCCESS| " dpdklab
2025-10-16 9:22 ` dpdklab [this message]
2025-10-16 9:22 ` dpdklab
2025-10-16 9:22 ` dpdklab
2025-10-16 9:32 ` dpdklab
2025-10-16 10:06 ` dpdklab
2025-10-16 10:09 ` dpdklab
2025-10-16 10:17 ` dpdklab
2025-10-16 10:50 ` dpdklab
2025-10-16 10:57 ` dpdklab
2025-10-16 11:09 ` dpdklab
2025-10-16 11:16 ` dpdklab
2025-10-16 12:01 ` dpdklab
2025-10-16 17:42 ` dpdklab
2025-10-16 21:50 ` |WARNING| " dpdklab
Reply instructions:
You may reply publicly to this message via plain-text email
using any one of the following methods:
* Save the following mbox file, import it into your mail client,
and reply-to-all from there: mbox
Avoid top-posting and favor interleaved quoting:
https://en.wikipedia.org/wiki/Posting_style#Interleaved_style
* Reply using the --to, --cc, and --in-reply-to
switches of git-send-email(1):
git send-email \
--in-reply-to=68f0b94d.050a0220.39220b.ef5aSMTPIN_ADDED_MISSING@mx.google.com \
--to=dpdklab@iol.unh.edu \
--cc=dpdk-test-reports@iol.unh.edu \
--cc=stephen@networkplumber.org \
--cc=test-report@dpdk.org \
/path/to/YOUR_REPLY
https://kernel.org/pub/software/scm/git/docs/git-send-email.html
* If your mail client supports setting the In-Reply-To header
via mailto: links, try the mailto: link
Be sure your reply has a Subject: header at the top and a blank line
before the message body.
This is a public inbox, see mirroring instructions
for how to clone and mirror all data and code used for this inbox;
as well as URLs for NNTP newsgroup(s).