From mboxrd@z Thu Jan 1 00:00:00 1970 Return-Path: Received: from mails.dpdk.org (mails.dpdk.org [217.70.189.124]) by inbox.dpdk.org (Postfix) with ESMTP id 75E934894F for ; Thu, 16 Oct 2025 11:22:46 +0200 (CEST) Received: from mails.dpdk.org (localhost [127.0.0.1]) by mails.dpdk.org (Postfix) with ESMTP id 70D3040269; Thu, 16 Oct 2025 11:22:46 +0200 (CEST) Received: from mail-qv1-f98.google.com (mail-qv1-f98.google.com [209.85.219.98]) by mails.dpdk.org (Postfix) with ESMTP id 8B4CD40269 for ; Thu, 16 Oct 2025 11:22:42 +0200 (CEST) Received: by mail-qv1-f98.google.com with SMTP id 6a1803df08f44-78f75b0a058so7656686d6.0 for ; Thu, 16 Oct 2025 02:22:42 -0700 (PDT) DKIM-Signature: v=1; a=rsa-sha256; c=relaxed/relaxed; d=iol.unh.edu; s=unh-iol; t=1760606562; x=1761211362; darn=dpdk.org; h=references:in-reply-to:cc:to:from:subject:message-id:date:from:to :cc:subject:date:message-id:reply-to; bh=pZCuhN5q/h1ALz3j4NCAMr1IsHwkpqJkT8759cVv4GY=; b=VvD2V1wvzTy45EjT1K1dfKKoeAmT8OYKmSO56cAjITRCo8ZvjtQZttLQJrMqtW8UXZ TKO8JwmNsZlvX98LL55dVoKmDLRswPq62x0Eua7hD2/QAMwOkbHc3Ml4r1JS31AJ0lmg zzVYzbYw0EteJ8GX+mmReioDbbkU2kcCt5n7M= X-Google-DKIM-Signature: v=1; a=rsa-sha256; c=relaxed/relaxed; d=1e100.net; s=20230601; t=1760606562; x=1761211362; h=references:in-reply-to:cc:to:from:subject:message-id:date :x-gm-message-state:from:to:cc:subject:date:message-id:reply-to; bh=pZCuhN5q/h1ALz3j4NCAMr1IsHwkpqJkT8759cVv4GY=; b=Rs/LSImLSvz4s+PudoP9kNE4uP8vCvr6Xq/Ys2J/FfFmGsIVheEVaYRC0k3rWeXQV7 R20nzRPncZww9BUoJZyRcZsoKN6hLgk9LzHvERwGvQEj9JIWuVASS9FxLu8e1JbEq+t6 X0ghxO8Poi1VzcM//5iXj9wlo1OUrKCf9jm92N89Rh8CJ3cbcuUnDP3IqI4KMcLoCEoH W7KGQrvR3SZi3fRadJbnA+rEamP7eebXXYY/RhmfJcv3slwrmYL0pBPCmb+ClfAomWWz aFBjf6rboEz+yB5knyVeI1iNVIwzKcfvgO+D/tB9k36GwaHODREs2YNGNg+vR37oL/66 gE+A== X-Gm-Message-State: AOJu0YzKEVCsXYBrgXKRCLs2QBfNnVhs1BZXPuPHn6/67cR2xIdcLrbc bmNWg/mT/kkLhgJA6HzqKWS80tjGHk5F7gadVsrsbNSrME6CUe+l3x3QnOoeswBqDPHjcEnp2T+ w0Rt42Po+4Gxh5fML0OQ5/8POdDe8MbtozzUc7h4xpkbs X-Gm-Gg: ASbGnctrEdEZX9E+fdjjYDbQT7BE/NU2QYHo7ykzbZyXhe2KHMZ0Mutyv3DrUuSq3YK qmFwB2xmozD82UxCqVfHT7O6dskGGIMl2J5G4BzebYeYdMHrD8zXMiQfnzqt96VRts2IepQZ2G0 EmQnwdfqbYFRWeKPFMUhciVXWoYGKExDTTnFG9feCrXR9H/AnioMUDRJsgak6/R2699yEnd+Qth hTnTi3bVU0Z0AT4EJ749geRBSPvUNlCicVB3Ezg/hm3cHTmYceROPcU2HclmJB7mCMfSp7xny7C 0EYWB+KWZjZuHFj0Ae7Eu9cfeoKtFforJUp9x/IH5XZpSQBYqB6pTqlJi9rQKCeD3Zi0t6vFxDq 9PgKUPa4wmsQtRfWYEES4QvBX+iZL7uY= X-Google-Smtp-Source: AGHT+IGb9d46Avulz6sxDpPem4+i6RuzCKfo6iWhQdg3Lfg3nlZZo2CK1O6LpX7L1grcDPXbt1AKdgD+VfOU X-Received: by 2002:ac8:5a08:0:b0:4d1:f8e7:e467 with SMTP id d75a77b69052e-4e6ead70a0fmr409068441cf.72.1760606561923; Thu, 16 Oct 2025 02:22:41 -0700 (PDT) Received: from postal.iol.unh.edu (postal.iol.unh.edu. [132.177.123.84]) by smtp-relay.gmail.com with ESMTPS id 6a1803df08f44-87c01288e5esm4679886d6.21.2025.10.16.02.22.41 (version=TLS1_2 cipher=ECDHE-ECDSA-AES128-GCM-SHA256 bits=128/128); Thu, 16 Oct 2025 02:22:41 -0700 (PDT) X-Relaying-Domain: iol.unh.edu Date: Thu, 16 Oct 2025 02:22:41 -0700 (PDT) Message-ID: <68f0b961.050a0220.3167c1.7a59SMTPIN_ADDED_MISSING@mx.google.com> Received: from [172.21.0.2] (unknown [172.18.0.240]) by postal.iol.unh.edu (Postfix) with ESMTP id A59B06051830; Thu, 16 Oct 2025 05:22:41 -0400 (EDT) Subject: |SUCCESS| pw157714 [PATCH] config/arm: fix inconsistency for Neovers From: dpdklab@iol.unh.edu To: Test Report Cc: dpdk-test-reports@iol.unh.edu In-Reply-To: <20251016080533.535266-1-thierry.herbelot@6wind.com> References: <20251016080533.535266-1-thierry.herbelot@6wind.com> Content-Type: text/plain X-BeenThere: test-report@dpdk.org X-Mailman-Version: 2.1.29 Precedence: list List-Id: automatic DPDK test reports List-Unsubscribe: , List-Archive: List-Post: List-Help: List-Subscribe: , Errors-To: test-report-bounces@dpdk.org Test-Label: iol-unit-amd64-testing Test-Status: SUCCESS http://dpdk.org/patch/157714 _Testing PASS_ Submitter: Thierry Herbelot Date: Thursday, October 16 2025 08:05:33 DPDK git baseline: Repo:dpdk Branch: master CommitID:16f4c522003dcfecf23c8d38e009b95a3bbefd03 157714 --> testing pass Upstream job id: Generic-VM-Unit-Test-DPDK#31840 Test environment and result as below: +-------------------------------+----------------+ | Environment | dpdk_unit_test | +===============================+================+ | Ubuntu 20.04 | PASS | +-------------------------------+----------------+ | Red Hat Enterprise Linux 8.10 | PASS | +-------------------------------+----------------+ | Fedora Linux 40 | PASS | +-------------------------------+----------------+ | Ubuntu 22.04 | PASS | +-------------------------------+----------------+ | Debian GNU/Linux 12 | PASS | +-------------------------------+----------------+ | Ubuntu 24.04 | PASS | +-------------------------------+----------------+ | Fedora Linux 42 | PASS | +-------------------------------+----------------+ | Fedora Linux 41 | PASS | +-------------------------------+----------------+ | CentOS Stream 9 | PASS | +-------------------------------+----------------+ | Red Hat Enterprise Linux 9.5 | PASS | +-------------------------------+----------------+ | CentOS Stream 10 | PASS | +-------------------------------+----------------+ | Windows Server 2022 | PASS | +-------------------------------+----------------+ Ubuntu 20.04 Kernel: 5.15 Compiler: gcc gcc (Ubuntu 9.4.0-1ubuntu1~20.04.2) 9.4.0 Red Hat Enterprise Linux 8.10 Kernel: 5.15 Compiler: gcc gcc (GCC) 8.5.0 20210514 (Red Hat 8.5.0-22) Fedora Linux 40 Kernel: 5.15 Compiler: clang gcc (GCC) 14.2.1 20240912 (Red Hat 14.2.1-3) Ubuntu 22.04 Kernel: 5.15 Compiler: gcc gcc (Ubuntu 11.4.0-1ubuntu1~22.04) 11.4.0 Debian GNU/Linux 12 Kernel: 5.15 Compiler: gcc gcc (Debian 12.2.0-14+deb12u1) 12.2.0 Ubuntu 24.04 Kernel: 5.15 Compiler: gcc gcc (Ubuntu 13.3.0-6ubuntu2~24.04) 13.3.0 Fedora Linux 42 Kernel: 5.15 Compiler: gcc gcc (GCC) 15.2.1 20250808 (Red Hat 15.2.1-1) Fedora Linux 41 Kernel: 5.15 Compiler: clang gcc (GCC) 14.3.1 20250523 (Red Hat 14.3.1-1) CentOS Stream 9 Kernel: 5.15 Compiler: gcc gcc (GCC) 11.5.0 20240719 (Red Hat 11.5.0-11) Red Hat Enterprise Linux 9.5 Kernel: 5.15 Compiler: gcc gcc (GCC) 11.5.0 20240719 (Red Hat 11.5.0-2) CentOS Stream 10 Kernel: 5.15 Compiler: gcc gcc (GCC) 14.2.1 20250110 (Red Hat 14.2.1-8) Windows Server 2022 Kernel: 10.0.20348.2031 Compiler: clang 15.0.7, gcc 14.1.0 (MinGW), and MSVC VS 19.39.33521 To view detailed results, visit: https://lab.dpdk.org/results/dashboard/patchsets/34294/ UNH-IOL DPDK Community Lab To manage your email subscriptions, visit: https://lab.dpdk.org/results/dashboard/preferences/subscriptions/