From mboxrd@z Thu Jan 1 00:00:00 1970 Return-Path: Received: from mails.dpdk.org (mails.dpdk.org [217.70.189.124]) by inbox.dpdk.org (Postfix) with ESMTP id 8771C4894F for ; Thu, 16 Oct 2025 11:32:58 +0200 (CEST) Received: from mails.dpdk.org (localhost [127.0.0.1]) by mails.dpdk.org (Postfix) with ESMTP id 7066D40269; Thu, 16 Oct 2025 11:32:58 +0200 (CEST) Received: from mail-pg1-f227.google.com (mail-pg1-f227.google.com [209.85.215.227]) by mails.dpdk.org (Postfix) with ESMTP id 1A44E40269 for ; Thu, 16 Oct 2025 11:32:57 +0200 (CEST) Received: by mail-pg1-f227.google.com with SMTP id 41be03b00d2f7-b6a225b7e9eso329638a12.0 for ; Thu, 16 Oct 2025 02:32:57 -0700 (PDT) DKIM-Signature: v=1; a=rsa-sha256; c=relaxed/relaxed; d=iol.unh.edu; s=unh-iol; t=1760607176; x=1761211976; darn=dpdk.org; h=references:in-reply-to:cc:to:from:subject:message-id:date:from:to :cc:subject:date:message-id:reply-to; bh=1hGLpvGL7X7X3oOBPCJfAKbbzon1/InURnSxCy1DXko=; b=OqCjds2gfdJAfCSkgGwhS9UIiY0ydQd4syR7QOA/6Zj/h6svEJ6UpScPLPCtZwoPzm JiqrbtiAgxM3xdn1AJcDMBDM6r8OKVVWNeTWY5s4AK3J2920xqGW4eRY2uTFkr53Miqf kzqmkFQ/QfsEUCLkeoqxBJfUClbpEV7fneae8= X-Google-DKIM-Signature: v=1; a=rsa-sha256; c=relaxed/relaxed; d=1e100.net; s=20230601; t=1760607176; x=1761211976; h=references:in-reply-to:cc:to:from:subject:message-id:date :x-gm-message-state:from:to:cc:subject:date:message-id:reply-to; bh=1hGLpvGL7X7X3oOBPCJfAKbbzon1/InURnSxCy1DXko=; b=J7shvtjfnUix2Qsbg7kWcxeluwl3ug7RbvT6exUYyCAvJZa2Uh4OkTbB5t/rG8tgzn Nk5+5VpqZmj1YH+xpVu4eWL3No110/IqKTlAZOskZMadMOHe3EVdIMMCPQbAiIgyiw0W WCAxWQiMc01mrvOJemelpkqMl1raNaXHrh66Tr6+i1cR8R/ZhsXMkugrswN0rYI41sIZ DfC7lMZuZHEhTaVm2jqfMYNihG1l3M4QYTHwjH031halR+bIC3U6uU4k8BWr/+sOQO0L GS2TkXEKWMucC/N69K2FE8Ml1FLZ7+i5NmG6DJbP8oxgyEJSimRF8Nvvtr9M43fJB30G /xcA== X-Gm-Message-State: AOJu0YxOqkmj0+V0jAKKMqVMjAeNGrQi3Zwe0CrAV8/nEKfho6LKhME8 bruJlIdl8fKnFXtkwaOcrBWmv6WG2D0wbj9eNVQb7ghfbCP1G+eH4UW/xr5BP1kLwLEhGMNaRJ7 /9fMli3ocO33ydTs00/TaFdlvfEHy2UpBgvNaxFmIEmF8 X-Gm-Gg: ASbGncvpZwkwP3HX5AvnHvNe9WBa48KsS9KxZiu813iGKbyR5I+QMgm3Mc/7Ug4mWB9 ffeIuhVu7LvvYuOg/ulMKyOWkZjTnSIxUulctAwd2dq1l4YGCXDnjmw8hta8VIjJnmCvy77TLo7 z6AGxvWjJwZyzixMjAUbNhwtf03gICDkcqG4BM5qj4vQr8/BpGPJfBBNOOwQioROKeznFfQasm4 YicaeJI/bJkXjLF/eO7r8ldCEx4Aq+FMgaJv99E+nYFQGOgNkrxFWn3ixH/C5JoxenBHc7kQxV9 UJNivQTUF2WIdy2nfGx8DjLREAPyer1Tq4wP0zdQSjnrVLGaTdMpe8acI/0IsjyuHLLNUJsepsW 6A3TdAJBjQrOTz13HNqQTpiwhEsI5ggU= X-Google-Smtp-Source: AGHT+IEeRRe19Bb2uUKr341GTyZWidfCGQd3SyyHoGiu9/lhKl757hM2dyaRyZBjHtfkG7O3GbwgPxxb72Z8 X-Received: by 2002:a17:903:2c04:b0:28d:195a:7d79 with SMTP id d9443c01a7336-290273569aamr410645005ad.5.1760607176221; Thu, 16 Oct 2025 02:32:56 -0700 (PDT) Received: from postal.iol.unh.edu (postal.iol.unh.edu. [132.177.123.84]) by smtp-relay.gmail.com with ESMTPS id d9443c01a7336-290ab33e88fsm1650605ad.14.2025.10.16.02.32.56 (version=TLS1_2 cipher=ECDHE-ECDSA-AES128-GCM-SHA256 bits=128/128); Thu, 16 Oct 2025 02:32:56 -0700 (PDT) X-Relaying-Domain: iol.unh.edu Date: Thu, 16 Oct 2025 02:32:56 -0700 (PDT) Message-ID: <68f0bbc8.170a0220.cd217.795cSMTPIN_ADDED_MISSING@mx.google.com> Received: from [172.21.0.2] (unknown [172.18.0.240]) by postal.iol.unh.edu (Postfix) with ESMTP id 738D86051830; Thu, 16 Oct 2025 05:32:55 -0400 (EDT) Subject: |SUCCESS| pw157697-157712 [PATCH] [v13,17/17] net/nbl: add nbl devic From: dpdklab@iol.unh.edu To: Test Report Cc: dpdk-test-reports@iol.unh.edu, Stephen Hemminger In-Reply-To: <20251016080128.3133579-18-dimon.zhao@nebula-matrix.com> References: <20251016080128.3133579-18-dimon.zhao@nebula-matrix.com> Content-Type: text/plain X-BeenThere: test-report@dpdk.org X-Mailman-Version: 2.1.29 Precedence: list List-Id: automatic DPDK test reports List-Unsubscribe: , List-Archive: List-Post: List-Help: List-Subscribe: , Errors-To: test-report-bounces@dpdk.org Test-Label: iol-unit-amd64-testing Test-Status: SUCCESS http://dpdk.org/patch/157712 _Testing PASS_ Submitter: Dimon Zhao Date: Thursday, October 16 2025 08:01:28 DPDK git baseline: Repo:dpdk-next-net Branch: master CommitID:791cea04798a8e2de014b99c009cd25b5929000a 157697-157712 --> testing pass Upstream job id: Generic-Unit-Test-DPDK#382153 Test environment and result as below: +-------------------------------+----------------+ | Environment | dpdk_unit_test | +===============================+================+ | CentOS Stream 9 | PASS | +-------------------------------+----------------+ | CentOS Stream 10 | PASS | +-------------------------------+----------------+ | Debian GNU/Linux 12 | PASS | +-------------------------------+----------------+ | Fedora Linux 40 | PASS | +-------------------------------+----------------+ | Fedora Linux 42 | PASS | +-------------------------------+----------------+ | Fedora Linux 41 | PASS | +-------------------------------+----------------+ | Ubuntu 20.04 | PASS | +-------------------------------+----------------+ | Red Hat Enterprise Linux 9.5 | PASS | +-------------------------------+----------------+ | Red Hat Enterprise Linux 8.10 | PASS | +-------------------------------+----------------+ | Ubuntu 22.04 | PASS | +-------------------------------+----------------+ | Ubuntu 24.04 | PASS | +-------------------------------+----------------+ CentOS Stream 9 Kernel: 5.15 Compiler: gcc gcc (GCC) 11.5.0 20240719 (Red Hat 11.5.0-11) CentOS Stream 10 Kernel: 5.15 Compiler: gcc gcc (GCC) 14.2.1 20250110 (Red Hat 14.2.1-8) Debian GNU/Linux 12 Kernel: 5.15 Compiler: gcc gcc (Debian 12.2.0-14+deb12u1) 12.2.0 Fedora Linux 40 Kernel: 5.15 Compiler: gcc gcc (GCC) 14.2.1 20240912 (Red Hat 14.2.1-3) Fedora Linux 42 Kernel: 5.15 Compiler: clang gcc (GCC) 15.2.1 20250808 (Red Hat 15.2.1-1) Fedora Linux 41 Kernel: 5.15 Compiler: gcc gcc (GCC) 14.3.1 20250523 (Red Hat 14.3.1-1) Ubuntu 20.04 Kernel: 5.15 Compiler: gcc gcc (Ubuntu 9.4.0-1ubuntu1~20.04.2) 9.4.0 Red Hat Enterprise Linux 9.5 Kernel: 5.15 Compiler: gcc gcc (GCC) 11.5.0 20240719 (Red Hat 11.5.0-2) Red Hat Enterprise Linux 8.10 Kernel: 5.15 Compiler: gcc gcc (GCC) 8.5.0 20210514 (Red Hat 8.5.0-22) Ubuntu 22.04 Kernel: 5.15 Compiler: gcc gcc (Ubuntu 11.4.0-1ubuntu1~22.04) 11.4.0 Ubuntu 24.04 Kernel: 5.15 Compiler: gcc gcc (Ubuntu 13.3.0-6ubuntu2~24.04) 13.3.0 To view detailed results, visit: https://lab.dpdk.org/results/dashboard/patchsets/34295/ UNH-IOL DPDK Community Lab To manage your email subscriptions, visit: https://lab.dpdk.org/results/dashboard/preferences/subscriptions/