From mboxrd@z Thu Jan 1 00:00:00 1970 Return-Path: Received: from mails.dpdk.org (mails.dpdk.org [217.70.189.124]) by inbox.dpdk.org (Postfix) with ESMTP id B77EE4894F for ; Thu, 16 Oct 2025 11:34:33 +0200 (CEST) Received: from mails.dpdk.org (localhost [127.0.0.1]) by mails.dpdk.org (Postfix) with ESMTP id B242F40269; Thu, 16 Oct 2025 11:34:33 +0200 (CEST) Received: from mail-pl1-f226.google.com (mail-pl1-f226.google.com [209.85.214.226]) by mails.dpdk.org (Postfix) with ESMTP id 01BA440269 for ; Thu, 16 Oct 2025 11:34:33 +0200 (CEST) Received: by mail-pl1-f226.google.com with SMTP id d9443c01a7336-27d4d6b7ab5so6714565ad.2 for ; Thu, 16 Oct 2025 02:34:32 -0700 (PDT) DKIM-Signature: v=1; a=rsa-sha256; c=relaxed/relaxed; d=iol.unh.edu; s=unh-iol; t=1760607272; x=1761212072; darn=dpdk.org; h=references:in-reply-to:cc:to:from:subject:message-id:date:from:to :cc:subject:date:message-id:reply-to; bh=B12oOYEGcPaAzA9s9LOVTX5zR9FIwtm4/Kh/KtJLoUM=; b=jIIDDZESWS/ykec3wgKliv3xaD6urvbNATQsjzFFtd50FDnOnBgRoKRKrTFW1tn09G btVXObz2hq597fTy/ASvS4C5MmHJH9+fR68s0d3SUST4uMepnDDGcxZl5g1r4JCtimQ4 EUNDDisJI3AUc/VDdlGEtq15/Z07pu5gh8mNw= X-Google-DKIM-Signature: v=1; a=rsa-sha256; c=relaxed/relaxed; d=1e100.net; s=20230601; t=1760607272; x=1761212072; h=references:in-reply-to:cc:to:from:subject:message-id:date :x-gm-message-state:from:to:cc:subject:date:message-id:reply-to; bh=B12oOYEGcPaAzA9s9LOVTX5zR9FIwtm4/Kh/KtJLoUM=; b=YhBvhwAK+J+sVl6TEc3jjescPDydwPVLlRmuOqScYLWmXhfPcVLZfPSN2s74ZCqJoN WQciylxPeN+KaaF09GPEQKOcUt1fxBp9GXJGMko/McVpxbq4QsVSjffudT0pHsFzrzyq iSpvWnBbmW/YmwDIxN6mzTzKJmSeNdsBgw1rPhRr9ct33uPJokXndMniQitqvhyq3Ine DBy1iBW0jjAXICHnTiM6//DsdkboAo3s3wJJ6QI0p001Wm7LeSMPjq1somlKVw7DskHG PUMKaGuB6LlOJLo6RFUVPt7uTCiBClRFXdCWTdTc6XSYMWyKnqgY0h8fHe+DN+3uMU+y kZ/g== X-Gm-Message-State: AOJu0YwyCTkNCBdovj3M+Exa0nSV73I3t41nVe/qY91UoOC35QMc8O97 +anOBcr8PI1yUbyHy7hUfHrdhoN1W59766OpvG6+HZORpcF8+FQOpPDl/Iw7bNq1QvkxtxuYLrw EKNjO/IBKF+DFnPLSHp2QkUfmjgxcfqt8QDn7gYKt8ai2671gu9+mn1ckyT8F X-Gm-Gg: ASbGncsgxerJN17aqzGc6enJl7GgRqLO878q9mTkjsNpGIGWt+rfzHy8qPGPoQGcAHB oJ9/mMkHR02nXPbYSv71zYEH1oLZH3880iNynqhGeA076C9vaBh9AQRunPe/lUMe/NJl2mVc6CW p/JGfxRfzADYs1aAiBWMq7Hl1n1+tGHLIIyXGCQ6jbqRDjWGXD6xU6Ip7wWsCG+kAhMcYf3wk9e gUCK32DVtLjglbA4keMKwutOhekHz5E4sBZJM1dwocubCYlsNDsWqjQPBPehXkowjfbh8j73xil Vaybk2+Cx+wRWY8g6k5Oe3Y2NMrHBuJm5/wVjbSiHFZpTLWdEzjplwPe6X7rUEwygO4ucP3e6lS Nm8WxdruZ X-Google-Smtp-Source: AGHT+IEEvfueAp7K2HRjBjo6MkNQe4ewl8623+iRUh//0Y4Mglx18ktuI1FDpIz86wzmdrR9WwVHpepEiAuC X-Received: by 2002:a17:903:2c0c:b0:24c:cae9:77bd with SMTP id d9443c01a7336-290273032d9mr408852845ad.54.1760607272167; Thu, 16 Oct 2025 02:34:32 -0700 (PDT) Received: from postal.iol.unh.edu (postal.iol.unh.edu. [2606:4100:3880:1234::84]) by smtp-relay.gmail.com with ESMTPS id d9443c01a7336-29099675019sm2767255ad.42.2025.10.16.02.34.32 (version=TLS1_2 cipher=ECDHE-ECDSA-AES128-GCM-SHA256 bits=128/128); Thu, 16 Oct 2025 02:34:32 -0700 (PDT) X-Relaying-Domain: iol.unh.edu Date: Thu, 16 Oct 2025 02:34:32 -0700 (PDT) Message-ID: <68f0bc28.170a0220.38188.ddbcSMTPIN_ADDED_MISSING@mx.google.com> Received: from [172.21.0.2] (unknown [172.18.0.240]) by postal.iol.unh.edu (Postfix) with ESMTP id 725206051835; Thu, 16 Oct 2025 05:34:31 -0400 (EDT) Subject: |WARNING| pw157695-157696 [PATCH] [v6,4/4] dma/hisi_acc: add doc From: dpdklab@iol.unh.edu To: Test Report Cc: dpdk-test-reports@iol.unh.edu In-Reply-To: <20251016025318.14333-5-fengchengwen@huawei.com> References: <20251016025318.14333-5-fengchengwen@huawei.com> Content-Type: text/plain X-BeenThere: test-report@dpdk.org X-Mailman-Version: 2.1.29 Precedence: list List-Id: automatic DPDK test reports List-Unsubscribe: , List-Archive: List-Post: List-Help: List-Subscribe: , Errors-To: test-report-bounces@dpdk.org Test-Label: iol-compile-amd64-testing Test-Status: WARNING http://dpdk.org/patch/157696 _Testing issues_ Submitter: Chengwen Feng Date: Thursday, October 16 2025 02:53:18 DPDK git baseline: Repo:dpdk Branch: master CommitID:16f4c522003dcfecf23c8d38e009b95a3bbefd03 157695-157696 --> testing issues Upstream job id: Generic-DPDK-Compile-Meson#434743 Test environment and result as below: +---------------------+--------------------+-------------------+-------------------------+----------------------+-------------------+ | Environment | dpdk_meson_compile | dpdk_msvc_compile | dpdk_llvm_clang_compile | dpdk_mingw64_compile | dpdk_compile_spdk | +=====================+====================+===================+=========================+======================+===================+ | Ubuntu 20.04 | PASS | SKIPPED | SKIPPED | SKIPPED | SKIPPED | +---------------------+--------------------+-------------------+-------------------------+----------------------+-------------------+ | FreeBSD 14.2 | PASS | SKIPPED | SKIPPED | SKIPPED | SKIPPED | +---------------------+--------------------+-------------------+-------------------------+----------------------+-------------------+ | CentOS Stream 9 | PASS | SKIPPED | SKIPPED | SKIPPED | WARN | +---------------------+--------------------+-------------------+-------------------------+----------------------+-------------------+ | CentOS Stream 10 | PASS | SKIPPED | SKIPPED | SKIPPED | SKIPPED | +---------------------+--------------------+-------------------+-------------------------+----------------------+-------------------+ | Windows Server 2022 | SKIPPED | PASS | PASS | PASS | SKIPPED | +---------------------+--------------------+-------------------+-------------------------+----------------------+-------------------+ ==== 20 line log output for CentOS Stream 9 (dpdk_compile_spdk): ==== --- Failed to get log output --- ==== End log output ==== Ubuntu 20.04 Kernel: 4.19 Compiler: gcc gcc (Ubuntu 9.4.0-1ubuntu1~20.04.2) 9.4.0 FreeBSD 14.2 Kernel: 14.2-RELEASE Compiler: clang 18.1.6 CentOS Stream 9 Kernel: 5.15 Compiler: gcc gcc (GCC) 11.5.0 20240719 (Red Hat 11.5.0-11) CentOS Stream 10 Kernel: 5.15 Compiler: gcc gcc (GCC) 14.2.1 20250110 (Red Hat 14.2.1-8) Windows Server 2022 Kernel: 10.0.20348.2031 Compiler: clang 15.0.7, gcc 14.1.0 (MinGW), and MSVC VS 19.39.33521 To view detailed results, visit: https://lab.dpdk.org/results/dashboard/patchsets/34293/ UNH-IOL DPDK Community Lab To manage your email subscriptions, visit: https://lab.dpdk.org/results/dashboard/preferences/subscriptions/