From mboxrd@z Thu Jan 1 00:00:00 1970 Return-Path: Received: from mails.dpdk.org (mails.dpdk.org [217.70.189.124]) by inbox.dpdk.org (Postfix) with ESMTP id 594064894F for ; Thu, 16 Oct 2025 11:54:38 +0200 (CEST) Received: from mails.dpdk.org (localhost [127.0.0.1]) by mails.dpdk.org (Postfix) with ESMTP id 522B641104; Thu, 16 Oct 2025 11:54:38 +0200 (CEST) Received: from mail-qv1-f98.google.com (mail-qv1-f98.google.com [209.85.219.98]) by mails.dpdk.org (Postfix) with ESMTP id 34A5A41104 for ; Thu, 16 Oct 2025 11:54:37 +0200 (CEST) Received: by mail-qv1-f98.google.com with SMTP id 6a1803df08f44-79a7d439efbso8031246d6.0 for ; Thu, 16 Oct 2025 02:54:37 -0700 (PDT) DKIM-Signature: v=1; a=rsa-sha256; c=relaxed/relaxed; d=iol.unh.edu; s=unh-iol; t=1760608476; x=1761213276; darn=dpdk.org; h=references:in-reply-to:cc:to:from:subject:message-id:date:from:to :cc:subject:date:message-id:reply-to; bh=Po/uwc/DbAylQ2zIfetXVsvQkj19pBw4rbj3qkkbHjU=; b=J1jPkq2ogZWGd0iciTgoNCrNxQiKCICiDAxy39iKsj8Q93Fbd3/V1TSFT5/Z+1N+xx IFXMYYfEpEtchHSECH4QMCzVADbT8WbQEPyi3kc/TYFs3FCoo/Ckmw05oMVjOJ8XTv2Z +yjoF3u75fTyadAir6uIbA9wgobkyc2g7vb9M= X-Google-DKIM-Signature: v=1; a=rsa-sha256; c=relaxed/relaxed; d=1e100.net; s=20230601; t=1760608476; x=1761213276; h=references:in-reply-to:cc:to:from:subject:message-id:date :x-gm-message-state:from:to:cc:subject:date:message-id:reply-to; bh=Po/uwc/DbAylQ2zIfetXVsvQkj19pBw4rbj3qkkbHjU=; b=k1mNMaCEG+VLv9eXbIEJE/3J+BozV+EjdxOKLeWTLvGX35/WUW/w9oZ8zGt+LDmAWF BwlKhqTjW4UWP3GPlpYhIookq7dSOP4WCsFZ6c5b1TRX/sUMOWj06ADbNwKhNNomEeNn 6XIqEDpwP29EEYEVcOrvKM4klog4TGl51zAoe2YXu0dy9MN3KoONBMv4FZFGsDcgIIZ4 RHGyRDNKLklHS+KD1JcbmS5rcJ6GEeAJ7odwvZZDpBR/hXfSNHyBOAddnFUXKt7Mn3BD 3drWYOwLSKU+Optni3KFKHOh7xJ8HQWCdz4UfUX9PU55dru0zRvz3AT1SRvbU2ssWJJZ axqA== X-Gm-Message-State: AOJu0YygJKBERzMQHbg2WEjT6zLRzFzxgRX6ApPWkr1w1YyJGoKJEqNy h5nzED0q5H7CM0rkILvOIeqjL0SwEz6DPAW8bxdAGd2nT8rYDR3eGVWpXIyb3bKnKbtiE0aPxqL C+rD695TBmDqK7ktRDFlvnlm43V9u9I9GtRWUSykxQ89ikLPciQS2ahId67RM X-Gm-Gg: ASbGnctN4XuvXSKlMkKC+oFk+3edyQ//b5elORKbE9mXZQyUbeYggrsCcHqm6+FhsXN 8pXxNf060iLIvukG+ilmsF2+z05zWX7yL5FFOHQNj6EOJ1ghPlG049ywJ6aZrA+Ja3J2Co+RWHU lFnqEyUdd5y54REUg+0tsVCBm5jfE6svVDdE+IFF/uw/312zqeZIWTp8QdSQZJ8/TlGOvQjlBCt qfog9rBbFFj0L4YnSzcUdfRGea2vl6OEr1to8rB8Oj3zG43vOY6ULKqEhsfroQokMZHRghpnAtz XGRcdYI3o7ikWibnBj8vv6DiS8O8NAAUV+SRsCwe1bAc+IipPE/T+5IUitmFM2CjKKpyEjlk5+D JZgc2MvuL X-Google-Smtp-Source: AGHT+IGqEpHD6Q2SfB9MMdGKiv1KBo755scd+b9Um4XMigIKxWUnaX0EHysoa8lOZbtxNXlZDW5h4HGortYO X-Received: by 2002:a05:6214:2aac:b0:783:2157:5a34 with SMTP id 6a1803df08f44-87b2f02ba73mr427672016d6.65.1760608476569; Thu, 16 Oct 2025 02:54:36 -0700 (PDT) Received: from postal.iol.unh.edu (postal.iol.unh.edu. [2606:4100:3880:1234::84]) by smtp-relay.gmail.com with ESMTPS id 6a1803df08f44-87c1118432csm1769376d6.22.2025.10.16.02.54.36 (version=TLS1_2 cipher=ECDHE-ECDSA-AES128-GCM-SHA256 bits=128/128); Thu, 16 Oct 2025 02:54:36 -0700 (PDT) X-Relaying-Domain: iol.unh.edu Date: Thu, 16 Oct 2025 02:54:36 -0700 (PDT) Message-ID: <68f0c0dc.050a0220.36eace.9e34SMTPIN_ADDED_MISSING@mx.google.com> Received: from [172.21.0.2] (unknown [172.18.0.240]) by postal.iol.unh.edu (Postfix) with ESMTP id 399D06051830; Thu, 16 Oct 2025 05:54:36 -0400 (EDT) Subject: |SUCCESS| pw157714 [PATCH] config/arm: fix inconsistency for Neovers From: dpdklab@iol.unh.edu To: Test Report Cc: dpdk-test-reports@iol.unh.edu In-Reply-To: <20251016080533.535266-1-thierry.herbelot@6wind.com> References: <20251016080533.535266-1-thierry.herbelot@6wind.com> Content-Type: text/plain X-BeenThere: test-report@dpdk.org X-Mailman-Version: 2.1.29 Precedence: list List-Id: automatic DPDK test reports List-Unsubscribe: , List-Archive: List-Post: List-Help: List-Subscribe: , Errors-To: test-report-bounces@dpdk.org Test-Label: iol-unit-amd64-testing Test-Status: SUCCESS http://dpdk.org/patch/157714 _Testing PASS_ Submitter: Thierry Herbelot Date: Thursday, October 16 2025 08:05:33 DPDK git baseline: Repo:dpdk Branch: master CommitID:16f4c522003dcfecf23c8d38e009b95a3bbefd03 157714 --> testing pass Upstream job id: Generic-VM-Unit-Test-DPDK#31841 Test environment and result as below: +-------------------------------+----------------+ | Environment | dpdk_unit_test | +===============================+================+ | Ubuntu 20.04 | PASS | +-------------------------------+----------------+ | Red Hat Enterprise Linux 8.10 | PASS | +-------------------------------+----------------+ | Fedora Linux 40 | PASS | +-------------------------------+----------------+ | Ubuntu 22.04 | PASS | +-------------------------------+----------------+ | Debian GNU/Linux 12 | PASS | +-------------------------------+----------------+ | Ubuntu 24.04 | PASS | +-------------------------------+----------------+ | Fedora Linux 42 | PASS | +-------------------------------+----------------+ | Fedora Linux 41 | PASS | +-------------------------------+----------------+ | CentOS Stream 9 | PASS | +-------------------------------+----------------+ | Red Hat Enterprise Linux 9.5 | PASS | +-------------------------------+----------------+ | CentOS Stream 10 | PASS | +-------------------------------+----------------+ | Windows Server 2022 | PASS | +-------------------------------+----------------+ Ubuntu 20.04 Kernel: 5.15 Compiler: gcc gcc (Ubuntu 9.4.0-1ubuntu1~20.04.2) 9.4.0 Red Hat Enterprise Linux 8.10 Kernel: 5.15 Compiler: gcc gcc (GCC) 8.5.0 20210514 (Red Hat 8.5.0-22) Fedora Linux 40 Kernel: 5.15 Compiler: clang gcc (GCC) 14.2.1 20240912 (Red Hat 14.2.1-3) Ubuntu 22.04 Kernel: 5.15 Compiler: gcc gcc (Ubuntu 11.4.0-1ubuntu1~22.04) 11.4.0 Debian GNU/Linux 12 Kernel: 5.15 Compiler: gcc gcc (Debian 12.2.0-14+deb12u1) 12.2.0 Ubuntu 24.04 Kernel: 5.15 Compiler: gcc gcc (Ubuntu 13.3.0-6ubuntu2~24.04) 13.3.0 Fedora Linux 42 Kernel: 5.15 Compiler: gcc gcc (GCC) 15.2.1 20250808 (Red Hat 15.2.1-1) Fedora Linux 41 Kernel: 5.15 Compiler: clang gcc (GCC) 14.3.1 20250523 (Red Hat 14.3.1-1) CentOS Stream 9 Kernel: 5.15 Compiler: gcc gcc (GCC) 11.5.0 20240719 (Red Hat 11.5.0-11) Red Hat Enterprise Linux 9.5 Kernel: 5.15 Compiler: gcc gcc (GCC) 11.5.0 20240719 (Red Hat 11.5.0-2) CentOS Stream 10 Kernel: 5.15 Compiler: gcc gcc (GCC) 14.2.1 20250110 (Red Hat 14.2.1-8) Windows Server 2022 Kernel: 10.0.20348.2031 Compiler: clang 15.0.7, gcc 14.1.0 (MinGW), and MSVC VS 19.39.33521 To view detailed results, visit: https://lab.dpdk.org/results/dashboard/patchsets/34294/ UNH-IOL DPDK Community Lab To manage your email subscriptions, visit: https://lab.dpdk.org/results/dashboard/preferences/subscriptions/