From mboxrd@z Thu Jan 1 00:00:00 1970 Return-Path: Received: from mails.dpdk.org (mails.dpdk.org [217.70.189.124]) by inbox.dpdk.org (Postfix) with ESMTP id 349BB48950 for ; Thu, 16 Oct 2025 12:06:28 +0200 (CEST) Received: from mails.dpdk.org (localhost [127.0.0.1]) by mails.dpdk.org (Postfix) with ESMTP id 2FCD140269; Thu, 16 Oct 2025 12:06:28 +0200 (CEST) Received: from mail-pg1-f227.google.com (mail-pg1-f227.google.com [209.85.215.227]) by mails.dpdk.org (Postfix) with ESMTP id 67C4940269 for ; Thu, 16 Oct 2025 12:06:26 +0200 (CEST) Received: by mail-pg1-f227.google.com with SMTP id 41be03b00d2f7-b550eff972eso341470a12.3 for ; Thu, 16 Oct 2025 03:06:26 -0700 (PDT) DKIM-Signature: v=1; a=rsa-sha256; c=relaxed/relaxed; d=iol.unh.edu; s=unh-iol; t=1760609185; x=1761213985; darn=dpdk.org; h=references:in-reply-to:cc:to:from:subject:message-id:date:from:to :cc:subject:date:message-id:reply-to; bh=S69yB9rJdKV5ywzG66HtRc+IdsGGpfMHYsJAZKBRqf0=; b=XHa5QHZElQwXfmLLstptL4Lb/hIFxiI+Ke6FxegPq1IMZpu0QtzB6ZeSmE7XhE6YAS VhtID6VBNQ1ozMT3agIX1xQ2pwmNGmSN+225xFU8ZS2mesWrLE9TqJFzVv9F8Yvn7mDw y9pGbPT3iZ0cDAqw3jjaOw3KuQ8LAPPlmlCmE= X-Google-DKIM-Signature: v=1; a=rsa-sha256; c=relaxed/relaxed; d=1e100.net; s=20230601; t=1760609185; x=1761213985; h=references:in-reply-to:cc:to:from:subject:message-id:date :x-gm-message-state:from:to:cc:subject:date:message-id:reply-to; bh=S69yB9rJdKV5ywzG66HtRc+IdsGGpfMHYsJAZKBRqf0=; b=I1eVGLMwB2aVQF4gYx7E5j0u7qSf6Em4tB8UZniVZK08R9GZWTh2Kivt1HDM+liOvx twhqMX+doGEDK1snTczf1fy5DWtiUoQ+v9QslM6h/0jnEG+PWwsrIom8QNeYYe3B9Tbj qDM9Ij2oqGRETQd18EvT9Xpd3Frse+1vSlc3osVP5TPJiCJz9V0e2668vhZxJ/P8UTUP AOUGjLIqFrm3JR+44chlAs3V2Jp/w7v8c0KxkuGXTBP15AwnIvDZ/18IQYBX7/54ve7W W8FNtaKykdXFebKuqCsrF6/QRipuSqlesBijQ/zCszNt5dilV4Nif/n2niO61vFsKopb UmKw== X-Gm-Message-State: AOJu0YzQ8Qd5vLy5VdCDrPD1ZSMXI2nGjD4fb2dAT7hDetRSDcomlx4C cdUWdiLvIFzgArPpHBEIhN6S3Ciuifb1gH085oQcQ88KpS6IrqxB0XzWyz8RULLxnA/clMLdKGq XRd3G58v57+0mdHNzce1DaBRwIj+z2/AQZEOoTwoNHubq X-Gm-Gg: ASbGnctLeS7pkeXu48EbX5w7VNOTPVV8hc2Nl7aHgTVPVpPhjjk8YvMUq1iKft6hr0I aYOqUl1TJewG81KEZY/dKgOhHJFq/eWx6H6f2+aZNC6hBXmt5dPIv3BAL5bmjAHZMr24bpffEid FhsB3ehdndvlCbEkMGkTXQmc4hcELJnDODn/eMIZmZZtkVjiBIzUz07fKwqVomvdbmbxgk32T9i 6DHg7sNjOjbHiRJKWGohLOFlqkjLx4vbv36q9DKdfDmzqZGexA7GrovYZKLSBQ7Vifkz+5pbrA0 a/2EnEgro8xUnDkidBpAaRf7CVe0mYRA+GwFgnZRMjrshtdtXRLTqAd0BpHdRfrhmkdcIznVIKD h8MuXpvd6BVMI1TneJFusK3WxvcNpVdw= X-Google-Smtp-Source: AGHT+IGbZLY25iP7oB854kFDHjUyYJLEKMUwMpXfdp8TJKnf0XpN3Suv1bTjhNVqFMzE1Wvm85JNItg1Wd55 X-Received: by 2002:a17:902:f612:b0:269:8072:5be7 with SMTP id d9443c01a7336-29027303931mr404841525ad.56.1760609185241; Thu, 16 Oct 2025 03:06:25 -0700 (PDT) Received: from postal.iol.unh.edu (postal.iol.unh.edu. [132.177.123.84]) by smtp-relay.gmail.com with ESMTPS id d9443c01a7336-290996752f0sm2437365ad.44.2025.10.16.03.06.25 (version=TLS1_2 cipher=ECDHE-ECDSA-AES128-GCM-SHA256 bits=128/128); Thu, 16 Oct 2025 03:06:25 -0700 (PDT) X-Relaying-Domain: iol.unh.edu Date: Thu, 16 Oct 2025 03:06:25 -0700 (PDT) Message-ID: <68f0c3a1.170a0220.288c1b.bfe0SMTPIN_ADDED_MISSING@mx.google.com> Received: from [172.21.0.3] (unknown [172.18.0.240]) by postal.iol.unh.edu (Postfix) with ESMTP id 77DFB6051830; Thu, 16 Oct 2025 06:06:24 -0400 (EDT) Subject: |SUCCESS| pw157697-157712 [PATCH] [v13,17/17] net/nbl: add nbl devic From: dpdklab@iol.unh.edu To: Test Report Cc: dpdk-test-reports@iol.unh.edu, Stephen Hemminger In-Reply-To: <20251016080128.3133579-18-dimon.zhao@nebula-matrix.com> References: <20251016080128.3133579-18-dimon.zhao@nebula-matrix.com> Content-Type: text/plain X-BeenThere: test-report@dpdk.org X-Mailman-Version: 2.1.29 Precedence: list List-Id: automatic DPDK test reports List-Unsubscribe: , List-Archive: List-Post: List-Help: List-Subscribe: , Errors-To: test-report-bounces@dpdk.org Test-Label: iol-compile-amd64-testing Test-Status: SUCCESS http://dpdk.org/patch/157712 _Testing PASS_ Submitter: Dimon Zhao Date: Thursday, October 16 2025 08:01:28 DPDK git baseline: Repo:dpdk-next-net Branch: master CommitID:791cea04798a8e2de014b99c009cd25b5929000a 157697-157712 --> testing pass Upstream job id: Windows-Compile-DPDK-VS#7218 Test environment and result as below: +---------------------+--------------------+-------------------+ | Environment | dpdk_meson_compile | dpdk_msvc_compile | +=====================+====================+===================+ | FreeBSD 14.2 | PASS | SKIPPED | +---------------------+--------------------+-------------------+ | Ubuntu 20.04 | PASS | SKIPPED | +---------------------+--------------------+-------------------+ | Windows Server 2022 | SKIPPED | PASS | +---------------------+--------------------+-------------------+ FreeBSD 14.2 Kernel: 14.2-RELEASE Compiler: clang 18.1.6 Ubuntu 20.04 Kernel: 4.19 Compiler: gcc gcc (Ubuntu 9.4.0-1ubuntu1~20.04.2) 9.4.0 Windows Server 2022 Kernel: 10.0.20348.2031 Compiler: clang 15.0.7, gcc 14.1.0 (MinGW), and MSVC VS 19.39.33521 To view detailed results, visit: https://lab.dpdk.org/results/dashboard/patchsets/34295/ UNH-IOL DPDK Community Lab To manage your email subscriptions, visit: https://lab.dpdk.org/results/dashboard/preferences/subscriptions/