From mboxrd@z Thu Jan 1 00:00:00 1970 Return-Path: Received: from mails.dpdk.org (mails.dpdk.org [217.70.189.124]) by inbox.dpdk.org (Postfix) with ESMTP id 82D8E48950 for ; Thu, 16 Oct 2025 12:08:53 +0200 (CEST) Received: from mails.dpdk.org (localhost [127.0.0.1]) by mails.dpdk.org (Postfix) with ESMTP id 669EA40269; Thu, 16 Oct 2025 12:08:53 +0200 (CEST) Received: from mail-oa1-f99.google.com (mail-oa1-f99.google.com [209.85.160.99]) by mails.dpdk.org (Postfix) with ESMTP id D110840269 for ; Thu, 16 Oct 2025 12:08:51 +0200 (CEST) Received: by mail-oa1-f99.google.com with SMTP id 586e51a60fabf-3c96de7fe7eso375194fac.0 for ; Thu, 16 Oct 2025 03:08:51 -0700 (PDT) DKIM-Signature: v=1; a=rsa-sha256; c=relaxed/relaxed; d=iol.unh.edu; s=unh-iol; t=1760609331; x=1761214131; darn=dpdk.org; h=references:in-reply-to:cc:to:from:subject:message-id:date:from:to :cc:subject:date:message-id:reply-to; bh=O6FkIQAhdsjUE0ugEFkVlOnnv1OKucxvldfq/O60hAA=; b=DmjSRLyfAxaIqsOIf1zcvPl4F6Z8Tble6/jxNgiIi7jFF9yG4hU9qFnIpYNSE2cBEM /N6QG5i6MAdVEwvt7FJuWVoVuQlFj2Nu3K9/YM+7CFo7Z/l0KzULQk+JoPVCsCspQc1A EIMmMbdqDwZz0ROSJBuD6lJdaTVmkcsMX37pY= X-Google-DKIM-Signature: v=1; a=rsa-sha256; c=relaxed/relaxed; d=1e100.net; s=20230601; t=1760609331; x=1761214131; h=references:in-reply-to:cc:to:from:subject:message-id:date :x-gm-message-state:from:to:cc:subject:date:message-id:reply-to; bh=O6FkIQAhdsjUE0ugEFkVlOnnv1OKucxvldfq/O60hAA=; b=jmYB6oNj9UrGxVGeASjnwPyT8WzImOPNwKcb28B1J/57Wz2wqjOt6abih9A8N3Zx54 wSwkoOb9qjGjITZVKmaQ8ar94bJCjKOPywvKAQH5egH1mOwNxHUModvWnDY14ezd6PJU NJAVB0pD1SfGhZy4SdIRiL0De+1WGt6JGp9v0hDH7dqsxVzImK7+ybMalAQxCb9IRB5h UmzE2YfR0ER4U+0tkcJ21UQWEOsHhAZRK3N8sD1dQUvoEw09QqHMAXz/Ow+Kf/yjCiG/ o8x3yVkXSLkTGnHtG3v4UPAzrPFV1PzRyA0CLcrPY7x6NToaIDCxYIkJpyAQ0XRdSsVq Zqbw== X-Gm-Message-State: AOJu0YzyXHD+A7362+calJJWwsWhl0huHW+5fubf/I0sIEgtaAGKuFUK ci0zswQwCtfESVy+pOJll9xSSqWpgaeTDMklKcm20sE3t0iKj4vn9eGe1EzIxTnBQGi59a2E+zq tH1GVVre6yQanmRU1fhoDLuGkgy4wpRGoM0jwiG+tQpBhVC3E1YvUZDU1vwfP X-Gm-Gg: ASbGncsel8ENks9Se8E98NC2qWasCpruL9zwztJFpXszZDrF1L14bzKojrfrvJIX8bE 3AAn4uramWmylDBlBmPP51nrTHMhFy316SaQSgWKm0QVtu5MXjy1ZkwNiJnCLxe5+YGKG4I4fgq Itos4iVCeedQcHKRGmZs+T9meCQwxpQabLXUStouQFhRldAtL9mtX44j8+MjdX7GTIoDKSN1Reg NQuZ1eRmvP3wWbRyUMSqqMOfhpU5jvNWRRx5KvbzV045ljOBRA30QWtmJdPrJIbjgqWAToOXkHZ H4ZxQoWhMqgI4GPp3NnmIP6U0YqEpCR35VdnHcJCYiatr5OAQAWflSNUpVhytg3mEETOm56AZKN 0UUjxzyBp X-Google-Smtp-Source: AGHT+IFwhLp+nty4A+qTXwGx/slG8RzLEpcEUDzI5nRSIN9SzubSe33Rrm0SdQA5wJdpEuDfl230xQLlIfuD X-Received: by 2002:a05:6870:4589:b0:31d:6e38:e138 with SMTP id 586e51a60fabf-3c0f62f78aamr14405363fac.7.1760609330713; Thu, 16 Oct 2025 03:08:50 -0700 (PDT) Received: from postal.iol.unh.edu (postal.iol.unh.edu. [2606:4100:3880:1234::84]) by smtp-relay.gmail.com with ESMTPS id 586e51a60fabf-3c8c8b7da77sm1697891fac.8.2025.10.16.03.08.50 (version=TLS1_2 cipher=ECDHE-ECDSA-AES128-GCM-SHA256 bits=128/128); Thu, 16 Oct 2025 03:08:50 -0700 (PDT) X-Relaying-Domain: iol.unh.edu Date: Thu, 16 Oct 2025 03:08:50 -0700 (PDT) Message-ID: <68f0c432.050a0220.30ff25.3026SMTPIN_ADDED_MISSING@mx.google.com> Received: from [172.21.0.4] (unknown [172.18.0.240]) by postal.iol.unh.edu (Postfix) with ESMTP id 3FADC6051830; Thu, 16 Oct 2025 06:08:50 -0400 (EDT) Subject: |SUCCESS| pw157714 [PATCH] config/arm: fix inconsistency for Neovers From: dpdklab@iol.unh.edu To: Test Report Cc: dpdk-test-reports@iol.unh.edu In-Reply-To: <20251016080533.535266-1-thierry.herbelot@6wind.com> References: <20251016080533.535266-1-thierry.herbelot@6wind.com> Content-Type: text/plain X-BeenThere: test-report@dpdk.org X-Mailman-Version: 2.1.29 Precedence: list List-Id: automatic DPDK test reports List-Unsubscribe: , List-Archive: List-Post: List-Help: List-Subscribe: , Errors-To: test-report-bounces@dpdk.org Test-Label: iol-compile-amd64-testing Test-Status: SUCCESS http://dpdk.org/patch/157714 _Testing PASS_ Submitter: Thierry Herbelot Date: Thursday, October 16 2025 08:05:33 DPDK git baseline: Repo:dpdk Branch: master CommitID:16f4c522003dcfecf23c8d38e009b95a3bbefd03 157714 --> testing pass Upstream job id: Windows-Compile-DPDK-Native#31670 Test environment and result as below: +---------------------+--------------------+-------------------+-------------------------+----------------------+ | Environment | dpdk_meson_compile | dpdk_msvc_compile | dpdk_llvm_clang_compile | dpdk_mingw64_compile | +=====================+====================+===================+=========================+======================+ | FreeBSD 14.2 | PASS | SKIPPED | SKIPPED | SKIPPED | +---------------------+--------------------+-------------------+-------------------------+----------------------+ | Ubuntu 20.04 | PASS | SKIPPED | SKIPPED | SKIPPED | +---------------------+--------------------+-------------------+-------------------------+----------------------+ | Windows Server 2022 | SKIPPED | PASS | PASS | PASS | +---------------------+--------------------+-------------------+-------------------------+----------------------+ FreeBSD 14.2 Kernel: 14.2-RELEASE Compiler: clang 18.1.6 Ubuntu 20.04 Kernel: 4.19 Compiler: gcc gcc (Ubuntu 9.4.0-1ubuntu1~20.04.2) 9.4.0 Windows Server 2022 Kernel: 10.0.20348.2031 Compiler: clang 15.0.7, gcc 14.1.0 (MinGW), and MSVC VS 19.39.33521 To view detailed results, visit: https://lab.dpdk.org/results/dashboard/patchsets/34294/ UNH-IOL DPDK Community Lab To manage your email subscriptions, visit: https://lab.dpdk.org/results/dashboard/preferences/subscriptions/