From mboxrd@z Thu Jan 1 00:00:00 1970 Return-Path: Received: from mails.dpdk.org (mails.dpdk.org [217.70.189.124]) by inbox.dpdk.org (Postfix) with ESMTP id 436CE48950 for ; Thu, 16 Oct 2025 12:15:30 +0200 (CEST) Received: from mails.dpdk.org (localhost [127.0.0.1]) by mails.dpdk.org (Postfix) with ESMTP id 3E35B40269; Thu, 16 Oct 2025 12:15:30 +0200 (CEST) Received: from mail-il1-f228.google.com (mail-il1-f228.google.com [209.85.166.228]) by mails.dpdk.org (Postfix) with ESMTP id 2EF3240269 for ; Thu, 16 Oct 2025 12:15:25 +0200 (CEST) Received: by mail-il1-f228.google.com with SMTP id e9e14a558f8ab-430bccb567bso1635435ab.1 for ; Thu, 16 Oct 2025 03:15:25 -0700 (PDT) DKIM-Signature: v=1; a=rsa-sha256; c=relaxed/relaxed; d=iol.unh.edu; s=unh-iol; t=1760609724; x=1761214524; darn=dpdk.org; h=references:in-reply-to:cc:to:from:subject:message-id:date:from:to :cc:subject:date:message-id:reply-to; bh=Ux8Fpu483rZ3JWyN6KrDZn2iI66LiD8yAE2j7iPI/8g=; b=IE0cjXwtmBhjqhTeN2+1xKqgcsWqBPon6xhGCLWTzNKb+nJ2eWyTYt+nq6w3632GdI jRbBOGbXnULLrlkMyiDAxRCcPY/SryJKDWn0WvVhSr41Hsdtv6cIRntmAlnMuNiA0s+g mhXkGKFOm5nrEjM9yEFcFTkOR/oS4AvRZf7Nk= X-Google-DKIM-Signature: v=1; a=rsa-sha256; c=relaxed/relaxed; d=1e100.net; s=20230601; t=1760609724; x=1761214524; h=references:in-reply-to:cc:to:from:subject:message-id:date :x-gm-message-state:from:to:cc:subject:date:message-id:reply-to; bh=Ux8Fpu483rZ3JWyN6KrDZn2iI66LiD8yAE2j7iPI/8g=; b=D1erJOXIbLfPHtmZHITmM/r0URkOFe4KILDNg/fTnoQPISrx5MFZsweOfoolU5DoIs 1MmXt/8Dz23VqE0E6XGAkVB24uMHAnD0eGeHkmZJZtawJvZtvqFJHOOPukrfczkoPveA dCDe8vbsaAk7r0H2HOYDQul0m06H+Gqh7MIOi/RkpB7DCtNXujtwz63Qc4xNDf8KppDH RUKgfuTDKg43MvNijzYj1fqzEPXaTxVXmFmwJEaS3eSmqg1FvSi6Bcf+A4/VhFJC4C5d hah18RIJ1eLTDpQNFYMxCm3cQ3ZdeOztuo7km7VbZZsJyRQZlJNH7aPSNH7FUQNDaOki xWCw== X-Gm-Message-State: AOJu0YyJQHcUG6LOSa7faX337eu24+V2XWpDlDPkFulS/g00qrabufdf blT1u7uKa3PGopjqDSLmS8gpn+xHdCF2h3kF4emw/c6sywDrfFbX11WsEQC9SfoHz6PGNsQxm5y hCBa23IJbRF+qlSbA8lKKc/xgeRfykIC06Bws08sZz4hv X-Gm-Gg: ASbGncvIDx8UbhQ/wGW7AOyiSOl0Hi5n86/OZFz5KHmpH8S0dPuPoIyzV+e8a2bnjQJ q2vEDfoo34dy4A2nnIvFjr4XVoYBFhfQs/QpYi1JG6K6FnspaNSeLMyFR0gDxJt9YreEyJvvQMU kmw291Sjv0NOuEUlpN5tppSU6JOAq+JsMR3/pkcueim04VXunh+zYblWV6T0skVFXlxlhAGJ6Dj LbnR1XTPOB/VuGj0/4vmjpimpK4O1fG5HZDAdaLufEdVXN/AxbYMmIXdxX5fK/rXJdxfKDKujbx QAb+cX5BqlcScE7NTkux30IHzJwvJQbbrRMTwjJtDhWJ1ce8n4A0KZ3UEER0rqZoyJoc8KbTzIa HY3EZmwyF/AuvDYRtrjvK0mxhHKYbclA= X-Google-Smtp-Source: AGHT+IEkkE19A7q6Z5w8nQS5Ns48bz9Q91NiJthkYfgYDtC+/YJf5vhaInGBUu9es2up0zD19kpqAjjKAncJ X-Received: by 2002:a05:6e02:180e:b0:42d:840f:31a0 with SMTP id e9e14a558f8ab-42f873f9f64mr321877835ab.22.1760609724441; Thu, 16 Oct 2025 03:15:24 -0700 (PDT) Received: from postal.iol.unh.edu (postal.iol.unh.edu. [132.177.123.84]) by smtp-relay.gmail.com with ESMTPS id 8926c6da1cb9f-58f71469689sm1415239173.32.2025.10.16.03.15.24 (version=TLS1_2 cipher=ECDHE-ECDSA-AES128-GCM-SHA256 bits=128/128); Thu, 16 Oct 2025 03:15:24 -0700 (PDT) X-Relaying-Domain: iol.unh.edu Date: Thu, 16 Oct 2025 03:15:24 -0700 (PDT) Message-ID: <68f0c5bc.050a0220.135af2.5234SMTPIN_ADDED_MISSING@mx.google.com> Received: from [172.21.0.3] (unknown [172.18.0.240]) by postal.iol.unh.edu (Postfix) with ESMTP id 085706051835; Thu, 16 Oct 2025 06:15:24 -0400 (EDT) Subject: |WARNING| pw157695-157696 [PATCH] [v6,4/4] dma/hisi_acc: add doc From: dpdklab@iol.unh.edu To: Test Report Cc: dpdk-test-reports@iol.unh.edu In-Reply-To: <20251016025318.14333-5-fengchengwen@huawei.com> References: <20251016025318.14333-5-fengchengwen@huawei.com> Content-Type: text/plain X-BeenThere: test-report@dpdk.org X-Mailman-Version: 2.1.29 Precedence: list List-Id: automatic DPDK test reports List-Unsubscribe: , List-Archive: List-Post: List-Help: List-Subscribe: , Errors-To: test-report-bounces@dpdk.org Test-Label: iol-compile-amd64-testing Test-Status: WARNING http://dpdk.org/patch/157696 _Testing issues_ Submitter: Chengwen Feng Date: Thursday, October 16 2025 02:53:18 DPDK git baseline: Repo:dpdk Branch: master CommitID:16f4c522003dcfecf23c8d38e009b95a3bbefd03 157695-157696 --> testing issues Upstream job id: Generic-DPDK-Compile-Meson#434745 Test environment and result as below: +---------------------+--------------------+-------------------+-------------------------+----------------------+-------------------+ | Environment | dpdk_meson_compile | dpdk_msvc_compile | dpdk_llvm_clang_compile | dpdk_mingw64_compile | dpdk_compile_spdk | +=====================+====================+===================+=========================+======================+===================+ | Ubuntu 20.04 | PASS | SKIPPED | SKIPPED | SKIPPED | SKIPPED | +---------------------+--------------------+-------------------+-------------------------+----------------------+-------------------+ | FreeBSD 14.2 | PASS | SKIPPED | SKIPPED | SKIPPED | SKIPPED | +---------------------+--------------------+-------------------+-------------------------+----------------------+-------------------+ | CentOS Stream 9 | PASS | SKIPPED | SKIPPED | SKIPPED | WARN | +---------------------+--------------------+-------------------+-------------------------+----------------------+-------------------+ | CentOS Stream 10 | PASS | SKIPPED | SKIPPED | SKIPPED | SKIPPED | +---------------------+--------------------+-------------------+-------------------------+----------------------+-------------------+ | Debian GNU/Linux 12 | PASS | SKIPPED | SKIPPED | SKIPPED | WARN | +---------------------+--------------------+-------------------+-------------------------+----------------------+-------------------+ | Windows Server 2022 | SKIPPED | PASS | PASS | PASS | SKIPPED | +---------------------+--------------------+-------------------+-------------------------+----------------------+-------------------+ ==== 20 line log output for Debian GNU/Linux 12 (dpdk_compile_spdk): ==== --- Failed to get log output --- ==== End log output ==== Ubuntu 20.04 Kernel: 4.19 Compiler: gcc gcc (Ubuntu 9.4.0-1ubuntu1~20.04.2) 9.4.0 FreeBSD 14.2 Kernel: 14.2-RELEASE Compiler: clang 18.1.6 CentOS Stream 9 Kernel: 5.15 Compiler: gcc gcc (GCC) 11.5.0 20240719 (Red Hat 11.5.0-11) CentOS Stream 10 Kernel: 5.15 Compiler: gcc gcc (GCC) 14.2.1 20250110 (Red Hat 14.2.1-8) Debian GNU/Linux 12 Kernel: 5.15 Compiler: gcc gcc (Debian 12.2.0-14+deb12u1) 12.2.0 Windows Server 2022 Kernel: 10.0.20348.2031 Compiler: clang 15.0.7, gcc 14.1.0 (MinGW), and MSVC VS 19.39.33521 To view detailed results, visit: https://lab.dpdk.org/results/dashboard/patchsets/34293/ UNH-IOL DPDK Community Lab To manage your email subscriptions, visit: https://lab.dpdk.org/results/dashboard/preferences/subscriptions/