From mboxrd@z Thu Jan 1 00:00:00 1970 Return-Path: Received: from mails.dpdk.org (mails.dpdk.org [217.70.189.124]) by inbox.dpdk.org (Postfix) with ESMTP id E1AF348950 for ; Thu, 16 Oct 2025 12:17:51 +0200 (CEST) Received: from mails.dpdk.org (localhost [127.0.0.1]) by mails.dpdk.org (Postfix) with ESMTP id DBE4C40269; Thu, 16 Oct 2025 12:17:51 +0200 (CEST) Received: from mail-pf1-f228.google.com (mail-pf1-f228.google.com [209.85.210.228]) by mails.dpdk.org (Postfix) with ESMTP id 274F840269 for ; Thu, 16 Oct 2025 12:17:51 +0200 (CEST) Received: by mail-pf1-f228.google.com with SMTP id d2e1a72fcca58-7810289cd4bso590849b3a.2 for ; Thu, 16 Oct 2025 03:17:51 -0700 (PDT) DKIM-Signature: v=1; a=rsa-sha256; c=relaxed/relaxed; d=iol.unh.edu; s=unh-iol; t=1760609870; x=1761214670; darn=dpdk.org; h=references:in-reply-to:cc:to:from:subject:message-id:date:from:to :cc:subject:date:message-id:reply-to; bh=Wz7fHgZHQTkMyxdyyf/AgXAx+yew/HYoP3NaqmG3k7M=; b=Hhy+vpUkyEX8LHOesN4UmD+GNxRud/agd9x2jIj/pc+8Ge8sx9LvYmZht58RNp3jzi 998yTZIr0uWh3zP5fwzf732z+ujMP7BHTdRzcVexv6O4jVE1YXjosnaZzk+yEEIDpvdt eMOaho3tRSVqHZu8q2jNHAbLn1SlqxwscdBQM= X-Google-DKIM-Signature: v=1; a=rsa-sha256; c=relaxed/relaxed; d=1e100.net; s=20230601; t=1760609870; x=1761214670; h=references:in-reply-to:cc:to:from:subject:message-id:date :x-gm-message-state:from:to:cc:subject:date:message-id:reply-to; bh=Wz7fHgZHQTkMyxdyyf/AgXAx+yew/HYoP3NaqmG3k7M=; b=coYZ54mY69zo5cDtgDdkU19fZ6RvZcU4TR4+8pLR1Y22JjPoXn3xOyXLno5Niyhu9J 4mWOQQTri3jQeQQ2JF7BGAcejy3VGQELIIbLPJFnT+vL0UYD5jeH7OEAAlkBL1wTo5P9 N3uNJPYfRv5LjOQhECRceFw9aRRqSV+7ywvU3Pk1TzjNeyC5TB97s1R9+X86F5TLQ51X rS1uICZhDOm0+q7eyFo/hWloxuKRMf89AM/RN2Fdz/JbejcIcvyF5iOn7ilaTpTf/SFM kwt6fHrqwAemtFzH6GtQhy5HCHzk0QVLeUV/flTWAXn9z4kmu8gTZRc3yFaFTl9qXxUH hUhg== X-Gm-Message-State: AOJu0YyzTniekLCDzf7gYcQot21SQSGBy6IbGvdhUUJ3jYI7CpDUxdom jpRiCXNRAvE8Z2XImscZ7nqle+poOAFGsqCzT41EI5y9XRNvSOCPHPzf0wLe9jr5o1dCbeQebCl cdG1Qrwq1hxR+cQeC/YCkBEGT13mFhAwyCCo1/N6Tk+nZ X-Gm-Gg: ASbGncvCKp+Gi1olQF8Xnva/iKWJOUYV0Wz17gOgUrynNYPVksQS50y82wHJ8xFqnfM /A3o7+lrxmm/M6JtoZYpu/ICpJe+/2BFZU0GnT3zbOFJUmoP4Jyn0qNlyXE7yVAiwRI/KZlsJW8 Q8NxSVxz3nk70wcYVpTe35u5tGp3bQq4HZhLFcj2oFPy52JkT3iwmaA94lNE9TwGf4OFEhvOdcJ Hxbyk4OXm0lG0w+iqkiFeNWGJ4OKv7KJgROCzx2+80GNbDMl7pLlmdAJa1DFdxrgvhOSf2F+nmw K5l9izwkNo1j0u6R7jqoExYNSY0HERv6u0Nia/USdIUkMI753xdVBDlsVsVAt3olOCmaJ30wZbu rXxxhikN2pneIX+SGAo3sQZ+IiO4BrUs= X-Google-Smtp-Source: AGHT+IGjetrIkXbLryeQ4Uq/OOLvGPhrQdIO5hUYUWNOnFj4AYEGTWsBcQ84NSXf9y89VhshBq5JO8MfR7ph X-Received: by 2002:a05:6a00:234b:b0:781:8680:3175 with SMTP id d2e1a72fcca58-79387146c19mr36198904b3a.21.1760609870356; Thu, 16 Oct 2025 03:17:50 -0700 (PDT) Received: from postal.iol.unh.edu (postal.iol.unh.edu. [132.177.123.84]) by smtp-relay.gmail.com with ESMTPS id d2e1a72fcca58-7993086358fsm1718544b3a.7.2025.10.16.03.17.50 (version=TLS1_2 cipher=ECDHE-ECDSA-AES128-GCM-SHA256 bits=128/128); Thu, 16 Oct 2025 03:17:50 -0700 (PDT) X-Relaying-Domain: iol.unh.edu Date: Thu, 16 Oct 2025 03:17:50 -0700 (PDT) Message-ID: <68f0c64e.050a0220.39bb23.403fSMTPIN_ADDED_MISSING@mx.google.com> Received: from [172.21.0.3] (unknown [172.18.0.240]) by postal.iol.unh.edu (Postfix) with ESMTP id 58BEC6051830; Thu, 16 Oct 2025 06:17:48 -0400 (EDT) Subject: |SUCCESS| pw157697-157712 [PATCH] [v13,17/17] net/nbl: add nbl devic From: dpdklab@iol.unh.edu To: Test Report Cc: dpdk-test-reports@iol.unh.edu, Stephen Hemminger In-Reply-To: <20251016080128.3133579-18-dimon.zhao@nebula-matrix.com> References: <20251016080128.3133579-18-dimon.zhao@nebula-matrix.com> Content-Type: text/plain X-BeenThere: test-report@dpdk.org X-Mailman-Version: 2.1.29 Precedence: list List-Id: automatic DPDK test reports List-Unsubscribe: , List-Archive: List-Post: List-Help: List-Subscribe: , Errors-To: test-report-bounces@dpdk.org Test-Label: iol-unit-amd64-testing Test-Status: SUCCESS http://dpdk.org/patch/157712 _Testing PASS_ Submitter: Dimon Zhao Date: Thursday, October 16 2025 08:01:28 DPDK git baseline: Repo:dpdk-next-net Branch: master CommitID:791cea04798a8e2de014b99c009cd25b5929000a 157697-157712 --> testing pass Upstream job id: Generic-VM-Unit-Test-DPDK#31842 Test environment and result as below: +-------------------------------+----------------+ | Environment | dpdk_unit_test | +===============================+================+ | CentOS Stream 9 | PASS | +-------------------------------+----------------+ | CentOS Stream 10 | PASS | +-------------------------------+----------------+ | Debian GNU/Linux 12 | PASS | +-------------------------------+----------------+ | Fedora Linux 40 | PASS | +-------------------------------+----------------+ | Fedora Linux 42 | PASS | +-------------------------------+----------------+ | Fedora Linux 41 | PASS | +-------------------------------+----------------+ | Ubuntu 20.04 | PASS | +-------------------------------+----------------+ | Red Hat Enterprise Linux 9.5 | PASS | +-------------------------------+----------------+ | Red Hat Enterprise Linux 8.10 | PASS | +-------------------------------+----------------+ | Ubuntu 22.04 | PASS | +-------------------------------+----------------+ | Ubuntu 24.04 | PASS | +-------------------------------+----------------+ | Windows Server 2022 | PASS | +-------------------------------+----------------+ CentOS Stream 9 Kernel: 5.15 Compiler: gcc gcc (GCC) 11.5.0 20240719 (Red Hat 11.5.0-11) CentOS Stream 10 Kernel: 5.15 Compiler: gcc gcc (GCC) 14.2.1 20250110 (Red Hat 14.2.1-8) Debian GNU/Linux 12 Kernel: 5.15 Compiler: gcc gcc (Debian 12.2.0-14+deb12u1) 12.2.0 Fedora Linux 40 Kernel: 5.15 Compiler: gcc gcc (GCC) 14.2.1 20240912 (Red Hat 14.2.1-3) Fedora Linux 42 Kernel: 5.15 Compiler: clang gcc (GCC) 15.2.1 20250808 (Red Hat 15.2.1-1) Fedora Linux 41 Kernel: 5.15 Compiler: gcc gcc (GCC) 14.3.1 20250523 (Red Hat 14.3.1-1) Ubuntu 20.04 Kernel: 5.15 Compiler: gcc gcc (Ubuntu 9.4.0-1ubuntu1~20.04.2) 9.4.0 Red Hat Enterprise Linux 9.5 Kernel: 5.15 Compiler: gcc gcc (GCC) 11.5.0 20240719 (Red Hat 11.5.0-2) Red Hat Enterprise Linux 8.10 Kernel: 5.15 Compiler: gcc gcc (GCC) 8.5.0 20210514 (Red Hat 8.5.0-22) Ubuntu 22.04 Kernel: 5.15 Compiler: gcc gcc (Ubuntu 11.4.0-1ubuntu1~22.04) 11.4.0 Ubuntu 24.04 Kernel: 5.15 Compiler: gcc gcc (Ubuntu 13.3.0-6ubuntu2~24.04) 13.3.0 Windows Server 2022 Kernel: 10.0.20348.2031 Compiler: clang 15.0.7, gcc 14.1.0 (MinGW), and MSVC VS 19.39.33521 To view detailed results, visit: https://lab.dpdk.org/results/dashboard/patchsets/34295/ UNH-IOL DPDK Community Lab To manage your email subscriptions, visit: https://lab.dpdk.org/results/dashboard/preferences/subscriptions/