From mboxrd@z Thu Jan 1 00:00:00 1970 Return-Path: Received: from mails.dpdk.org (mails.dpdk.org [217.70.189.124]) by inbox.dpdk.org (Postfix) with ESMTP id 4DBF548950 for ; Thu, 16 Oct 2025 12:26:25 +0200 (CEST) Received: from mails.dpdk.org (localhost [127.0.0.1]) by mails.dpdk.org (Postfix) with ESMTP id 48C3340269; Thu, 16 Oct 2025 12:26:25 +0200 (CEST) Received: from mail-qk1-f227.google.com (mail-qk1-f227.google.com [209.85.222.227]) by mails.dpdk.org (Postfix) with ESMTP id E941440269 for ; Thu, 16 Oct 2025 12:26:23 +0200 (CEST) Received: by mail-qk1-f227.google.com with SMTP id af79cd13be357-883902b96c3so51884285a.1 for ; Thu, 16 Oct 2025 03:26:23 -0700 (PDT) DKIM-Signature: v=1; a=rsa-sha256; c=relaxed/relaxed; d=iol.unh.edu; s=unh-iol; t=1760610383; x=1761215183; darn=dpdk.org; h=references:in-reply-to:cc:to:from:subject:message-id:date:from:to :cc:subject:date:message-id:reply-to; bh=TeA3wUl3jJ7DfHj0fY00x0OVKlrll5lEIMpxOeKOJv8=; b=i/Bo+YbAZAHNh2+p0t7rGLTdP7aY22Y62nSii1Per4sg/sc5W7NdX4I0gcJ9z3fJSy CNKYzyKpERoOuhA3GoCdEpm8cuzmrwjlU86M31Sy0iatu5ssT3v2qHHjuXbIBEusc1MP LLDTSL8cKXghXhSHuonC4h1ycC++PeukR1K1I= X-Google-DKIM-Signature: v=1; a=rsa-sha256; c=relaxed/relaxed; d=1e100.net; s=20230601; t=1760610383; x=1761215183; h=references:in-reply-to:cc:to:from:subject:message-id:date :x-gm-message-state:from:to:cc:subject:date:message-id:reply-to; bh=TeA3wUl3jJ7DfHj0fY00x0OVKlrll5lEIMpxOeKOJv8=; b=eFOHHWwr6y55TjATkdL7rtvFf49B7y/OuOnZ8x+7M4sKqTPHx7q42dCGGMVzW0QP9i jYWOMzF+61KkW3DyCNIaKiEDeCqjEn7EceCPKVKUSPhwvYuLkbLsnnAcQneHBsw/vHu0 YjyWguPcRQhJL8NAlFPD6XyRYoZVUcUTL85gHPkhQSIMAeuiSWHfxBYr0I/H+s1M6vZT fWc6bjh8G3v6/j2Xq19FGZCgJf53fFxpgoTDVTtPLSmt2eXHp5my8Et41+MK8cVKR9je DbhpI7/3mNd2nb007eCiPFAcl3BB++P2iqZ43o66ipRUyHLq74O9XX6uE7MrFKVy/dkH RFRA== X-Gm-Message-State: AOJu0YyQGp7RAgwL4MVuT4DRXZJILJSL2bKnEWZzqwkeJ/MYdTVZDszO q9arLPiPQeYN1TvxE54yPCYnz5tDWuOhO1E/9DqXCnfSIJOKqyNIrKo4EKXl+fHs/JVzyanVTSb 7lzIIpORu7zyUu3Av4k17kztAK3SG1ZmD1sZuvdFjzBz2 X-Gm-Gg: ASbGnctdyPIT8UWGIWQKDgZtcuuathC/J+PLal8YTe+QL8hHpAg/wpqBGm3BH6QRdd/ kv1s9Y5xWoIv/8eQ/YtOOZSOHDk+3pz0cfvE+fGp5YmJjOcuASRIBrIX3Pa8BrGN471AnHescJO lFlP9glGFclfPr9Qpx+cjfVIfM5zA7yiO3CTIc9JiM48J6zupTdCsoNL1hFAtmPQmv7Qq2E2P5W aVXHX5YOuRrDK4/m3+uvM6/3G4e6q8PQwKUNACiLOAv5CvTqPHiXyGjh/+7iU2+a8DmSHg8w9iS aaxhIdYcB5XoJW3eLC69yoSgiNo1IH49zzaXF4wa5XmrKb8D21UMb6KE+8NkT/y0FwVhwvB0TfV gt85zExIgELFXkqHofatcVK1uXAmE2V0= X-Google-Smtp-Source: AGHT+IHxDZidWvD34boJAhLNbyWmTle80pGv1BV+kmz7ibAPJTLEUsqy0e9bzc3MY560hTwMBompJ0j1X9z8 X-Received: by 2002:a05:620a:404c:b0:847:e621:9f92 with SMTP id af79cd13be357-883570cf8d0mr3887627985a.83.1760610383051; Thu, 16 Oct 2025 03:26:23 -0700 (PDT) Received: from postal.iol.unh.edu (postal.iol.unh.edu. [132.177.123.84]) by smtp-relay.gmail.com with ESMTPS id af79cd13be357-88f35872737sm17511985a.1.2025.10.16.03.26.22 (version=TLS1_2 cipher=ECDHE-ECDSA-AES128-GCM-SHA256 bits=128/128); Thu, 16 Oct 2025 03:26:23 -0700 (PDT) X-Relaying-Domain: iol.unh.edu Date: Thu, 16 Oct 2025 03:26:23 -0700 (PDT) Message-ID: <68f0c84f.050a0220.2f26dd.8a7dSMTPIN_ADDED_MISSING@mx.google.com> Received: from [172.21.0.2] (unknown [172.18.0.240]) by postal.iol.unh.edu (Postfix) with ESMTP id BD1516051830; Thu, 16 Oct 2025 06:26:22 -0400 (EDT) Subject: |SUCCESS| pw157716-157715 [PATCH] [v1,2/2] benchmark report for rte_ From: dpdklab@iol.unh.edu To: Test Report Cc: dpdk-test-reports@iol.unh.edu In-Reply-To: <20251016090934.1166954-3-chen.qiguo@zte.com.cn> References: <20251016090934.1166954-3-chen.qiguo@zte.com.cn> Content-Type: text/plain X-BeenThere: test-report@dpdk.org X-Mailman-Version: 2.1.29 Precedence: list List-Id: automatic DPDK test reports List-Unsubscribe: , List-Archive: List-Post: List-Help: List-Subscribe: , Errors-To: test-report-bounces@dpdk.org Test-Label: iol-unit-amd64-testing Test-Status: SUCCESS http://dpdk.org/patch/157715 _Testing PASS_ Submitter: Qiguo Chen Date: Thursday, October 16 2025 09:09:34 DPDK git baseline: Repo:dpdk Branch: master CommitID:16f4c522003dcfecf23c8d38e009b95a3bbefd03 157716-157715 --> testing pass Upstream job id: Generic-Unit-Test-DPDK#382171 Test environment and result as below: +-------------------------------+----------------+ | Environment | dpdk_unit_test | +===============================+================+ | Debian GNU/Linux 12 | PASS | +-------------------------------+----------------+ | Fedora Linux 40 | PASS | +-------------------------------+----------------+ | Fedora Linux 41 | PASS | +-------------------------------+----------------+ | Fedora Linux 42 | PASS | +-------------------------------+----------------+ | CentOS Stream 10 | PASS | +-------------------------------+----------------+ | CentOS Stream 9 | PASS | +-------------------------------+----------------+ | Red Hat Enterprise Linux 8.10 | PASS | +-------------------------------+----------------+ | Red Hat Enterprise Linux 9.5 | PASS | +-------------------------------+----------------+ | Ubuntu 20.04 | PASS | +-------------------------------+----------------+ | Ubuntu 24.04 | PASS | +-------------------------------+----------------+ | Ubuntu 22.04 | PASS | +-------------------------------+----------------+ Debian GNU/Linux 12 Kernel: 5.15 Compiler: gcc gcc (Debian 12.2.0-14+deb12u1) 12.2.0 Fedora Linux 40 Kernel: 5.15 Compiler: clang gcc (GCC) 14.2.1 20240912 (Red Hat 14.2.1-3) Fedora Linux 41 Kernel: 5.15 Compiler: gcc gcc (GCC) 14.3.1 20250523 (Red Hat 14.3.1-1) Fedora Linux 42 Kernel: 5.15 Compiler: gcc gcc (GCC) 15.2.1 20250808 (Red Hat 15.2.1-1) CentOS Stream 10 Kernel: 5.15 Compiler: gcc gcc (GCC) 14.2.1 20250110 (Red Hat 14.2.1-8) CentOS Stream 9 Kernel: 5.15 Compiler: gcc gcc (GCC) 11.5.0 20240719 (Red Hat 11.5.0-11) Red Hat Enterprise Linux 8.10 Kernel: 5.15 Compiler: gcc gcc (GCC) 8.5.0 20210514 (Red Hat 8.5.0-22) Red Hat Enterprise Linux 9.5 Kernel: 5.15 Compiler: gcc gcc (GCC) 11.5.0 20240719 (Red Hat 11.5.0-2) Ubuntu 20.04 Kernel: 5.15 Compiler: gcc gcc (Ubuntu 9.4.0-1ubuntu1~20.04.2) 9.4.0 Ubuntu 24.04 Kernel: 5.15 Compiler: gcc gcc (Ubuntu 13.3.0-6ubuntu2~24.04) 13.3.0 Ubuntu 22.04 Kernel: 5.15 Compiler: gcc gcc (Ubuntu 11.4.0-1ubuntu1~22.04) 11.4.0 To view detailed results, visit: https://lab.dpdk.org/results/dashboard/patchsets/34296/ UNH-IOL DPDK Community Lab To manage your email subscriptions, visit: https://lab.dpdk.org/results/dashboard/preferences/subscriptions/