From mboxrd@z Thu Jan 1 00:00:00 1970 Return-Path: Received: from mails.dpdk.org (mails.dpdk.org [217.70.189.124]) by inbox.dpdk.org (Postfix) with ESMTP id 1C4F848952 for ; Thu, 16 Oct 2025 12:47:45 +0200 (CEST) Received: from mails.dpdk.org (localhost [127.0.0.1]) by mails.dpdk.org (Postfix) with ESMTP id 16A6B40269; Thu, 16 Oct 2025 12:47:45 +0200 (CEST) Received: from mail-oi1-f226.google.com (mail-oi1-f226.google.com [209.85.167.226]) by mails.dpdk.org (Postfix) with ESMTP id 1988840269 for ; Thu, 16 Oct 2025 12:47:44 +0200 (CEST) Received: by mail-oi1-f226.google.com with SMTP id 5614622812f47-4439ecf6004so59822b6e.1 for ; Thu, 16 Oct 2025 03:47:44 -0700 (PDT) DKIM-Signature: v=1; a=rsa-sha256; c=relaxed/relaxed; d=iol.unh.edu; s=unh-iol; t=1760611663; x=1761216463; darn=dpdk.org; h=references:in-reply-to:cc:to:from:subject:message-id:date:from:to :cc:subject:date:message-id:reply-to; bh=A+YcHAvhW1GpXI2A4ZLIPrtlTJZjvPmRY4Qgt+mLJh0=; b=UdaMbKLZP5QT/b+8gBPvyQ10Tnn5LBKE/kv4BrmwlzIalymKzcalvJyZZp4eFm/qaH mnRVLLK4leUoZJyZ3iuiGSibRzu1pqVodEFwsPC1YGwl9OPhXj6/sNWb9kNbL3Gje8W9 XTW1sDEKTxPfO+btiIFcZ7dcZEbYS3R0dSct8= X-Google-DKIM-Signature: v=1; a=rsa-sha256; c=relaxed/relaxed; d=1e100.net; s=20230601; t=1760611663; x=1761216463; h=references:in-reply-to:cc:to:from:subject:message-id:date :x-gm-message-state:from:to:cc:subject:date:message-id:reply-to; bh=A+YcHAvhW1GpXI2A4ZLIPrtlTJZjvPmRY4Qgt+mLJh0=; b=PyR5Fc46IfIqBcWBCj2Kmv70TqzmSA0zt1Dv5duAXnrQPRsZ+snvpwEnVAN9HYLJ0y UjatkXCB0picy/RoSPLvrXh4s4kzkvdQx6+om61Df/Z0tNk/zNK/QKvT1J1xxHauGOmh 5+nQXuoHcdUEipg/i0TmzEGIII98z2MDrE4JeY7BfVZHXlsFl5V2INZW2zuXjm2po+IB dLGaymxEcpp7/U6/VPjF7vNaRRaqHHgiI8LqOGL9uDH83noJP19ydcxWJw2vOie5u2RV ZwZN3TPM+tr71VcT39FsQQZT/gloPCcdw6QLIyvYl/+6ZTFa6RhX04fdRs9gRNeVWuT8 RPkg== X-Gm-Message-State: AOJu0Yx+Z4Xksxo29ll6gQ53QiKqnoMvEmDOjTRZHppbNetOqpW0OdDV ppz56gbRwtI/3Xm4KS32Ahk5jrSpcDo1nwlH6KGbxlPBOYQkgR4qV/k3FUghUYeTbcuHM7Q5u4b J5kX81dlO4a6SZF7D+rS7ImpP4Nu+B8D5rr/LgO2FKWXV X-Gm-Gg: ASbGncsekxkcvVBPzPaxIKeAD5lErrPmtiwJRhzpMeo6CWxCWoXNYUmKo58M9SoMxYm 68RLbMCOxWui34VvY5E8BRndMbJXHDVB65U3fwvS8KQQhr9JvXY6OHDKwoF79WzEMrzQ+YTb9um Uc4xoajitFFwY7qCI/Rkz9pU5kFE1YYQJcXSVg39N+eH8eNc2c3iTdAZ6nCyaNxPzBUiaDImrB1 Daj+Rg5iAsm+pahwcmFNmwE0Y9rMXbsFUOxC8WiXOoyDEd9daliZFXa80hQ2/9BMXE88mmEV911 vRlLMi61ReEW6MU8VhM7JxtlZC3GyYJGH4jg2K/K6/+Ntxip/e0cVu8VNt5bJJQpM7UDEsQgn59 sC2/hbjYm0ECZ5kzmurixYe/Oe+FKMSE= X-Google-Smtp-Source: AGHT+IFI+L/tUiNBhU902xVA1yrD6cbTyjw5TiQ2MpUkxtfo5zkmuxF1tT7R0qzLStURZJiS9yIe1i/+x5JF X-Received: by 2002:a05:6808:11cc:b0:441:8f74:e72 with SMTP id 5614622812f47-441fb9a0b08mr1478641b6e.26.1760611663216; Thu, 16 Oct 2025 03:47:43 -0700 (PDT) Received: from postal.iol.unh.edu (postal.iol.unh.edu. [132.177.123.84]) by smtp-relay.gmail.com with ESMTPS id 006d021491bc7-6501811bd06sm409848eaf.1.2025.10.16.03.47.43 (version=TLS1_2 cipher=ECDHE-ECDSA-AES128-GCM-SHA256 bits=128/128); Thu, 16 Oct 2025 03:47:43 -0700 (PDT) X-Relaying-Domain: iol.unh.edu Date: Thu, 16 Oct 2025 03:47:43 -0700 (PDT) Message-ID: <68f0cd4f.050a0220.2bca05.3bbbSMTPIN_ADDED_MISSING@mx.google.com> Received: from [172.21.0.2] (unknown [172.18.0.240]) by postal.iol.unh.edu (Postfix) with ESMTP id 16AFF60003F7; Thu, 16 Oct 2025 06:47:42 -0400 (EDT) Subject: |SUCCESS| pw157718 [PATCH] [v1] maintainers: update for LoongArch From: dpdklab@iol.unh.edu To: Test Report Cc: dpdk-test-reports@iol.unh.edu In-Reply-To: <20251016090948.836029-1-zhoumin@loongson.cn> References: <20251016090948.836029-1-zhoumin@loongson.cn> Content-Type: text/plain X-BeenThere: test-report@dpdk.org X-Mailman-Version: 2.1.29 Precedence: list List-Id: automatic DPDK test reports List-Unsubscribe: , List-Archive: List-Post: List-Help: List-Subscribe: , Errors-To: test-report-bounces@dpdk.org Test-Label: iol-unit-amd64-testing Test-Status: SUCCESS http://dpdk.org/patch/157718 _Testing PASS_ Submitter: Min Zhou Date: Thursday, October 16 2025 09:09:48 DPDK git baseline: Repo:dpdk Branch: master CommitID:16f4c522003dcfecf23c8d38e009b95a3bbefd03 157718 --> testing pass Upstream job id: Generic-Unit-Test-DPDK#382204 Test environment and result as below: +-------------------------------+----------------+ | Environment | dpdk_unit_test | +===============================+================+ | CentOS Stream 10 | PASS | +-------------------------------+----------------+ | CentOS Stream 9 | PASS | +-------------------------------+----------------+ | Debian GNU/Linux 12 | PASS | +-------------------------------+----------------+ | Fedora Linux 40 | PASS | +-------------------------------+----------------+ | Fedora Linux 41 | PASS | +-------------------------------+----------------+ | Fedora Linux 42 | PASS | +-------------------------------+----------------+ | Red Hat Enterprise Linux 9.5 | PASS | +-------------------------------+----------------+ | Red Hat Enterprise Linux 8.10 | PASS | +-------------------------------+----------------+ | Ubuntu 22.04 | PASS | +-------------------------------+----------------+ | Ubuntu 20.04 | PASS | +-------------------------------+----------------+ | Ubuntu 24.04 | PASS | +-------------------------------+----------------+ CentOS Stream 10 Kernel: 5.15 Compiler: gcc gcc (GCC) 14.2.1 20250110 (Red Hat 14.2.1-8) CentOS Stream 9 Kernel: 5.15 Compiler: gcc gcc (GCC) 11.5.0 20240719 (Red Hat 11.5.0-11) Debian GNU/Linux 12 Kernel: 5.15 Compiler: gcc gcc (Debian 12.2.0-14+deb12u1) 12.2.0 Fedora Linux 40 Kernel: 5.15 Compiler: gcc gcc (GCC) 14.2.1 20240912 (Red Hat 14.2.1-3) Fedora Linux 41 Kernel: 5.15 Compiler: gcc gcc (GCC) 14.3.1 20250523 (Red Hat 14.3.1-1) Fedora Linux 42 Kernel: 5.15 Compiler: gcc gcc (GCC) 15.2.1 20250808 (Red Hat 15.2.1-1) Red Hat Enterprise Linux 9.5 Kernel: 5.15 Compiler: gcc gcc (GCC) 11.5.0 20240719 (Red Hat 11.5.0-2) Red Hat Enterprise Linux 8.10 Kernel: 5.15 Compiler: gcc gcc (GCC) 8.5.0 20210514 (Red Hat 8.5.0-22) Ubuntu 22.04 Kernel: 5.15 Compiler: gcc gcc (Ubuntu 11.4.0-1ubuntu1~22.04) 11.4.0 Ubuntu 20.04 Kernel: 5.15 Compiler: gcc gcc (Ubuntu 9.4.0-1ubuntu1~20.04.2) 9.4.0 Ubuntu 24.04 Kernel: 5.15 Compiler: gcc gcc (Ubuntu 13.3.0-6ubuntu2~24.04) 13.3.0 To view detailed results, visit: https://lab.dpdk.org/results/dashboard/patchsets/34297/ UNH-IOL DPDK Community Lab To manage your email subscriptions, visit: https://lab.dpdk.org/results/dashboard/preferences/subscriptions/