From mboxrd@z Thu Jan 1 00:00:00 1970 Return-Path: Received: from mails.dpdk.org (mails.dpdk.org [217.70.189.124]) by inbox.dpdk.org (Postfix) with ESMTP id 6C4FF48952 for ; Thu, 16 Oct 2025 12:50:29 +0200 (CEST) Received: from mails.dpdk.org (localhost [127.0.0.1]) by mails.dpdk.org (Postfix) with ESMTP id 6766040269; Thu, 16 Oct 2025 12:50:29 +0200 (CEST) Received: from mail-vs1-f99.google.com (mail-vs1-f99.google.com [209.85.217.99]) by mails.dpdk.org (Postfix) with ESMTP id A31FE40269 for ; Thu, 16 Oct 2025 12:50:27 +0200 (CEST) Received: by mail-vs1-f99.google.com with SMTP id ada2fe7eead31-5d40e0106b6so200498137.2 for ; Thu, 16 Oct 2025 03:50:27 -0700 (PDT) DKIM-Signature: v=1; a=rsa-sha256; c=relaxed/relaxed; d=iol.unh.edu; s=unh-iol; t=1760611827; x=1761216627; darn=dpdk.org; h=references:in-reply-to:cc:to:from:subject:message-id:date:from:to :cc:subject:date:message-id:reply-to; bh=gYnq1Lq9HLnglAcGUSE05f5oKRFukZimAioMmTjdS0g=; b=hpyTsmHaSkLVBCTZ7NhndizVn1gu6amihYDtSsEuBkt95vN+D8s7mBcXoc58Nc3DKX +17XHUbiBx0QBjhlJlaHnWiH27c4cN7ayBlDNW4vWwImkpJ0vUD9xmW7wlHaS/7BBkrz pa2yC95dnygp+u6oQ+LeL0bHhZS5cwGJ6DFA4= X-Google-DKIM-Signature: v=1; a=rsa-sha256; c=relaxed/relaxed; d=1e100.net; s=20230601; t=1760611827; x=1761216627; h=references:in-reply-to:cc:to:from:subject:message-id:date :x-gm-message-state:from:to:cc:subject:date:message-id:reply-to; bh=gYnq1Lq9HLnglAcGUSE05f5oKRFukZimAioMmTjdS0g=; b=cAUMgJOkufX7Q336zxjbzvOnmjAY7iCuP/inXcMZLzLAEEfQ+PZ2NZxhjfhA1A+F+c iZyHdVfRwtun9bxGD3+gzpcSG4EZbOO+ATP61QAUtVG1B/APgRTxwKDzrBAU+0fzvjzS YGeO0jlGLdcX1A9ewDFMM1OU65LUFjf7fLgSvnLk0aTuDKGjH0FPllMmDRLHVMiFHjsC zsW077XkaD7iH5kYwvS5RN42g9UJPumVkcITKwAhSwtsVFYzFbNnMnIMWCXKjJETh9lG WiOCDnGxMeQoloH0rP+4GrE4pXh8aYRX5OPb5iU6+VtP7Y532YTh40cdCKancp7saPym rbQQ== X-Gm-Message-State: AOJu0Yy8cEI7p1XFAEtBFhefB9bYJ2E+7zDDTMipKXeJpllZXtB7kVsy mlxZ+Enb+T/xgB4QVakJJ7HfLs57KFHYuf0HqzJuF6W5sX+2VRGLD/mWQgRw3Jh4FNBYdNv587x tLY4YjIwnapOT+IDe4v3a46RMfwManBH8aKsn7gJs5FZn5QqK2rk/9WKtYDc8 X-Gm-Gg: ASbGncs/ZqEUYyqVoI6wN/ljVM+e0kiK0sj2FF3ogMv1L+zjTm8tQ7CrN5mtsgOkZQf iU1VVqZHVn9JUFnZdtamUY1YadQkgjy9q+0dnUdGVQPt5GVg+/qGex3TNK+rli6JSSj6V9fD46b PADCLzxNpz8AxSjNxb9HX9Ep6DJVCsqY0hO3jZTqVULRCLNWW0kUYqzXs1DV1w7DMB3+O3QvFPk +XQDXc8ktnU9f9LfirSAsRAjQhk2Hmm/OhbN+R3sQrrChold8vZ8td8KZykyq1XKLcyLsEQPSQf ewYvH4R1tO/5glzvp40c8sjv+X946NXKxwECY30o4f8zRtGJOXJZpLICr2Ia81kbEHfa4dfgujA pr0iwSkwK X-Google-Smtp-Source: AGHT+IFU+5iugEmnVcSb1K2avTAifK/sdDgDV6jF/LohsyWpX8JQuzEiGUFjByb+HDk7eJgSltRVZN/N8ajM X-Received: by 2002:a05:6102:2c16:b0:5d6:6e6:e097 with SMTP id ada2fe7eead31-5d606e6e0c7mr7679053137.33.1760611826876; Thu, 16 Oct 2025 03:50:26 -0700 (PDT) Received: from postal.iol.unh.edu (postal.iol.unh.edu. [2606:4100:3880:1234::84]) by smtp-relay.gmail.com with ESMTPS id ada2fe7eead31-5d5fc8a7539sm2278714137.3.2025.10.16.03.50.26 (version=TLS1_2 cipher=ECDHE-ECDSA-AES128-GCM-SHA256 bits=128/128); Thu, 16 Oct 2025 03:50:26 -0700 (PDT) X-Relaying-Domain: iol.unh.edu Date: Thu, 16 Oct 2025 03:50:26 -0700 (PDT) Message-ID: <68f0cdf2.050a0220.11b5b5.04ccSMTPIN_ADDED_MISSING@mx.google.com> Received: from [172.21.0.3] (unknown [172.18.0.240]) by postal.iol.unh.edu (Postfix) with ESMTP id 6A9B96051830; Thu, 16 Oct 2025 06:50:26 -0400 (EDT) Subject: |SUCCESS| pw157697-157712 [PATCH] [v13,17/17] net/nbl: add nbl devic From: dpdklab@iol.unh.edu To: Test Report Cc: dpdk-test-reports@iol.unh.edu, Stephen Hemminger In-Reply-To: <20251016080128.3133579-18-dimon.zhao@nebula-matrix.com> References: <20251016080128.3133579-18-dimon.zhao@nebula-matrix.com> Content-Type: text/plain X-BeenThere: test-report@dpdk.org X-Mailman-Version: 2.1.29 Precedence: list List-Id: automatic DPDK test reports List-Unsubscribe: , List-Archive: List-Post: List-Help: List-Subscribe: , Errors-To: test-report-bounces@dpdk.org Test-Label: iol-unit-amd64-testing Test-Status: SUCCESS http://dpdk.org/patch/157712 _Testing PASS_ Submitter: Dimon Zhao Date: Thursday, October 16 2025 08:01:28 DPDK git baseline: Repo:dpdk-next-net Branch: master CommitID:791cea04798a8e2de014b99c009cd25b5929000a 157697-157712 --> testing pass Upstream job id: Generic-VM-Unit-Test-DPDK#31843 Test environment and result as below: +-------------------------------+----------------+ | Environment | dpdk_unit_test | +===============================+================+ | CentOS Stream 9 | PASS | +-------------------------------+----------------+ | CentOS Stream 10 | PASS | +-------------------------------+----------------+ | Debian GNU/Linux 12 | PASS | +-------------------------------+----------------+ | Fedora Linux 40 | PASS | +-------------------------------+----------------+ | Fedora Linux 42 | PASS | +-------------------------------+----------------+ | Fedora Linux 41 | PASS | +-------------------------------+----------------+ | Ubuntu 20.04 | PASS | +-------------------------------+----------------+ | Red Hat Enterprise Linux 9.5 | PASS | +-------------------------------+----------------+ | Red Hat Enterprise Linux 8.10 | PASS | +-------------------------------+----------------+ | Ubuntu 22.04 | PASS | +-------------------------------+----------------+ | Ubuntu 24.04 | PASS | +-------------------------------+----------------+ | Windows Server 2022 | PASS | +-------------------------------+----------------+ CentOS Stream 9 Kernel: 5.15 Compiler: gcc gcc (GCC) 11.5.0 20240719 (Red Hat 11.5.0-11) CentOS Stream 10 Kernel: 5.15 Compiler: gcc gcc (GCC) 14.2.1 20250110 (Red Hat 14.2.1-8) Debian GNU/Linux 12 Kernel: 5.15 Compiler: gcc gcc (Debian 12.2.0-14+deb12u1) 12.2.0 Fedora Linux 40 Kernel: 5.15 Compiler: gcc gcc (GCC) 14.2.1 20240912 (Red Hat 14.2.1-3) Fedora Linux 42 Kernel: 5.15 Compiler: clang gcc (GCC) 15.2.1 20250808 (Red Hat 15.2.1-1) Fedora Linux 41 Kernel: 5.15 Compiler: gcc gcc (GCC) 14.3.1 20250523 (Red Hat 14.3.1-1) Ubuntu 20.04 Kernel: 5.15 Compiler: gcc gcc (Ubuntu 9.4.0-1ubuntu1~20.04.2) 9.4.0 Red Hat Enterprise Linux 9.5 Kernel: 5.15 Compiler: gcc gcc (GCC) 11.5.0 20240719 (Red Hat 11.5.0-2) Red Hat Enterprise Linux 8.10 Kernel: 5.15 Compiler: gcc gcc (GCC) 8.5.0 20210514 (Red Hat 8.5.0-22) Ubuntu 22.04 Kernel: 5.15 Compiler: gcc gcc (Ubuntu 11.4.0-1ubuntu1~22.04) 11.4.0 Ubuntu 24.04 Kernel: 5.15 Compiler: gcc gcc (Ubuntu 13.3.0-6ubuntu2~24.04) 13.3.0 Windows Server 2022 Kernel: 10.0.20348.2031 Compiler: clang 15.0.7, gcc 14.1.0 (MinGW), and MSVC VS 19.39.33521 To view detailed results, visit: https://lab.dpdk.org/results/dashboard/patchsets/34295/ UNH-IOL DPDK Community Lab To manage your email subscriptions, visit: https://lab.dpdk.org/results/dashboard/preferences/subscriptions/