From mboxrd@z Thu Jan 1 00:00:00 1970 Return-Path: Received: from mails.dpdk.org (mails.dpdk.org [217.70.189.124]) by inbox.dpdk.org (Postfix) with ESMTP id D7B4948952 for ; Thu, 16 Oct 2025 12:53:54 +0200 (CEST) Received: from mails.dpdk.org (localhost [127.0.0.1]) by mails.dpdk.org (Postfix) with ESMTP id B479F40269; Thu, 16 Oct 2025 12:53:54 +0200 (CEST) Received: from mail-pl1-f225.google.com (mail-pl1-f225.google.com [209.85.214.225]) by mails.dpdk.org (Postfix) with ESMTP id C060540269 for ; Thu, 16 Oct 2025 12:53:52 +0200 (CEST) Received: by mail-pl1-f225.google.com with SMTP id d9443c01a7336-290c2b6a6c2so866505ad.1 for ; Thu, 16 Oct 2025 03:53:52 -0700 (PDT) DKIM-Signature: v=1; a=rsa-sha256; c=relaxed/relaxed; d=iol.unh.edu; s=unh-iol; t=1760612032; x=1761216832; darn=dpdk.org; h=references:in-reply-to:cc:to:from:subject:message-id:date:from:to :cc:subject:date:message-id:reply-to; bh=PMC6KwzBjwZlW0WnWg/6uKpTEvhk8TWVArhVlmjeJJ8=; b=O5dFj9Q7/tgiTyirdpraZkrpQ8lNN/sIAHGXbPtNQhchIxXA3BfBRgSFfTu4mlvvY2 940cJ1dqK8Lg+ga0R74qJDJy56TG5kyKTZfv7ti1Q6wPcxXg2xy5/xnZ0wSrb+cNJWst M2aPHeo40UDrjbDWyQBqROThaFFCa5N6bHmmI= X-Google-DKIM-Signature: v=1; a=rsa-sha256; c=relaxed/relaxed; d=1e100.net; s=20230601; t=1760612032; x=1761216832; h=references:in-reply-to:cc:to:from:subject:message-id:date :x-gm-message-state:from:to:cc:subject:date:message-id:reply-to; bh=PMC6KwzBjwZlW0WnWg/6uKpTEvhk8TWVArhVlmjeJJ8=; b=RFrrg8wBNUYJQXfUQyrWja5gthkFc247McE4WZVieqap3wd+CNgTM+iPqpmBY62IVv GPI/I70imIwyWPS9bgMrUeiZ+lVk0IKL0xOezsvGtoi149eOpN75Z4cv5PEWU93fVVjE rROqrivvaQkn/SW/aWZa6bP5VWgCZL6MAhPuRCUezBubofBsZLUntbi/CQkoyF3hXmFX uP5Gdi2O/2wOpMguncAsKLQC040jXg5RdXzJy6PYSdQdtvA5R15zW8YKahJ4giZtGaYc hrZFh+tjqcCfV5F27hdJMqy1V1xG/tAwz1JsObanGRRNRwy+OV9/G+7kLq0v9vRrMT6u BVtg== X-Gm-Message-State: AOJu0Yz0o7BKbG9ZTnj9o/hsWZTxpO+LC7HVbuGDTwMa4JFk+gW+1hKA 73f7cLy+eSjvKgCxs64eNtrYxEvoWH9I7QuXPgbPD/vEOcdAvb7c4shM6MSBlkG0ZZQm0JjqcRG G1upD5KkAFEox2m3VpHQIt/gb8JJw8lo4x+iFyve6TP/H X-Gm-Gg: ASbGncsCqKdk3+69ojfiEYKT6VoCEHvOBggAOWC3l0XVj6Z2O/NfWCHeooByvBy35Qb x+krIxp8s6eE1oPHPLwWKEy+Zh0gZlvpM6s+co3pZF2c8oQYGRC7nhQ1Dzukm+LlanT7e/Yapf5 WNhqIRMcRt4pJ+EehPka9v6WUeZap6a8WKAGo153KX6n+HBqHt5KeQ9llhRHUgXpSDp060hRteb y4nJFR418kn6HuLjcHDjLjPjGVR8QgLmx3SWJSW+if9y30XZwz3uKBg1xfivkYC9l05vlpJu12L 1z3FIcOjD8kgMqkDXQiT7tiWg2UjKhRkAjWaW1EaJWBuMoJ4gzVvEB14KnwmehbRXVGMDQL/yVS Gw0lq1rXFn+YL7eaJcMa8VehSKLFuR/w= X-Google-Smtp-Source: AGHT+IFWuDBGXpAaFtcweBwicpa8eO8b97e3JHCW7/1BWZ+D6BR0HbeFYsARLTOE75SmBvQxM7nqDqLlERGq X-Received: by 2002:a17:902:dace:b0:290:ac36:2ed8 with SMTP id d9443c01a7336-290ac36326bmr20691505ad.24.1760612031972; Thu, 16 Oct 2025 03:53:51 -0700 (PDT) Received: from postal.iol.unh.edu (postal.iol.unh.edu. [132.177.123.84]) by smtp-relay.gmail.com with ESMTPS id d9443c01a7336-290996773ebsm2683225ad.33.2025.10.16.03.53.51 (version=TLS1_2 cipher=ECDHE-ECDSA-AES128-GCM-SHA256 bits=128/128); Thu, 16 Oct 2025 03:53:51 -0700 (PDT) X-Relaying-Domain: iol.unh.edu Date: Thu, 16 Oct 2025 03:53:51 -0700 (PDT) Message-ID: <68f0cebf.170a0220.36c790.d1c8SMTPIN_ADDED_MISSING@mx.google.com> Received: from [172.21.0.3] (unknown [172.18.0.240]) by postal.iol.unh.edu (Postfix) with ESMTP id 3FE086051830; Thu, 16 Oct 2025 06:53:51 -0400 (EDT) Subject: |WARNING| pw157695-157696 [PATCH] [v6,4/4] dma/hisi_acc: add doc From: dpdklab@iol.unh.edu To: Test Report Cc: dpdk-test-reports@iol.unh.edu In-Reply-To: <20251016025318.14333-5-fengchengwen@huawei.com> References: <20251016025318.14333-5-fengchengwen@huawei.com> Content-Type: text/plain X-BeenThere: test-report@dpdk.org X-Mailman-Version: 2.1.29 Precedence: list List-Id: automatic DPDK test reports List-Unsubscribe: , List-Archive: List-Post: List-Help: List-Subscribe: , Errors-To: test-report-bounces@dpdk.org Test-Label: iol-compile-amd64-testing Test-Status: WARNING http://dpdk.org/patch/157696 _Testing issues_ Submitter: Chengwen Feng Date: Thursday, October 16 2025 02:53:18 DPDK git baseline: Repo:dpdk Branch: master CommitID:16f4c522003dcfecf23c8d38e009b95a3bbefd03 157695-157696 --> testing issues Upstream job id: Generic-DPDK-Compile-Meson#434746 Test environment and result as below: +---------------------+--------------------+-------------------+-------------------------+----------------------+-------------------+------------------+ | Environment | dpdk_meson_compile | dpdk_msvc_compile | dpdk_llvm_clang_compile | dpdk_mingw64_compile | dpdk_compile_spdk | dpdk_compile_ovs | +=====================+====================+===================+=========================+======================+===================+==================+ | Ubuntu 20.04 | PASS | SKIPPED | SKIPPED | SKIPPED | SKIPPED | SKIPPED | +---------------------+--------------------+-------------------+-------------------------+----------------------+-------------------+------------------+ | FreeBSD 14.2 | PASS | SKIPPED | SKIPPED | SKIPPED | SKIPPED | SKIPPED | +---------------------+--------------------+-------------------+-------------------------+----------------------+-------------------+------------------+ | CentOS Stream 9 | PASS | SKIPPED | SKIPPED | SKIPPED | WARN | SKIPPED | +---------------------+--------------------+-------------------+-------------------------+----------------------+-------------------+------------------+ | CentOS Stream 10 | PASS | SKIPPED | SKIPPED | SKIPPED | SKIPPED | SKIPPED | +---------------------+--------------------+-------------------+-------------------------+----------------------+-------------------+------------------+ | Debian GNU/Linux 12 | PASS | SKIPPED | SKIPPED | SKIPPED | WARN | SKIPPED | +---------------------+--------------------+-------------------+-------------------------+----------------------+-------------------+------------------+ | Fedora Linux 42 | PASS | SKIPPED | SKIPPED | SKIPPED | WARN | PASS | +---------------------+--------------------+-------------------+-------------------------+----------------------+-------------------+------------------+ | openSUSE Leap 15.6 | PASS | SKIPPED | SKIPPED | SKIPPED | SKIPPED | SKIPPED | +---------------------+--------------------+-------------------+-------------------------+----------------------+-------------------+------------------+ | Windows Server 2022 | SKIPPED | PASS | PASS | PASS | SKIPPED | SKIPPED | +---------------------+--------------------+-------------------+-------------------------+----------------------+-------------------+------------------+ ==== 20 line log output for Fedora Linux 42 (dpdk_compile_spdk): ==== --- Failed to get log output --- ==== End log output ==== Ubuntu 20.04 Kernel: 4.19 Compiler: gcc gcc (Ubuntu 9.4.0-1ubuntu1~20.04.2) 9.4.0 FreeBSD 14.2 Kernel: 14.2-RELEASE Compiler: clang 18.1.6 CentOS Stream 9 Kernel: 5.15 Compiler: gcc gcc (GCC) 11.5.0 20240719 (Red Hat 11.5.0-11) CentOS Stream 10 Kernel: 5.15 Compiler: gcc gcc (GCC) 14.2.1 20250110 (Red Hat 14.2.1-8) Debian GNU/Linux 12 Kernel: 5.15 Compiler: gcc gcc (Debian 12.2.0-14+deb12u1) 12.2.0 Fedora Linux 42 Kernel: 5.15 Compiler: clang gcc (GCC) 15.2.1 20250808 (Red Hat 15.2.1-1) openSUSE Leap 15.6 Kernel: 5.15 Compiler: gcc gcc (SUSE Linux) 7.5.0 Windows Server 2022 Kernel: 10.0.20348.2031 Compiler: clang 15.0.7, gcc 14.1.0 (MinGW), and MSVC VS 19.39.33521 To view detailed results, visit: https://lab.dpdk.org/results/dashboard/patchsets/34293/ UNH-IOL DPDK Community Lab To manage your email subscriptions, visit: https://lab.dpdk.org/results/dashboard/preferences/subscriptions/