From mboxrd@z Thu Jan 1 00:00:00 1970 Return-Path: Received: from mails.dpdk.org (mails.dpdk.org [217.70.189.124]) by inbox.dpdk.org (Postfix) with ESMTP id B511A48952 for ; Thu, 16 Oct 2025 13:01:26 +0200 (CEST) Received: from mails.dpdk.org (localhost [127.0.0.1]) by mails.dpdk.org (Postfix) with ESMTP id 7DA9A40269; Thu, 16 Oct 2025 13:01:26 +0200 (CEST) Received: from mail-yw1-f225.google.com (mail-yw1-f225.google.com [209.85.128.225]) by mails.dpdk.org (Postfix) with ESMTP id 7816C40269 for ; Thu, 16 Oct 2025 13:01:24 +0200 (CEST) Received: by mail-yw1-f225.google.com with SMTP id 00721157ae682-77fac63ba26so6451037b3.3 for ; Thu, 16 Oct 2025 04:01:24 -0700 (PDT) DKIM-Signature: v=1; a=rsa-sha256; c=relaxed/relaxed; d=iol.unh.edu; s=unh-iol; t=1760612484; x=1761217284; darn=dpdk.org; h=references:in-reply-to:cc:to:from:subject:message-id:date:from:to :cc:subject:date:message-id:reply-to; bh=3HXXFn+y5a8uzbOzzZe1wf/TLz4ziE4g/d8xOEKgyCs=; b=eUQThRPw5hfPsKlG6iJoYRoDEm53mgP6rsoYvroE1PhLZY+i3CO19pLdnfkxL51cEe W5Vk7ZAkwwbnSVUM9zeQUmflhBRiRCkC+mWqFp1tK76uEtXPUROZFPpvtdWNeOnkvPqT z2E5wJ153knTf5EDhlO3zvWRha6FJwBSIfQ2A= X-Google-DKIM-Signature: v=1; a=rsa-sha256; c=relaxed/relaxed; d=1e100.net; s=20230601; t=1760612484; x=1761217284; h=references:in-reply-to:cc:to:from:subject:message-id:date :x-gm-message-state:from:to:cc:subject:date:message-id:reply-to; bh=3HXXFn+y5a8uzbOzzZe1wf/TLz4ziE4g/d8xOEKgyCs=; b=iPh10wh5nKTERxdhsNEsh2ovFIF/H5niCkOv2KO2zKPWCMzH4n302mHrzAp2VhWLvk HaO3frCRGIENar/LHt2eLCRwWOtTR08DFkKw92ZT/YBSvn8tGY2aXTkJ0kKfE4K2n9Ox Z3dHRczElhOb5AdzIcyTY7HrQh362IHre1ZFE08CiH2RXYHpdNRBPk7fUH1/Y08dF4s9 eWWMB69znJPnGrqOEajxrN7n5fvUbhCGCSGU0yFoqxqcUD9bcNKVgLr1Y8b5tvAQgBT8 WZbNAXu0p/QhdLpcbcXia3YaKCvNFa8rLYr7fhQgMnJJhT9+PUVK5vw+OP/VYpdJIiRJ BAIw== X-Gm-Message-State: AOJu0YyDkU310PM5Wl3qV4A9B7T30/fom2Q30PsJ2IV7Z3yohoi6Nwm2 4Hursny9Aak0ztyCHQfiH3oytBJWBns/LMbcBAs6OEsIE5pgnQmQMgWt9nkltBIO5dAeLp3PQjT 0kUcYhLTWI0E9mkBtVLcRaH+prULdIPVWx3aV06Up5Z4C X-Gm-Gg: ASbGncu73/ciR7n7c7RZuGWPnJOUAZJUSxoKvJoCRkMggg68+4GKQHRPZLJcMqwkYl2 YOWpBDVStJ3ddo172rOfnH/7PBC9K5Cisp44E1LzxgUf4ZjAF7tpBXsa5cy9D6p3WkU43ZkCKOD bgDroGkFF2CpleT9Z8rCYpGxvKfn1N8sLj7P36RAFBeULetvE3ZzZt/5MNPiovqIwnFBR0pB9OA Ln0EpL4HY7Fpmhwd8p5iaCf+JpsH0KnKPlLJ9sV0N29VxVa8mp1z5dUPq6yHTzV6sNW+tPP0KcV DgOWkENLy9h/oyK8zuTQsTWn5EKXxMw+/HK3xvAl1DAZY5hD4VSsXsprCIdPJoGq2iy9SSVBayN CnvVi+kjLF1xt/GT1sB9Y4HeobJ5TnPU= X-Google-Smtp-Source: AGHT+IFyUM7h71BBaAwRY19tTniZN+2CaElzsxEYf5dux0RR/lOtVfDDxuRMyBUxS1doLAQskGKMuUJnpmHi X-Received: by 2002:a05:690c:7482:b0:781:b22:1f5a with SMTP id 00721157ae682-7810b228e7bmr221006487b3.70.1760612483782; Thu, 16 Oct 2025 04:01:23 -0700 (PDT) Received: from postal.iol.unh.edu (postal.iol.unh.edu. [132.177.123.84]) by smtp-relay.gmail.com with ESMTPS id 956f58d0204a3-63cd95f56c3sm1191496d50.15.2025.10.16.04.01.23 (version=TLS1_2 cipher=ECDHE-ECDSA-AES128-GCM-SHA256 bits=128/128); Thu, 16 Oct 2025 04:01:23 -0700 (PDT) X-Relaying-Domain: iol.unh.edu Date: Thu, 16 Oct 2025 04:01:23 -0700 (PDT) Message-ID: <68f0d083.530a0220.146a73.bdd1SMTPIN_ADDED_MISSING@mx.google.com> Received: from [172.21.0.3] (unknown [172.18.0.240]) by postal.iol.unh.edu (Postfix) with ESMTP id 656EA6051830; Thu, 16 Oct 2025 07:01:23 -0400 (EDT) Subject: |WARNING| pw157695-157696 [PATCH] [v6,4/4] dma/hisi_acc: add doc From: dpdklab@iol.unh.edu To: Test Report Cc: dpdk-test-reports@iol.unh.edu In-Reply-To: <20251016025318.14333-5-fengchengwen@huawei.com> References: <20251016025318.14333-5-fengchengwen@huawei.com> Content-Type: text/plain X-BeenThere: test-report@dpdk.org X-Mailman-Version: 2.1.29 Precedence: list List-Id: automatic DPDK test reports List-Unsubscribe: , List-Archive: List-Post: List-Help: List-Subscribe: , Errors-To: test-report-bounces@dpdk.org Test-Label: iol-compile-amd64-testing Test-Status: WARNING http://dpdk.org/patch/157696 _Testing issues_ Submitter: Chengwen Feng Date: Thursday, October 16 2025 02:53:18 DPDK git baseline: Repo:dpdk Branch: master CommitID:16f4c522003dcfecf23c8d38e009b95a3bbefd03 157695-157696 --> testing issues Upstream job id: Generic-DPDK-Compile-Meson#434749 Test environment and result as below: +-------------------------------+--------------------+-------------------+-------------------------+----------------------+-------------------+------------------+ | Environment | dpdk_meson_compile | dpdk_msvc_compile | dpdk_llvm_clang_compile | dpdk_mingw64_compile | dpdk_compile_spdk | dpdk_compile_ovs | +===============================+====================+===================+=========================+======================+===================+==================+ | Ubuntu 20.04 | PASS | SKIPPED | SKIPPED | SKIPPED | SKIPPED | SKIPPED | +-------------------------------+--------------------+-------------------+-------------------------+----------------------+-------------------+------------------+ | FreeBSD 14.2 | PASS | SKIPPED | SKIPPED | SKIPPED | SKIPPED | SKIPPED | +-------------------------------+--------------------+-------------------+-------------------------+----------------------+-------------------+------------------+ | CentOS Stream 9 | PASS | SKIPPED | SKIPPED | SKIPPED | WARN | SKIPPED | +-------------------------------+--------------------+-------------------+-------------------------+----------------------+-------------------+------------------+ | CentOS Stream 10 | PASS | SKIPPED | SKIPPED | SKIPPED | SKIPPED | SKIPPED | +-------------------------------+--------------------+-------------------+-------------------------+----------------------+-------------------+------------------+ | Debian GNU/Linux 12 | PASS | SKIPPED | SKIPPED | SKIPPED | WARN | SKIPPED | +-------------------------------+--------------------+-------------------+-------------------------+----------------------+-------------------+------------------+ | Fedora Linux 42 | PASS | SKIPPED | SKIPPED | SKIPPED | WARN | PASS | +-------------------------------+--------------------+-------------------+-------------------------+----------------------+-------------------+------------------+ | openSUSE Leap 15.6 | PASS | SKIPPED | SKIPPED | SKIPPED | SKIPPED | SKIPPED | +-------------------------------+--------------------+-------------------+-------------------------+----------------------+-------------------+------------------+ | Red Hat Enterprise Linux 8.10 | PASS | SKIPPED | SKIPPED | SKIPPED | SKIPPED | SKIPPED | +-------------------------------+--------------------+-------------------+-------------------------+----------------------+-------------------+------------------+ | Red Hat Enterprise Linux 9.5 | PASS | SKIPPED | SKIPPED | SKIPPED | SKIPPED | SKIPPED | +-------------------------------+--------------------+-------------------+-------------------------+----------------------+-------------------+------------------+ | Windows Server 2022 | SKIPPED | PASS | PASS | PASS | SKIPPED | SKIPPED | +-------------------------------+--------------------+-------------------+-------------------------+----------------------+-------------------+------------------+ ==== 20 line log output for Fedora Linux 42 (dpdk_compile_spdk): ==== --- Failed to get log output --- ==== End log output ==== Ubuntu 20.04 Kernel: 4.19 Compiler: gcc gcc (Ubuntu 9.4.0-1ubuntu1~20.04.2) 9.4.0 FreeBSD 14.2 Kernel: 14.2-RELEASE Compiler: clang 18.1.6 CentOS Stream 9 Kernel: 5.15 Compiler: gcc gcc (GCC) 11.5.0 20240719 (Red Hat 11.5.0-11) CentOS Stream 10 Kernel: 5.15 Compiler: gcc gcc (GCC) 14.2.1 20250110 (Red Hat 14.2.1-8) Debian GNU/Linux 12 Kernel: 5.15 Compiler: gcc gcc (Debian 12.2.0-14+deb12u1) 12.2.0 Fedora Linux 42 Kernel: 5.15 Compiler: clang gcc (GCC) 15.2.1 20250808 (Red Hat 15.2.1-1) openSUSE Leap 15.6 Kernel: 5.15 Compiler: gcc gcc (SUSE Linux) 7.5.0 Red Hat Enterprise Linux 8.10 Kernel: 5.15 Compiler: gcc gcc (GCC) 8.5.0 20210514 (Red Hat 8.5.0-22) Red Hat Enterprise Linux 9.5 Kernel: 5.15 Compiler: gcc gcc (GCC) 11.5.0 20240719 (Red Hat 11.5.0-2) Windows Server 2022 Kernel: 10.0.20348.2031 Compiler: clang 15.0.7, gcc 14.1.0 (MinGW), and MSVC VS 19.39.33521 To view detailed results, visit: https://lab.dpdk.org/results/dashboard/patchsets/34293/ UNH-IOL DPDK Community Lab To manage your email subscriptions, visit: https://lab.dpdk.org/results/dashboard/preferences/subscriptions/