From mboxrd@z Thu Jan 1 00:00:00 1970 Return-Path: Received: from mails.dpdk.org (mails.dpdk.org [217.70.189.124]) by inbox.dpdk.org (Postfix) with ESMTP id E3EC248952 for ; Thu, 16 Oct 2025 13:04:13 +0200 (CEST) Received: from mails.dpdk.org (localhost [127.0.0.1]) by mails.dpdk.org (Postfix) with ESMTP id B6A5D40269; Thu, 16 Oct 2025 13:04:13 +0200 (CEST) Received: from mail-io1-f97.google.com (mail-io1-f97.google.com [209.85.166.97]) by mails.dpdk.org (Postfix) with ESMTP id 7347840269 for ; Thu, 16 Oct 2025 13:04:13 +0200 (CEST) Received: by mail-io1-f97.google.com with SMTP id ca18e2360f4ac-92b92e4b078so24402939f.0 for ; Thu, 16 Oct 2025 04:04:13 -0700 (PDT) DKIM-Signature: v=1; a=rsa-sha256; c=relaxed/relaxed; d=iol.unh.edu; s=unh-iol; t=1760612653; x=1761217453; darn=dpdk.org; h=references:in-reply-to:cc:to:from:subject:message-id:date:from:to :cc:subject:date:message-id:reply-to; bh=5kjwE3k+fJ1CT4VAWc6B9Pw56r+C8HK/tJqWnby/Ybw=; b=ARsOsY5/rKrkuxvKMdIBCShQ4hoPQ0u+Ve5gdU2N6hlO1aEGSbq/75y/I/C29Eiy7t vMvSKjmKbUKnVUWHu2VzN1VlJuNsMii5tTvY59Ne2r/C960inb+2Fl2lDllv8OuZ2DAC 8NrYm8cwaJMZkRuCjbsn3b2djJe9qQGl2ddJQ= X-Google-DKIM-Signature: v=1; a=rsa-sha256; c=relaxed/relaxed; d=1e100.net; s=20230601; t=1760612653; x=1761217453; h=references:in-reply-to:cc:to:from:subject:message-id:date :x-gm-message-state:from:to:cc:subject:date:message-id:reply-to; bh=5kjwE3k+fJ1CT4VAWc6B9Pw56r+C8HK/tJqWnby/Ybw=; b=ik1jNYVHweqnRpROcB0kqgpC3ezzU/2bZZmXD2h6cVh+kPe9JOdpDW4RQWx9WV6TGq bGRIaYKfrWjpdslJri7Y/yHXjMXvoODt4ctk20NujGdQAVTIFnFCFo2fjvCRTewkrEc4 kOMGLDnLl8swRpk1y0pQmWofcfOVacn9AcYjWV3Uv2gFQdKaFfHTSOKi7nazaQIijhCE PXrIz6xRLcS3D6lYrUwkuYRGAk3iPH78CKdQCfI6YaKkqVsujf66yBHn1cv67lOUHGCe p6ahtrCUNSEqFJPjj0nSo5K212NMqWVlVD2R7g3172jq8TQhASicjpVI0fawqhXGEtlg mg5Q== X-Gm-Message-State: AOJu0Yws+K+FZk4oI9VDHfKg5wHT8rGrd+p3sh7CKv1Z+0eL8gZjSqvT s2xNhY1RjRAXhnX2lc2mpBNYL9Lx12sfHeQeNAge/XwUsWnC6IYsHII4d0afrWX+t7MFbKPlJQ4 6ahDB/d/IcRqqdJMGkhE15HPa9p1iX0LjzxVB/7Qktk1pv9edTtwWjm8FaLFh X-Gm-Gg: ASbGncsP2z7dey6Mmz4Ef6biCFn71+ptSorLEgHN02mQ23hsyzrlEj6/BEam7Y/kOTO 7iouBazwdlLIswZTQ5bBGfBY3vkm3y8y7VhAnmHNrg+tPPKrm0ThafRtLsvLtM44NXP6LBS1s+F lzRmAZpRtIQqylVly31eCbLsvA8eUG8agjOxCzUeicw31DJU+2ZgJt+gOzLy1b4XWzmAPPnU47U p2kMEp+M8rIyu8dzNa/o+y9Vr7l3AtmJZ/JOMwI78vjJuHFrzFs2hP+52pXM4WvTNT1TsWe/3lS v3LG8K2YNlwCVyryfZysx7IGdibSjwYR0msec7avKQsCF+ugZl1Q7os2Kw2L1xYuA/3sIOkn25V jRuqh1SWs X-Google-Smtp-Source: AGHT+IEmPOKJfyBtn4DKJlI9TcJ3vvgbK+fjB/c9uoG3yvmyxLUx+pypF/PDVGn7fdSG2cBK2+OeOIOc23u9 X-Received: by 2002:a05:6602:13c3:b0:8a3:70e4:9abb with SMTP id ca18e2360f4ac-93bd166e931mr4010651039f.0.1760612652505; Thu, 16 Oct 2025 04:04:12 -0700 (PDT) Received: from postal.iol.unh.edu (postal.iol.unh.edu. [2606:4100:3880:1234::84]) by smtp-relay.gmail.com with ESMTPS id ca18e2360f4ac-93e25a4c799sm110823739f.9.2025.10.16.04.04.12 (version=TLS1_2 cipher=ECDHE-ECDSA-AES128-GCM-SHA256 bits=128/128); Thu, 16 Oct 2025 04:04:12 -0700 (PDT) X-Relaying-Domain: iol.unh.edu Date: Thu, 16 Oct 2025 04:04:12 -0700 (PDT) Message-ID: <68f0d12c.050a0220.3c3c90.6138SMTPIN_ADDED_MISSING@mx.google.com> Received: from [172.21.0.2] (unknown [172.18.0.240]) by postal.iol.unh.edu (Postfix) with ESMTP id 0FD796051830; Thu, 16 Oct 2025 07:04:12 -0400 (EDT) Subject: |WARNING| pw157695-157696 [PATCH] [v6,4/4] dma/hisi_acc: add doc From: dpdklab@iol.unh.edu To: Test Report Cc: dpdk-test-reports@iol.unh.edu In-Reply-To: <20251016025318.14333-5-fengchengwen@huawei.com> References: <20251016025318.14333-5-fengchengwen@huawei.com> Content-Type: text/plain X-BeenThere: test-report@dpdk.org X-Mailman-Version: 2.1.29 Precedence: list List-Id: automatic DPDK test reports List-Unsubscribe: , List-Archive: List-Post: List-Help: List-Subscribe: , Errors-To: test-report-bounces@dpdk.org Test-Label: iol-compile-amd64-testing Test-Status: WARNING http://dpdk.org/patch/157696 _Testing issues_ Submitter: Chengwen Feng Date: Thursday, October 16 2025 02:53:18 DPDK git baseline: Repo:dpdk Branch: master CommitID:16f4c522003dcfecf23c8d38e009b95a3bbefd03 157695-157696 --> testing issues Upstream job id: Generic-DPDK-Compile-Meson#434751 Test environment and result as below: +-------------------------------+--------------------+-------------------+-------------------------+----------------------+-------------------+------------------+ | Environment | dpdk_meson_compile | dpdk_msvc_compile | dpdk_llvm_clang_compile | dpdk_mingw64_compile | dpdk_compile_spdk | dpdk_compile_ovs | +===============================+====================+===================+=========================+======================+===================+==================+ | Ubuntu 20.04 | PASS | SKIPPED | SKIPPED | SKIPPED | SKIPPED | SKIPPED | +-------------------------------+--------------------+-------------------+-------------------------+----------------------+-------------------+------------------+ | FreeBSD 14.2 | PASS | SKIPPED | SKIPPED | SKIPPED | SKIPPED | SKIPPED | +-------------------------------+--------------------+-------------------+-------------------------+----------------------+-------------------+------------------+ | CentOS Stream 9 | PASS | SKIPPED | SKIPPED | SKIPPED | WARN | SKIPPED | +-------------------------------+--------------------+-------------------+-------------------------+----------------------+-------------------+------------------+ | CentOS Stream 10 | PASS | SKIPPED | SKIPPED | SKIPPED | SKIPPED | SKIPPED | +-------------------------------+--------------------+-------------------+-------------------------+----------------------+-------------------+------------------+ | Debian GNU/Linux 12 | PASS | SKIPPED | SKIPPED | SKIPPED | WARN | SKIPPED | +-------------------------------+--------------------+-------------------+-------------------------+----------------------+-------------------+------------------+ | Fedora Linux 42 | PASS | SKIPPED | SKIPPED | SKIPPED | WARN | PASS | +-------------------------------+--------------------+-------------------+-------------------------+----------------------+-------------------+------------------+ | openSUSE Leap 15.6 | PASS | SKIPPED | SKIPPED | SKIPPED | SKIPPED | SKIPPED | +-------------------------------+--------------------+-------------------+-------------------------+----------------------+-------------------+------------------+ | Red Hat Enterprise Linux 8.10 | PASS | SKIPPED | SKIPPED | SKIPPED | SKIPPED | SKIPPED | +-------------------------------+--------------------+-------------------+-------------------------+----------------------+-------------------+------------------+ | Red Hat Enterprise Linux 9.5 | PASS | SKIPPED | SKIPPED | SKIPPED | SKIPPED | SKIPPED | +-------------------------------+--------------------+-------------------+-------------------------+----------------------+-------------------+------------------+ | Windows Server 2022 | SKIPPED | PASS | PASS | PASS | SKIPPED | SKIPPED | +-------------------------------+--------------------+-------------------+-------------------------+----------------------+-------------------+------------------+ ==== 20 line log output for Fedora Linux 42 (dpdk_compile_spdk): ==== --- Failed to get log output --- ==== End log output ==== Ubuntu 20.04 Kernel: 4.19 Compiler: gcc gcc (Ubuntu 9.4.0-1ubuntu1~20.04.2) 9.4.0 FreeBSD 14.2 Kernel: 14.2-RELEASE Compiler: clang 18.1.6 CentOS Stream 9 Kernel: 5.15 Compiler: gcc gcc (GCC) 11.5.0 20240719 (Red Hat 11.5.0-11) CentOS Stream 10 Kernel: 5.15 Compiler: gcc gcc (GCC) 14.2.1 20250110 (Red Hat 14.2.1-8) Debian GNU/Linux 12 Kernel: 5.15 Compiler: gcc gcc (Debian 12.2.0-14+deb12u1) 12.2.0 Fedora Linux 42 Kernel: 5.15 Compiler: clang gcc (GCC) 15.2.1 20250808 (Red Hat 15.2.1-1) openSUSE Leap 15.6 Kernel: 5.15 Compiler: gcc gcc (SUSE Linux) 7.5.0 Red Hat Enterprise Linux 8.10 Kernel: 5.15 Compiler: gcc gcc (GCC) 8.5.0 20210514 (Red Hat 8.5.0-22) Red Hat Enterprise Linux 9.5 Kernel: 5.15 Compiler: gcc gcc (GCC) 11.5.0 20240719 (Red Hat 11.5.0-2) Windows Server 2022 Kernel: 10.0.20348.2031 Compiler: clang 15.0.7, gcc 14.1.0 (MinGW), and MSVC VS 19.39.33521 To view detailed results, visit: https://lab.dpdk.org/results/dashboard/patchsets/34293/ UNH-IOL DPDK Community Lab To manage your email subscriptions, visit: https://lab.dpdk.org/results/dashboard/preferences/subscriptions/