From mboxrd@z Thu Jan 1 00:00:00 1970 Return-Path: Received: from mails.dpdk.org (mails.dpdk.org [217.70.189.124]) by inbox.dpdk.org (Postfix) with ESMTP id E4A7A48952 for ; Thu, 16 Oct 2025 13:05:16 +0200 (CEST) Received: from mails.dpdk.org (localhost [127.0.0.1]) by mails.dpdk.org (Postfix) with ESMTP id DF98F40269; Thu, 16 Oct 2025 13:05:16 +0200 (CEST) Received: from mail-pg1-f225.google.com (mail-pg1-f225.google.com [209.85.215.225]) by mails.dpdk.org (Postfix) with ESMTP id C19CF40269 for ; Thu, 16 Oct 2025 13:05:15 +0200 (CEST) Received: by mail-pg1-f225.google.com with SMTP id 41be03b00d2f7-b6271ea3a6fso371102a12.0 for ; Thu, 16 Oct 2025 04:05:15 -0700 (PDT) DKIM-Signature: v=1; a=rsa-sha256; c=relaxed/relaxed; d=iol.unh.edu; s=unh-iol; t=1760612715; x=1761217515; darn=dpdk.org; h=references:in-reply-to:cc:to:from:subject:message-id:date:from:to :cc:subject:date:message-id:reply-to; bh=buqfxtoQVvWjasTxl2fWmowJML1dW9rE4B4v9eKtH3s=; b=auJRC3O2nhhsIbXjNwmOQO4vgSQ8HyOsxwenAnLOQENFf8niqbV8tD1aMv1/gmvV3P lHuUkXEisoyNk54GimApZLllISmy7tj/R7pRcGJaWNcbcCfhEQfMTRNz39U5cwVW3Fd1 qBuQXWWbcJVIuRWdZOxuoBEQkLW9d2OHuAydA= X-Google-DKIM-Signature: v=1; a=rsa-sha256; c=relaxed/relaxed; d=1e100.net; s=20230601; t=1760612715; x=1761217515; h=references:in-reply-to:cc:to:from:subject:message-id:date :x-gm-message-state:from:to:cc:subject:date:message-id:reply-to; bh=buqfxtoQVvWjasTxl2fWmowJML1dW9rE4B4v9eKtH3s=; b=wH8b65klM2ZN0zUehufPTpue1vxjUZPE6GhtrHbXMDX2GL5dgAnpNmgDdOQv4Ln+bU y0Ffh5ngDwvscEcGRW1fhjbIbYT1JE4khglSVt/l+KLvM9CicN8pyD9OQWv99DutwhFK E7zwmH0qy2rV3LBmEIQTg2C2THsFbyoDq7U6UNNg1Tlhhi4nB/P1u500uVZ2CAxOK+gT yl0U0mTec/Sg0xsx2gqK+yxG1v9CWc6q9xfap4Q2q+5GBelahbMfvj4VHomxeth7QoyX T/SJOLo99fHQJoTGjW6dzMWJIaGZWo0KlXetYlNhJ4K87iJ1qUxGTRMZZMsmQhsrLf9m LimA== X-Gm-Message-State: AOJu0YwBGPgTaJXL1eE9DYC4y3J3HLeAiU4UQ3MiYw7hGmXXJcB3frIM T08YDa1pgTc5bJMQ/Aluqvy87WaTJNTaTV1/cMktAKGreT+AKYi9j1Sgs3+2LE/OjnH+Vv+qZkc PI2G5VWGLa1KQA+uiBGHXLvKf/oLox8zH68gi0HJevf1r8GXgdlTLAj3z7ltX X-Gm-Gg: ASbGncu79UczalQ3T1DzrIoToBYc5If5l01r9xXgMFgt1yJphFN4fe9lrsHlCLt2ZZk tsIJzgIlhZdEVmYePQVRrfosCacY/k7Qw0a2utpLmHtj2F8dqokUyj30loeF1cbnwLZZkw5suA1 e+3wYHFdIMzboaYp/zWsN9AcVz2P/HMpL3TdMQfiM5nxoJ8kJ0hmPoV5jEa0nXJw5u0BefW/7iZ kCvY8W0evCPX04n26O5Wh7sIkiMRYky/diZIFb8tcMgNgS8T7b/2/2ljUDPu+MS+wod0RCAeLi8 szEuTmZ7w7XSckbu81XkkeVIbdhQNKkau1Sl2fExtt6hHQ+5D39d2qv8hZsqsWIHmwJgZrH2NAj 3gslud4TJ X-Google-Smtp-Source: AGHT+IFyNWl83TWrOZ7jlXzFBIA1eMq69NnJAiYYzbb4nJ06f0ele0wN0oUTG60i4DWALmrcO/dbQFo6yxJy X-Received: by 2002:a17:903:2990:b0:290:533b:25c9 with SMTP id d9443c01a7336-290533b3392mr261806295ad.2.1760612714664; Thu, 16 Oct 2025 04:05:14 -0700 (PDT) Received: from postal.iol.unh.edu (postal.iol.unh.edu. [2606:4100:3880:1234::84]) by smtp-relay.gmail.com with ESMTPS id d9443c01a7336-29099a7df44sm2785605ad.57.2025.10.16.04.05.14 (version=TLS1_2 cipher=ECDHE-ECDSA-AES128-GCM-SHA256 bits=128/128); Thu, 16 Oct 2025 04:05:14 -0700 (PDT) X-Relaying-Domain: iol.unh.edu Date: Thu, 16 Oct 2025 04:05:14 -0700 (PDT) Message-ID: <68f0d16a.170a0220.22cdf5.e196SMTPIN_ADDED_MISSING@mx.google.com> Received: from [172.21.0.2] (unknown [172.18.0.240]) by postal.iol.unh.edu (Postfix) with ESMTP id EA5876051830; Thu, 16 Oct 2025 07:05:13 -0400 (EDT) Subject: |SUCCESS| pw157716-157715 [PATCH] [v1,2/2] benchmark report for rte_ From: dpdklab@iol.unh.edu To: Test Report Cc: dpdk-test-reports@iol.unh.edu In-Reply-To: <20251016090934.1166954-3-chen.qiguo@zte.com.cn> References: <20251016090934.1166954-3-chen.qiguo@zte.com.cn> Content-Type: text/plain X-BeenThere: test-report@dpdk.org X-Mailman-Version: 2.1.29 Precedence: list List-Id: automatic DPDK test reports List-Unsubscribe: , List-Archive: List-Post: List-Help: List-Subscribe: , Errors-To: test-report-bounces@dpdk.org Test-Label: iol-compile-amd64-testing Test-Status: SUCCESS http://dpdk.org/patch/157715 _Testing PASS_ Submitter: Qiguo Chen Date: Thursday, October 16 2025 09:09:34 DPDK git baseline: Repo:dpdk Branch: master CommitID:16f4c522003dcfecf23c8d38e009b95a3bbefd03 157716-157715 --> testing pass Upstream job id: Windows-Compile-DPDK-VS#7219 Test environment and result as below: +---------------------+--------------------+-------------------+ | Environment | dpdk_meson_compile | dpdk_msvc_compile | +=====================+====================+===================+ | FreeBSD 14.2 | PASS | SKIPPED | +---------------------+--------------------+-------------------+ | Ubuntu 20.04 | PASS | SKIPPED | +---------------------+--------------------+-------------------+ | Windows Server 2022 | SKIPPED | PASS | +---------------------+--------------------+-------------------+ FreeBSD 14.2 Kernel: 14.2-RELEASE Compiler: clang 18.1.6 Ubuntu 20.04 Kernel: 4.19 Compiler: gcc gcc (Ubuntu 9.4.0-1ubuntu1~20.04.2) 9.4.0 Windows Server 2022 Kernel: 10.0.20348.2031 Compiler: clang 15.0.7, gcc 14.1.0 (MinGW), and MSVC VS 19.39.33521 To view detailed results, visit: https://lab.dpdk.org/results/dashboard/patchsets/34296/ UNH-IOL DPDK Community Lab To manage your email subscriptions, visit: https://lab.dpdk.org/results/dashboard/preferences/subscriptions/