From mboxrd@z Thu Jan 1 00:00:00 1970 Return-Path: Received: from mails.dpdk.org (mails.dpdk.org [217.70.189.124]) by inbox.dpdk.org (Postfix) with ESMTP id 6D15948952 for ; Thu, 16 Oct 2025 13:09:20 +0200 (CEST) Received: from mails.dpdk.org (localhost [127.0.0.1]) by mails.dpdk.org (Postfix) with ESMTP id 44DFC40269; Thu, 16 Oct 2025 13:09:20 +0200 (CEST) Received: from mail-pg1-f226.google.com (mail-pg1-f226.google.com [209.85.215.226]) by mails.dpdk.org (Postfix) with ESMTP id DB9E740A71 for ; Thu, 16 Oct 2025 13:09:19 +0200 (CEST) Received: by mail-pg1-f226.google.com with SMTP id 41be03b00d2f7-b5507d3ccd8so476730a12.0 for ; Thu, 16 Oct 2025 04:09:19 -0700 (PDT) DKIM-Signature: v=1; a=rsa-sha256; c=relaxed/relaxed; d=iol.unh.edu; s=unh-iol; t=1760612959; x=1761217759; darn=dpdk.org; h=references:in-reply-to:cc:to:from:subject:message-id:date:from:to :cc:subject:date:message-id:reply-to; bh=z6iExm0UemA2dyySlLWdxyUEpRYWTtV5iX7OhZteNXw=; b=iu7+RNk325WtyfIwUc/sXEUe2JijfiVpy/49mjuTUiH4p+/i2f0rDfvpO/eq8LrspO QATKRRXUTXC0z7uG97qHBmy0Tgko+F4v5OAWB2jOt9i953WMUd4P9NrDEK34cwoCM67F oT8pjvH0AFkX3BvugojZwumClPxSAlJ736J2o= X-Google-DKIM-Signature: v=1; a=rsa-sha256; c=relaxed/relaxed; d=1e100.net; s=20230601; t=1760612959; x=1761217759; h=references:in-reply-to:cc:to:from:subject:message-id:date :x-gm-message-state:from:to:cc:subject:date:message-id:reply-to; bh=z6iExm0UemA2dyySlLWdxyUEpRYWTtV5iX7OhZteNXw=; b=j+VM83ho5XFLhBeLW7qwI9llt66Y0ZhLfrXqtNIZHdKxlqhYt56ttL85Uz8DCbbRVk 51eeK6a8t5nqdIN2F0zP51IeFeD4A79KoQNwLBJgv6G1UQ8FwJUMdB18VIMMxVBu8ee9 eclZTcBmgqdAZlClKLe67zrGEyf61ouwo0wa4b8kCde6XF7/XZoEAdsTd/xDIzCFbqzG oOdGObzFPBDwlDIMO6yf7xGxwCww18dHtA25lIgLMBwb0kdfb+t/+j4/C/uXr8i2m6Pr fCptdATq+lmWFfVT1kgTN35okoE9fic9+V5wOElE/fKdUmUvr2Fzujv/vxqdx/7RTWS2 N9rQ== X-Gm-Message-State: AOJu0YwVhYzq/cF+/ze0kLYjDhFPLkGsGhL3DnHwRaimoZG/MCjDe/Ud 428otoyDCPUVtNGOxNUw6V5eO3kmSKy3Jv5APBmFleh78dpS90ibV8O1cn0iiyUh/z7hMQJsOJh xMShsEVWi7kyB/L9kPqVmq4Z5uIyYALruj8E4Jd9Eutno X-Gm-Gg: ASbGncto1ns/hmKv00RWHFRLqCLZCyL/MgbAtjgboZIv4rPhXn+QW0fgnLQNRynChMK d1iz4YemQC6GbriMjMuWUZLIXsO/+dF90Yf81ypCdZtij6B79dNJ7OOXBE5q9iZggskN/WRvCqz dyI/X1CqiLmEIg9G1T1EoLXMDUVLWGzwl/sbDkcnvt4a4bH9x7DJgD1xN9hYkM8+6dQJt9IN9ZF zaN1IwvctRvOqqSKjajGTE8c12VUyVRuHhzQkHukeC7EAgqw4VlTeLxXS5u728SPBxtWR73X05U Ai6517trM5sJ2/mgzskw2N0SpaXSfg4rv9u0fFFvs6Eu2ggq8ZiA0qsX9gMjoqTR1dYFqB1Fx2p y1OC26f5eavySAM2hgq1RM7g7gox8ydY= X-Google-Smtp-Source: AGHT+IHMRDgn1I2RMA0FA1JJIVJMP2DtICB73lDvWub3hrspfGA2WLECDpwNI+sg5qFu7ZhQPhleX/To/Xtz X-Received: by 2002:a17:903:944:b0:290:bfb7:376f with SMTP id d9443c01a7336-290bfb738c6mr4808115ad.51.1760612959040; Thu, 16 Oct 2025 04:09:19 -0700 (PDT) Received: from postal.iol.unh.edu (postal.iol.unh.edu. [132.177.123.84]) by smtp-relay.gmail.com with ESMTPS id 98e67ed59e1d1-33bb64885f9sm99837a91.0.2025.10.16.04.09.18 (version=TLS1_2 cipher=ECDHE-ECDSA-AES128-GCM-SHA256 bits=128/128); Thu, 16 Oct 2025 04:09:19 -0700 (PDT) X-Relaying-Domain: iol.unh.edu Date: Thu, 16 Oct 2025 04:09:19 -0700 (PDT) Message-ID: <68f0d25f.170a0220.7f523.4501SMTPIN_ADDED_MISSING@mx.google.com> Received: from [172.21.0.3] (unknown [172.18.0.240]) by postal.iol.unh.edu (Postfix) with ESMTP id 465766051830; Thu, 16 Oct 2025 07:09:18 -0400 (EDT) Subject: |SUCCESS| pw157697-157712 [PATCH] [v13,17/17] net/nbl: add nbl devic From: dpdklab@iol.unh.edu To: Test Report Cc: dpdk-test-reports@iol.unh.edu, Stephen Hemminger In-Reply-To: <20251016080128.3133579-18-dimon.zhao@nebula-matrix.com> References: <20251016080128.3133579-18-dimon.zhao@nebula-matrix.com> Content-Type: text/plain X-BeenThere: test-report@dpdk.org X-Mailman-Version: 2.1.29 Precedence: list List-Id: automatic DPDK test reports List-Unsubscribe: , List-Archive: List-Post: List-Help: List-Subscribe: , Errors-To: test-report-bounces@dpdk.org Test-Label: iol-compile-amd64-testing Test-Status: SUCCESS http://dpdk.org/patch/157712 _Testing PASS_ Submitter: Dimon Zhao Date: Thursday, October 16 2025 08:01:28 DPDK git baseline: Repo:dpdk-next-net Branch: master CommitID:791cea04798a8e2de014b99c009cd25b5929000a 157697-157712 --> testing pass Upstream job id: Windows-Compile-DPDK-Native#31671 Test environment and result as below: +---------------------+--------------------+-------------------+-------------------------+ | Environment | dpdk_meson_compile | dpdk_msvc_compile | dpdk_llvm_clang_compile | +=====================+====================+===================+=========================+ | FreeBSD 14.2 | PASS | SKIPPED | SKIPPED | +---------------------+--------------------+-------------------+-------------------------+ | Ubuntu 20.04 | PASS | SKIPPED | SKIPPED | +---------------------+--------------------+-------------------+-------------------------+ | Windows Server 2022 | SKIPPED | PASS | PASS | +---------------------+--------------------+-------------------+-------------------------+ FreeBSD 14.2 Kernel: 14.2-RELEASE Compiler: clang 18.1.6 Ubuntu 20.04 Kernel: 4.19 Compiler: gcc gcc (Ubuntu 9.4.0-1ubuntu1~20.04.2) 9.4.0 Windows Server 2022 Kernel: 10.0.20348.2031 Compiler: clang 15.0.7, gcc 14.1.0 (MinGW), and MSVC VS 19.39.33521 To view detailed results, visit: https://lab.dpdk.org/results/dashboard/patchsets/34295/ UNH-IOL DPDK Community Lab To manage your email subscriptions, visit: https://lab.dpdk.org/results/dashboard/preferences/subscriptions/