From mboxrd@z Thu Jan 1 00:00:00 1970 Return-Path: Received: from mails.dpdk.org (mails.dpdk.org [217.70.189.124]) by inbox.dpdk.org (Postfix) with ESMTP id A342548952 for ; Thu, 16 Oct 2025 13:12:31 +0200 (CEST) Received: from mails.dpdk.org (localhost [127.0.0.1]) by mails.dpdk.org (Postfix) with ESMTP id 9E34540269; Thu, 16 Oct 2025 13:12:31 +0200 (CEST) Received: from mail-io1-f98.google.com (mail-io1-f98.google.com [209.85.166.98]) by mails.dpdk.org (Postfix) with ESMTP id 8F2A340269 for ; Thu, 16 Oct 2025 13:12:30 +0200 (CEST) Received: by mail-io1-f98.google.com with SMTP id ca18e2360f4ac-93e3614d592so52306739f.3 for ; Thu, 16 Oct 2025 04:12:30 -0700 (PDT) DKIM-Signature: v=1; a=rsa-sha256; c=relaxed/relaxed; d=iol.unh.edu; s=unh-iol; t=1760613150; x=1761217950; darn=dpdk.org; h=references:in-reply-to:cc:to:from:subject:message-id:date:from:to :cc:subject:date:message-id:reply-to; bh=Q0BkiDbib+2YtvLuGwf/g3vjEPSfyb5ZxbtL8Wkz1VU=; b=jcQuH4GMeMUlqjbQeCdj7pKTrCdl4Q/WFev6E4ROmeRD+Kxgd64WQf3H1OG5qN2WSY xAiv47aksIUDcUkUyC8Jnv+1tams0HlEpT9ZOf+hfXvNGzCct+eKiXmjGTaM3MC/FxU4 fyeOkAFrrHVMmn4Jla6VIIBW6yF6largtla84= X-Google-DKIM-Signature: v=1; a=rsa-sha256; c=relaxed/relaxed; d=1e100.net; s=20230601; t=1760613150; x=1761217950; h=references:in-reply-to:cc:to:from:subject:message-id:date :x-gm-message-state:from:to:cc:subject:date:message-id:reply-to; bh=Q0BkiDbib+2YtvLuGwf/g3vjEPSfyb5ZxbtL8Wkz1VU=; b=jRF4Dw5xG5MRO+cStr1/Bo71p2jEA6wdUooQOyDQh31QazZKSxuzr3UvYhZjntD2eb asEzAG30EQdQR6styaHejLCTBD2Hx5Q40bWoV0hZgcnausDhbq0F0fcquXoRhlFeTKb3 aUE+cjSMrtE/Bka/Bz0HPtstXCHvoAH8oJrsVcQxjKPnUMYFwP0DvchSJGZmGYQyMRbM eJtk1HH+/Mx+lIhpeEWgwShHQFT5aOjdiYGEjbG/Q3e/omqYWkrR5I/fU1oTH6eWtGFq Lgrwe3ORnBf2ZTpUNwGcrLBViyZULG0Q3UFVf7J58YMKu8Y4In2RYRUkfKyvqrsfXZdm UTww== X-Gm-Message-State: AOJu0Yzvtdl04hKoFepa1UDP9MzHLwg53rl0GfdLf7KmGW/0GItWjaRl jqlcdOnSOQirWR7uNzPsIPmzo1K9qbjWa3/3ZQEf2D0vTHkePQII3UZzZ6J7KEGrsnO1yGyLIkd KEZIz1UHmmp6wYI2COTjpU4xT8jc1YfQthJzwjRUatXY+YNJE2CQnquNnJavk X-Gm-Gg: ASbGncvhdVnsMrygueX1xgyx16TQn4w3TZ3+XLprEE/X+6MUKEcbi+a3YgCJmy7XH52 ugNmUTAICmpFaRdmpVUBJ8/tTIxsdINCb82cjt9RtlFDU9GFedQs5HtV4n6s7dRvhCUFpJtTClU cKQ6B3l0cizzI90+tac1uoXY8b/lRWo7doiBr6drZX8hBTTFxF2SX41aoLV5Ayp4k7Hvqb6xyrg +UyExYn9xdDyrR4YWzqNUWyZdCYhn3TH2elxq2Suzb/VP83XDAViL6SW+iA7RvRX3rl4tM1TQGc 2PP41BNnwa43YdOMzmCPLbozP5tXRGN3K4ed4ZW/k9TZzBSTSb+YR4XNuZSsNWWBLcMgew3KTrZ zEg/s9sba X-Google-Smtp-Source: AGHT+IEFEZmFhrWC2gb1FlyrNOMKfttOrjB1iwGKQIagwwO/NGtvZPjPHHJ4X0mGvJXInpANfTt3Fu9q6q+K X-Received: by 2002:a05:6602:1414:b0:924:6f04:eac8 with SMTP id ca18e2360f4ac-93e67343b2dmr635637839f.4.1760613149834; Thu, 16 Oct 2025 04:12:29 -0700 (PDT) Received: from postal.iol.unh.edu (postal.iol.unh.edu. [2606:4100:3880:1234::84]) by smtp-relay.gmail.com with ESMTPS id ca18e2360f4ac-93e25926fc8sm113455839f.2.2025.10.16.04.12.29 (version=TLS1_2 cipher=ECDHE-ECDSA-AES128-GCM-SHA256 bits=128/128); Thu, 16 Oct 2025 04:12:29 -0700 (PDT) X-Relaying-Domain: iol.unh.edu Date: Thu, 16 Oct 2025 04:12:29 -0700 (PDT) Message-ID: <68f0d31d.050a0220.2d3437.70a2SMTPIN_ADDED_MISSING@mx.google.com> Received: from [172.21.0.3] (unknown [172.18.0.240]) by postal.iol.unh.edu (Postfix) with ESMTP id 5D5876051830; Thu, 16 Oct 2025 07:12:29 -0400 (EDT) Subject: |SUCCESS| pw157687 [PATCH] net/enic: make local variable static From: dpdklab@iol.unh.edu To: Test Report Cc: dpdk-test-reports@iol.unh.edu, Stephen Hemminger In-Reply-To: <20251015231106.876172-1-stephen@networkplumber.org> References: <20251015231106.876172-1-stephen@networkplumber.org> Content-Type: text/plain X-BeenThere: test-report@dpdk.org X-Mailman-Version: 2.1.29 Precedence: list List-Id: automatic DPDK test reports List-Unsubscribe: , List-Archive: List-Post: List-Help: List-Subscribe: , Errors-To: test-report-bounces@dpdk.org Test-Label: iol-compile-arm64-testing Test-Status: SUCCESS http://dpdk.org/patch/157687 _Testing PASS_ Submitter: Stephen Hemminger Date: Wednesday, October 15 2025 23:11:06 DPDK git baseline: Repo:dpdk-next-net Branch: master CommitID:791cea04798a8e2de014b99c009cd25b5929000a 157687 --> testing pass Upstream job id: Generic-DPDK-Compile-Meson#434641 Test environment and result as below: +------------------------------+--------------------+ | Environment | dpdk_meson_compile | +==============================+====================+ | Red Hat Enterprise Linux 9.5 | PASS | +------------------------------+--------------------+ | Ubuntu 20.04 | PASS | +------------------------------+--------------------+ | Debian GNU/Linux 12 | PASS | +------------------------------+--------------------+ | Fedora Linux 42 | PASS | +------------------------------+--------------------+ | Ubuntu 22.04 | PASS | +------------------------------+--------------------+ | Ubuntu 24.04 | PASS | +------------------------------+--------------------+ | CentOS Stream 9 | PASS | +------------------------------+--------------------+ | CentOS Stream 10 | PASS | +------------------------------+--------------------+ Red Hat Enterprise Linux 9.5 Kernel: 5.4 Compiler: gcc gcc (GCC) 11.5.0 20240719 (Red Hat 11.5.0-2) Ubuntu 20.04 Kernel: 5.15 Compiler: aarch64-linux-gnu-gcc gcc (Ubuntu 9.4.0-1ubuntu1~20.04.2) 9.4.0 Debian GNU/Linux 12 Kernel: 5.4 Compiler: gcc gcc (Debian 12.2.0-14+deb12u1) 12.2.0 Fedora Linux 42 Kernel: 5.4 Compiler: gcc gcc (GCC) 15.2.1 20250808 (Red Hat 15.2.1-1) Ubuntu 22.04 Kernel: 5.4 Compiler: gcc gcc (Ubuntu 11.4.0-1ubuntu1~22.04) 11.4.0 Ubuntu 24.04 Kernel: 5.4 Compiler: gcc gcc (Ubuntu 13.3.0-6ubuntu2~24.04) 13.3.0 CentOS Stream 9 Kernel: 5.4 Compiler: gcc gcc (GCC) 11.5.0 20240719 (Red Hat 11.5.0-11) CentOS Stream 10 Kernel: 5.4 Compiler: gcc gcc (GCC) 14.2.1 20250110 (Red Hat 14.2.1-8) To view detailed results, visit: https://lab.dpdk.org/results/dashboard/patchsets/34290/ UNH-IOL DPDK Community Lab To manage your email subscriptions, visit: https://lab.dpdk.org/results/dashboard/preferences/subscriptions/