* |SUCCESS| pw157716-157715 [PATCH v1 2/2] benchmark report for rte_memcpy
[not found] <20251016090934.1166954-3-chen.qiguo@zte.com.cn>
@ 2025-10-16 8:51 ` qemudev
2025-10-16 8:56 ` qemudev
` (29 subsequent siblings)
30 siblings, 0 replies; 31+ messages in thread
From: qemudev @ 2025-10-16 8:51 UTC (permalink / raw)
To: test-report
Test-Label: loongarch-compilation
Test-Status: SUCCESS
http://dpdk.org/patch/157715
_Compilation OK_
Submitter: Qiguo Chen <chen.qiguo@zte.com.cn>
Date: Thu, 16 Oct 2025 17:09:33 +0800
DPDK git baseline: Repo:dpdk
Branch: main
CommitID: 16f4c522003dcfecf23c8d38e009b95a3bbefd03
157716-157715 --> meson & ninja build successfully
Test environment and result as below:
+---------------------+----------------+
| Environment | compilation |
+---------------------+----------------+
| Loongnix-Server 8.3 | PASS |
+---------------------+----------------+
Loongnix-Server 8.3
Kernel: 4.19.190+
Compiler: gcc 8.3
^ permalink raw reply [flat|nested] 31+ messages in thread
* |SUCCESS| pw157716-157715 [PATCH v1 2/2] benchmark report for rte_memcpy
[not found] <20251016090934.1166954-3-chen.qiguo@zte.com.cn>
2025-10-16 8:51 ` |SUCCESS| pw157716-157715 [PATCH v1 2/2] benchmark report for rte_memcpy qemudev
@ 2025-10-16 8:56 ` qemudev
2025-10-16 9:25 ` |WARNING| pw157715 " checkpatch
` (28 subsequent siblings)
30 siblings, 0 replies; 31+ messages in thread
From: qemudev @ 2025-10-16 8:56 UTC (permalink / raw)
To: test-report
Test-Label: loongarch-unit-testing
Test-Status: SUCCESS
http://dpdk.org/patch/157715
_Unit Testing PASS_
Submitter: Qiguo Chen <chen.qiguo@zte.com.cn>
Date: Thu, 16 Oct 2025 17:09:33 +0800
DPDK git baseline: Repo:dpdk
Branch: main
CommitID: 16f4c522003dcfecf23c8d38e009b95a3bbefd03
157716-157715 --> testing pass
Test environment and result as below:
+---------------------+----------------+
| Environment | dpdk_unit_test |
+---------------------+----------------+
| Loongnix-Server 8.3 | PASS |
+---------------------+----------------+
Loongnix-Server 8.3
Kernel: 4.19.190+
Compiler: gcc 8.3
Test result details:
1/120 DPDK:fast-tests / acl_autotest OK 3.31s
2/120 DPDK:fast-tests / alarm_autotest OK 1.59s
3/120 DPDK:fast-tests / argparse_autotest OK 0.58s
4/120 DPDK:fast-tests / atomic_autotest OK 7.24s
5/120 DPDK:fast-tests / bitcount_autotest OK 0.43s
6/120 DPDK:fast-tests / bitmap_autotest OK 0.43s
7/120 DPDK:fast-tests / bitops_autotest OK 1.93s
8/120 DPDK:fast-tests / bitratestats_autotest OK 0.43s
9/120 DPDK:fast-tests / bitset_autotest OK 3.18s
10/120 DPDK:fast-tests / bpf_autotest OK 0.43s
11/120 DPDK:fast-tests / bpf_convert_autotest OK 0.44s
12/120 DPDK:fast-tests / byteorder_autotest OK 0.43s
13/120 DPDK:fast-tests / cfgfile_autotest OK 0.43s
14/120 DPDK:fast-tests / cksum_autotest OK 0.43s
15/120 DPDK:fast-tests / cmdline_autotest OK 0.43s
16/120 DPDK:fast-tests / common_autotest OK 1.31s
17/120 DPDK:fast-tests / compressdev_autotest SKIP 0.07s exit status 77
18/120 DPDK:fast-tests / cpuflags_autotest OK 0.42s
19/120 DPDK:fast-tests / crc_autotest OK 0.43s
20/120 DPDK:fast-tests / user_delay_us OK 0.43s
21/120 DPDK:fast-tests / debug_autotest OK 23.40s
22/120 DPDK:fast-tests / devargs_autotest OK 0.43s
23/120 DPDK:fast-tests / dispatcher_autotest OK 2.48s
24/120 DPDK:fast-tests / distributor_autotest OK 1.20s
25/120 DPDK:fast-tests / eal_flags_c_opt_autotest OK 0.83s
26/120 DPDK:fast-tests / eal_flags_main_opt_autotest OK 0.23s
27/120 DPDK:fast-tests / eal_flags_n_opt_autotest OK 0.20s
28/120 DPDK:fast-tests / eal_flags_hpet_autotest OK 0.14s
29/120 DPDK:fast-tests / eal_flags_no_huge_autotest OK 0.20s
30/120 DPDK:fast-tests / eal_flags_a_opt_autotest OK 0.33s
31/120 DPDK:fast-tests / eal_flags_b_opt_autotest OK 0.27s
32/120 DPDK:fast-tests / eal_flags_vdev_opt_autotest OK 0.21s
33/120 DPDK:fast-tests / eal_flags_r_opt_autotest OK 0.20s
34/120 DPDK:fast-tests / eal_flags_mem_autotest OK 0.61s
35/120 DPDK:fast-tests / eal_flags_file_prefix_autotest OK 22.28s
36/120 DPDK:fast-tests / eal_flags_misc_autotest OK 1.11s
37/120 DPDK:fast-tests / eal_fs_autotest OK 0.43s
38/120 DPDK:fast-tests / errno_autotest OK 0.43s
39/120 DPDK:fast-tests / ethdev_link_status OK 0.43s
40/120 DPDK:fast-tests / event_eth_tx_adapter_autotest OK 1.69s
41/120 DPDK:fast-tests / event_ring_autotest OK 0.43s
42/120 DPDK:fast-tests / eventdev_common_autotest OK 0.43s
43/120 DPDK:fast-tests / eventdev_selftest_sw OK 7.19s
44/120 DPDK:fast-tests / fbarray_autotest OK 0.43s
45/120 DPDK:fast-tests / fib_autotest OK 1.26s
46/120 DPDK:fast-tests / fib6_autotest OK 1.05s
47/120 DPDK:fast-tests / func_reentrancy_autotest OK 2.33s
48/120 DPDK:fast-tests / graph_autotest OK 0.43s
49/120 DPDK:fast-tests / node_list_dump OK 0.43s
50/120 DPDK:fast-tests / graph_feature_arc_autotest OK 0.44s
51/120 DPDK:fast-tests / hash_autotest OK 1.28s
52/120 DPDK:fast-tests / hash_readwrite_func_autotest OK 6.39s
53/120 DPDK:fast-tests / interrupt_autotest OK 2.07s
54/120 DPDK:fast-tests / ipfrag_autotest OK 0.09s
55/120 DPDK:fast-tests / ipsec_autotest SKIP 0.76s exit status 77
56/120 DPDK:fast-tests / kvargs_autotest OK 0.76s
57/120 DPDK:fast-tests / latencystats_autotest OK 0.76s
58/120 DPDK:fast-tests / lcore_var_autotest OK 0.86s
59/120 DPDK:fast-tests / lcores_autotest OK 5.53s
60/120 DPDK:fast-tests / logs_autotest OK 0.75s
61/120 DPDK:fast-tests / lpm_autotest OK 2.80s
62/120 DPDK:fast-tests / lpm6_autotest OK 5.91s
63/120 DPDK:fast-tests / malloc_autotest OK 61.13s
64/120 DPDK:fast-tests / mbuf_autotest OK 4.98s
65/120 DPDK:fast-tests / mcslock_autotest OK 3.33s
66/120 DPDK:fast-tests / member_autotest OK 1.96s
67/120 DPDK:fast-tests / memcpy_autotest OK 7.36s
68/120 DPDK:fast-tests / memory_autotest OK 0.10s
69/120 DPDK:fast-tests / mempool_autotest OK 0.45s
70/120 DPDK:fast-tests / memzone_autotest OK 0.15s
71/120 DPDK:fast-tests / meter_autotest OK 0.75s
72/120 DPDK:fast-tests / metrics_autotest OK 0.75s
73/120 DPDK:fast-tests / multiprocess_autotest OK 0.21s
74/120 DPDK:fast-tests / net_ether_autotest OK 1.41s
75/120 DPDK:fast-tests / net_ipv6_autotest OK 0.75s
76/120 DPDK:fast-tests / pcapng_autotest OK 7.39s
77/120 DPDK:fast-tests / pdcp_autotest SKIP 0.08s exit status 77
78/120 DPDK:fast-tests / pdump_autotest OK 0.86s
79/120 DPDK:fast-tests / per_lcore_autotest OK 0.85s
80/120 DPDK:fast-tests / pflock_autotest OK 1.55s
81/120 DPDK:fast-tests / pie_autotest OK 0.75s
82/120 DPDK:fast-tests / ring_pmd_autotest OK 0.75s
83/120 DPDK:fast-tests / power_autotest OK 0.75s
84/120 DPDK:fast-tests / power_cpufreq_autotest SKIP 0.08s exit status 77
85/120 DPDK:fast-tests / power_intel_uncore_autotest SKIP 0.75s exit status 77
86/120 DPDK:fast-tests / power_kvm_vm_autotest SKIP 0.08s exit status 77
87/120 DPDK:fast-tests / prefetch_autotest OK 0.75s
88/120 DPDK:fast-tests / ptr_compress_autotest OK 0.75s
89/120 DPDK:fast-tests / rawdev_autotest OK 0.75s
90/120 DPDK:fast-tests / rcu_qsbr_autotest OK 1.27s
91/120 DPDK:fast-tests / reorder_autotest OK 0.81s
92/120 DPDK:fast-tests / rib_autotest OK 9.40s
93/120 DPDK:fast-tests / rib6_autotest OK 9.40s
94/120 DPDK:fast-tests / ring_autotest OK 0.78s
95/120 DPDK:fast-tests / rwlock_test1_autotest OK 1.51s
96/120 DPDK:fast-tests / rwlock_rda_autotest OK 5.74s
97/120 DPDK:fast-tests / rwlock_rds_wrm_autotest OK 5.75s
98/120 DPDK:fast-tests / rwlock_rde_wro_autotest OK 5.70s
99/120 DPDK:fast-tests / sched_autotest OK 0.75s
100/120 DPDK:fast-tests / security_autotest OK 0.08s
101/120 DPDK:fast-tests / seqlock_autotest OK 2.74s
102/120 DPDK:fast-tests / service_autotest OK 3.44s
103/120 DPDK:fast-tests / soring_autotest OK 0.75s
104/120 DPDK:fast-tests / spinlock_autotest OK 0.82s
105/120 DPDK:fast-tests / stack_autotest OK 0.88s
106/120 DPDK:fast-tests / stack_lf_autotest SKIP 0.07s exit status 77
107/120 DPDK:fast-tests / string_autotest OK 0.74s
108/120 DPDK:fast-tests / table_autotest OK 8.08s
109/120 DPDK:fast-tests / tailq_autotest OK 0.75s
110/120 DPDK:fast-tests / telemetry_data_autotest OK 0.76s
111/120 DPDK:fast-tests / telemetry_json_autotest OK 0.75s
112/120 DPDK:fast-tests / thash_autotest OK 0.76s
113/120 DPDK:fast-tests / threads_autotest OK 0.92s
114/120 DPDK:fast-tests / ticketlock_autotest OK 0.97s
115/120 DPDK:fast-tests / timer_autotest OK 3.99s
116/120 DPDK:fast-tests / trace_autotest OK 0.71s
117/120 DPDK:fast-tests / trace_autotest_with_traces OK 0.76s
118/120 DPDK:fast-tests / vdev_autotest OK 0.75s
119/120 DPDK:fast-tests / version_autotest OK 0.75s
120/120 DPDK:fast-tests / telemetry_all OK 19.77s
Ok: 113
Expected Fail: 0
Fail: 0
Unexpected Pass: 0
Skipped: 7
Timeout: 0
^ permalink raw reply [flat|nested] 31+ messages in thread
* |WARNING| pw157715 [PATCH v1 2/2] benchmark report for rte_memcpy
[not found] <20251016090934.1166954-3-chen.qiguo@zte.com.cn>
2025-10-16 8:51 ` |SUCCESS| pw157716-157715 [PATCH v1 2/2] benchmark report for rte_memcpy qemudev
2025-10-16 8:56 ` qemudev
@ 2025-10-16 9:25 ` checkpatch
2025-10-16 9:53 ` |PENDING| pw157716-157715 [PATCH] [v1,2/2] benchmark report for rte_ dpdklab
` (27 subsequent siblings)
30 siblings, 0 replies; 31+ messages in thread
From: checkpatch @ 2025-10-16 9:25 UTC (permalink / raw)
To: test-report; +Cc: Qiguo Chen
Test-Label: checkpatch
Test-Status: WARNING
http://dpdk.org/patch/157715
_coding style issues_
ERROR:TRAILING_WHITESPACE: trailing whitespace
#87: FILE: benchmark_report.txt:2:
+ 1 0 - 0( 24.27%) 1 - 1( 13.14%) 2 - 2( -3.48%) 3 - 3( 2.70%) $
ERROR:TRAILING_WHITESPACE: trailing whitespace
#88: FILE: benchmark_report.txt:3:
+ 2 0 - 0( 21.92%) 1 - 1( 4.75%) 2 - 2( -3.58%) 3 - 3( 3.05%) $
ERROR:TRAILING_WHITESPACE: trailing whitespace
#89: FILE: benchmark_report.txt:4:
+ 3 0 - 0( 23.54%) 1 - 1( 9.74%) 2 - 2( -4.24%) 3 - 3( 2.26%) $
ERROR:TRAILING_WHITESPACE: trailing whitespace
#90: FILE: benchmark_report.txt:5:
+ 4 0 - 0( 22.54%) 1 - 1( 7.10%) 2 - 2( -3.96%) 3 - 3( 0.99%) $
ERROR:TRAILING_WHITESPACE: trailing whitespace
#91: FILE: benchmark_report.txt:6:
+ 5 0 - 0( 22.73%) 1 - 1( 9.02%) 2 - 2( -3.18%) 3 - 3( 1.60%) $
ERROR:TRAILING_WHITESPACE: trailing whitespace
#92: FILE: benchmark_report.txt:7:
+ 6 0 - 0( 56.22%) 1 - 1( 8.21%) 2 - 2( -3.65%) 3 - 3( 1.10%) $
ERROR:TRAILING_WHITESPACE: trailing whitespace
#93: FILE: benchmark_report.txt:8:
+ 7 0 - 0( 23.07%) 1 - 1( 6.82%) 2 - 2( -3.53%) 3 - 3( 3.46%) $
ERROR:TRAILING_WHITESPACE: trailing whitespace
#94: FILE: benchmark_report.txt:9:
+ 8 0 - 0( 23.49%) 1 - 1( 7.70%) 2 - 2( -0.26%) 3 - 3( 2.22%) $
ERROR:TRAILING_WHITESPACE: trailing whitespace
#95: FILE: benchmark_report.txt:10:
+ 9 0 - 0( 56.70%) 1 - 1( 7.04%) 2 - 2( -3.75%) 3 - 3( 2.52%) $
ERROR:TRAILING_WHITESPACE: trailing whitespace
#96: FILE: benchmark_report.txt:11:
+ 12 0 - 0( 23.87%) 1 - 1( 5.80%) 2 - 2( -3.76%) 3 - 3( 1.49%) $
ERROR:TRAILING_WHITESPACE: trailing whitespace
#97: FILE: benchmark_report.txt:12:
+ 15 0 - 0( 22.95%) 1 - 1( 5.01%) 2 - 2( -3.52%) 3 - 3( 2.82%) $
ERROR:TRAILING_WHITESPACE: trailing whitespace
#98: FILE: benchmark_report.txt:13:
+ 16 0 - 0( 57.49%) 1 - 1( 7.30%) 2 - 2( 0.19%) 3 - 3( 3.19%) $
ERROR:TRAILING_WHITESPACE: trailing whitespace
#99: FILE: benchmark_report.txt:14:
+ 17 0 - 0( 53.78%) 3 - 2( 51.65%) 4 - 3( 37.35%) 4 - 3( 23.94%) $
ERROR:TRAILING_WHITESPACE: trailing whitespace
#100: FILE: benchmark_report.txt:15:
+ 31 0 - 0( 27.02%) 3 - 2( 51.99%) 4 - 3( 37.34%) 4 - 3( 24.09%) $
ERROR:TRAILING_WHITESPACE: trailing whitespace
#101: FILE: benchmark_report.txt:16:
+ 32 0 - 0( 56.82%) 3 - 2( 50.42%) 4 - 3( 39.73%) 4 - 3( 25.04%) $
ERROR:TRAILING_WHITESPACE: trailing whitespace
#102: FILE: benchmark_report.txt:17:
+ 33 0 - 0( 30.60%) 3 - 3( 30.94%) 6 - 4( 46.89%) 6 - 5( 26.21%) $
ERROR:TRAILING_WHITESPACE: trailing whitespace
#103: FILE: benchmark_report.txt:18:
+ 63 0 - 0( 16.84%) 4 - 3( 21.57%) 6 - 5( 31.74%) 7 - 6( 18.01%) $
ERROR:TRAILING_WHITESPACE: trailing whitespace
#104: FILE: benchmark_report.txt:19:
+ 64 0 - 0( 21.98%) 4 - 3( 21.35%) 6 - 5( 36.13%) 7 - 6( 20.05%) $
ERROR:TRAILING_WHITESPACE: trailing whitespace
#105: FILE: benchmark_report.txt:20:
+ 65 0 - 0( 20.60%) 5 - 4( 31.05%) 6 - 5( 24.16%) 8 - 7( 5.69%) $
ERROR:TRAILING_WHITESPACE: trailing whitespace
#106: FILE: benchmark_report.txt:21:
+ 127 0 - 0( 18.22%) 6 - 6( 9.34%) 8 - 7( 9.72%) 11 - 11( 2.73%) $
ERROR:TRAILING_WHITESPACE: trailing whitespace
#107: FILE: benchmark_report.txt:22:
+ 128 0 - 0( 39.80%) 6 - 6( -0.93%) 8 - 7( 9.65%) 11 - 11( 4.63%) $
ERROR:TRAILING_WHITESPACE: trailing whitespace
#108: FILE: benchmark_report.txt:23:
+ 129 0 - 1(-50.92%) 6 - 7( -4.00%) 9 - 12(-28.67%) 11 - 16(-34.28%) $
ERROR:TRAILING_WHITESPACE: trailing whitespace
#109: FILE: benchmark_report.txt:24:
+ 191 1 - 1(-45.09%) 9 - 9( 5.04%) 12 - 13(-11.82%) 13 - 16(-15.66%) $
ERROR:TRAILING_WHITESPACE: trailing whitespace
#110: FILE: benchmark_report.txt:25:
+ 192 1 - 1(-43.44%) 7 - 9(-18.67%) 12 - 13( -5.92%) 13 - 15(-18.50%) $
ERROR:TRAILING_WHITESPACE: trailing whitespace
#111: FILE: benchmark_report.txt:26:
+ 193 1 - 1(-24.84%) 9 - 9( -5.60%) 12 - 13( -7.44%) 14 - 17(-14.15%) $
ERROR:TRAILING_WHITESPACE: trailing whitespace
#112: FILE: benchmark_report.txt:27:
+ 255 1 - 1(-23.65%) 11 - 11( -4.57%) 13 - 13( -3.46%) 16 - 18( -8.81%) $
ERROR:TRAILING_WHITESPACE: trailing whitespace
#113: FILE: benchmark_report.txt:28:
+ 256 1 - 1( 16.87%) 9 - 11(-13.78%) 14 - 13( 8.58%) 16 - 16( 5.20%) $
ERROR:TRAILING_WHITESPACE: trailing whitespace
#114: FILE: benchmark_report.txt:29:
+ 257 1 - 1(-15.41%) 12 - 13( -6.90%) 15 - 16( -6.71%) 18 - 19( -6.35%) $
ERROR:TRAILING_WHITESPACE: trailing whitespace
#115: FILE: benchmark_report.txt:30:
+ 319 1 - 1(-12.93%) 15 - 19(-18.96%) 17 - 17( -0.55%) 21 - 21( -1.25%) $
ERROR:TRAILING_WHITESPACE: trailing whitespace
#116: FILE: benchmark_report.txt:31:
+ 320 1 - 1(-16.38%) 10 - 17(-39.05%) 18 - 17( 4.65%) 20 - 20( -2.94%) $
ERROR:TRAILING_WHITESPACE: trailing whitespace
#117: FILE: benchmark_report.txt:32:
+ 321 1 - 1( -6.24%) 12 - 19(-36.30%) 18 - 17( 6.65%) 20 - 22( -8.86%) $
ERROR:TRAILING_WHITESPACE: trailing whitespace
#118: FILE: benchmark_report.txt:33:
+ 383 1 - 1( -4.06%) 16 - 20(-17.87%) 18 - 17( 9.18%) 23 - 23( 1.42%) $
ERROR:TRAILING_WHITESPACE: trailing whitespace
#119: FILE: benchmark_report.txt:34:
+ 384 1 - 1( 12.87%) 11 - 18(-36.31%) 18 - 18( 1.92%) 20 - 22( -8.22%) $
ERROR:TRAILING_WHITESPACE: trailing whitespace
#120: FILE: benchmark_report.txt:35:
+ 385 2 - 2( 26.46%) 11 - 20(-46.76%) 15 - 20(-22.07%) 19 - 24(-18.04%) $
ERROR:TRAILING_WHITESPACE: trailing whitespace
#121: FILE: benchmark_report.txt:36:
+ 447 2 - 1( 55.03%) 14 - 21(-34.10%) 15 - 20(-22.75%) 21 - 27(-23.99%) $
ERROR:TRAILING_WHITESPACE: trailing whitespace
#122: FILE: benchmark_report.txt:37:
+ 448 2 - 1( 18.00%) 12 - 20(-38.82%) 16 - 20(-20.82%) 21 - 25(-18.74%) $
ERROR:TRAILING_WHITESPACE: trailing whitespace
#123: FILE: benchmark_report.txt:38:
+ 449 4 - 2(141.90%) 13 - 22(-42.36%) 16 - 20(-22.84%) 21 - 26(-18.35%) $
ERROR:TRAILING_WHITESPACE: trailing whitespace
#124: FILE: benchmark_report.txt:39:
+ 511 3 - 2( 57.68%) 14 - 23(-37.60%) 16 - 20(-18.33%) 21 - 28(-22.10%) $
ERROR:TRAILING_WHITESPACE: trailing whitespace
#125: FILE: benchmark_report.txt:40:
+ 512 2 - 1( 27.98%) 12 - 21(-40.06%) 17 - 20(-15.21%) 21 - 26(-19.65%) $
ERROR:TRAILING_WHITESPACE: trailing whitespace
#126: FILE: benchmark_report.txt:41:
+ 513 2 - 2( 22.93%) 13 - 23(-43.25%) 18 - 22(-19.53%) 23 - 31(-26.70%) $
ERROR:TRAILING_WHITESPACE: trailing whitespace
#127: FILE: benchmark_report.txt:42:
+ 767 7 - 6( 29.60%) 21 - 29(-28.37%) 29 - 23( 29.04%) 32 - 35( -9.38%) $
ERROR:TRAILING_WHITESPACE: trailing whitespace
#128: FILE: benchmark_report.txt:43:
+ 768 6 - 3( 96.51%) 19 - 27(-29.32%) 23 - 21( 6.62%) 31 - 33( -6.22%) $
ERROR:TRAILING_WHITESPACE: trailing whitespace
#129: FILE: benchmark_report.txt:44:
+ 769 7 - 4( 94.30%) 21 - 28(-27.50%) 25 - 24( 3.23%) 32 - 37(-12.00%) $
ERROR:TRAILING_WHITESPACE: trailing whitespace
#130: FILE: benchmark_report.txt:45:
+ 1023 8 - 5( 72.12%) 25 - 34(-27.27%) 34 - 26( 33.59%) 37 - 42(-11.18%) $
ERROR:TRAILING_WHITESPACE: trailing whitespace
#131: FILE: benchmark_report.txt:46:
+ 1024 8 - 6( 41.80%) 23 - 32(-26.49%) 26 - 25( 4.23%) 37 - 40( -7.72%) $
ERROR:TRAILING_WHITESPACE: trailing whitespace
#132: FILE: benchmark_report.txt:47:
+ 1025 8 - 7( 9.36%) 25 - 34(-25.78%) 29 - 27( 7.68%) 38 - 42( -8.87%) $
ERROR:TRAILING_WHITESPACE: trailing whitespace
#133: FILE: benchmark_report.txt:48:
+ 1518 7 - 4( 71.47%) 34 - 45(-24.17%) 45 - 30( 47.69%) 51 - 53( -4.93%) $
ERROR:TRAILING_WHITESPACE: trailing whitespace
#134: FILE: benchmark_report.txt:49:
+ 1522 10 - 8( 19.45%) 35 - 45(-23.62%) 46 - 31( 47.81%) 51 - 52( -0.49%) $
ERROR:TRAILING_WHITESPACE: trailing whitespace
#135: FILE: benchmark_report.txt:50:
+ 1536 10 - 6( 62.55%) 32 - 42(-23.80%) 37 - 29( 29.19%) 50 - 51( -2.70%) $
ERROR:TRAILING_WHITESPACE: trailing whitespace
#136: FILE: benchmark_report.txt:51:
+ 1600 11 - 9( 20.69%) 34 - 43(-21.19%) 47 - 32( 45.63%) 49 - 53( -7.68%) $
ERROR:TRAILING_WHITESPACE: trailing whitespace
#137: FILE: benchmark_report.txt:52:
+ 2048 13 - 10( 26.67%) 53 - 53( -0.25%) 37 - 35( 7.16%) 61 - 62( -0.90%) $
ERROR:TRAILING_WHITESPACE: trailing whitespace
#138: FILE: benchmark_report.txt:53:
+ 2560 16 - 13( 25.07%) 62 - 59( 5.23%) 44 - 45( -0.71%) 71 - 70( 1.05%) $
ERROR:TRAILING_WHITESPACE: trailing whitespace
#139: FILE: benchmark_report.txt:54:
+ 3072 20 - 20( 1.91%) 72 - 71( 1.91%) 49 - 50( -3.36%) 82 - 82( -0.59%) $
ERROR:TRAILING_WHITESPACE: trailing whitespace
#140: FILE: benchmark_report.txt:55:
+ 3584 26 - 26( -0.81%) 81 - 81( -0.17%) 58 - 57( 1.17%) 92 - 91( 1.28%) $
ERROR:TRAILING_WHITESPACE: trailing whitespace
#141: FILE: benchmark_report.txt:56:
+ 4096 25 - 27( -9.39%) 90 - 90( 0.54%) 64 - 63( 0.67%) 102 -102( 0.70%) $
ERROR:TRAILING_WHITESPACE: trailing whitespace
#142: FILE: benchmark_report.txt:57:
+ 4608 31 - 27( 18.45%) 99 - 99( -0.00%) 70 - 70( 0.47%) 111 -111( 0.09%) $
ERROR:TRAILING_WHITESPACE: trailing whitespace
#143: FILE: benchmark_report.txt:58:
+ 5120 41 - 35( 16.65%) 108 -108( -0.28%) 78 - 77( 0.52%) 120 -120( 0.37%) $
ERROR:TRAILING_WHITESPACE: trailing whitespace
#144: FILE: benchmark_report.txt:59:
+ 5632 46 - 47( -2.05%) 117 -117( 0.12%) 85 - 85( 0.38%) 130 -130( -0.19%) $
ERROR:TRAILING_WHITESPACE: trailing whitespace
#145: FILE: benchmark_report.txt:60:
+ 6144 52 - 44( 18.06%) 126 -126( 0.01%) 94 - 93( 0.80%) 139 -138( 0.27%) $
ERROR:TRAILING_WHITESPACE: trailing whitespace
#146: FILE: benchmark_report.txt:61:
+ 6656 27 - 41(-33.88%) 135 -134( 0.33%) 102 -102( 0.52%) 149 -148( 1.11%) $
ERROR:TRAILING_WHITESPACE: trailing whitespace
#147: FILE: benchmark_report.txt:62:
+ 7168 56 - 27(104.91%) 143 -142( 0.33%) 110 -110( 0.15%) 157 -157( 0.07%) $
ERROR:TRAILING_WHITESPACE: trailing whitespace
#148: FILE: benchmark_report.txt:63:
+ 7680 66 - 70( -5.18%) 152 -152( 0.03%) 118 -117( 0.27%) 166 -166( 0.17%) $
ERROR:TRAILING_WHITESPACE: trailing whitespace
#149: FILE: benchmark_report.txt:64:
+ 8192 69 - 44( 57.50%) 161 -160( 0.45%) 125 -124( 0.35%) 176 -175( 0.41%) $
ERROR:TRAILING_WHITESPACE: trailing whitespace
#151: FILE: benchmark_report.txt:66:
+C 6 0 - 0( -1.10%) 1 - 1( 9.45%) 2 - 2( -0.19%) 3 - 3( 2.77%) $
ERROR:TRAILING_WHITESPACE: trailing whitespace
#152: FILE: benchmark_report.txt:67:
+C 64 0 - 0( 0.60%) 3 - 3( 1.28%) 4 - 4( -0.18%) 6 - 6( 0.50%) $
ERROR:TRAILING_WHITESPACE: trailing whitespace
#153: FILE: benchmark_report.txt:68:
+C 128 0 - 0( 35.46%) 6 - 6( -3.33%) 8 - 7( 7.02%) 11 - 11( 1.72%) $
ERROR:TRAILING_WHITESPACE: trailing whitespace
#154: FILE: benchmark_report.txt:69:
+C 192 0 - 1(-48.74%) 7 - 8(-20.51%) 12 - 13(-12.42%) 12 - 15(-22.26%) $
ERROR:TRAILING_WHITESPACE: trailing whitespace
#155: FILE: benchmark_report.txt:70:
+C 256 1 - 1( 11.88%) 9 - 11(-15.05%) 13 - 13( 0.17%) 15 - 16( -1.65%) $
ERROR:TRAILING_WHITESPACE: trailing whitespace
#156: FILE: benchmark_report.txt:71:
+C 512 2 - 1( 27.80%) 13 - 22(-40.28%) 16 - 19(-12.48%) 22 - 25(-13.57%) $
ERROR:TRAILING_WHITESPACE: trailing whitespace
#157: FILE: benchmark_report.txt:72:
+C 768 2 - 2( 11.66%) 18 - 26(-30.06%) 23 - 21( 5.93%) 31 - 33( -7.73%) $
ERROR:TRAILING_WHITESPACE: trailing whitespace
#158: FILE: benchmark_report.txt:73:
+C 1024 6 - 4( 32.78%) 23 - 31(-25.36%) 26 - 24( 5.56%) 37 - 39( -6.05%) $
ERROR:TRAILING_WHITESPACE: trailing whitespace
#159: FILE: benchmark_report.txt:74:
+C 1536 9 - 7( 33.48%) 32 - 43(-23.71%) 37 - 29( 26.46%) 50 - 50( -0.05%) $
ERROR:TRAILING_WHITESPACE: trailing whitespace
#161: FILE: benchmark_report.txt:76:
+ 1 0 - 0( 32.71%) 1 - 1( 7.91%) 2 - 2( 0.99%) 3 - 3( 3.36%) $
ERROR:TRAILING_WHITESPACE: trailing whitespace
#162: FILE: benchmark_report.txt:77:
+ 2 0 - 0( 33.59%) 1 - 1( 6.69%) 2 - 2( 1.04%) 3 - 3( 1.19%) $
ERROR:TRAILING_WHITESPACE: trailing whitespace
#163: FILE: benchmark_report.txt:78:
+ 3 0 - 0( 33.20%) 1 - 1( 8.36%) 2 - 2( 0.87%) 3 - 3( 3.03%) $
ERROR:TRAILING_WHITESPACE: trailing whitespace
#164: FILE: benchmark_report.txt:79:
+ 4 0 - 0( 33.41%) 1 - 1( 6.50%) 2 - 2( 1.03%) 3 - 3( 2.77%) $
ERROR:TRAILING_WHITESPACE: trailing whitespace
#165: FILE: benchmark_report.txt:80:
+ 5 0 - 0( 32.00%) 1 - 1( 6.83%) 2 - 2( 1.16%) 3 - 3( 2.28%) $
ERROR:TRAILING_WHITESPACE: trailing whitespace
#166: FILE: benchmark_report.txt:81:
+ 6 0 - 0( 33.29%) 1 - 1( 7.94%) 2 - 2( 0.93%) 3 - 3( 0.17%) $
ERROR:TRAILING_WHITESPACE: trailing whitespace
#167: FILE: benchmark_report.txt:82:
+ 7 0 - 0( 32.69%) 1 - 1( 6.01%) 2 - 2( 0.93%) 3 - 2( 4.20%) $
ERROR:TRAILING_WHITESPACE: trailing whitespace
#168: FILE: benchmark_report.txt:83:
+ 8 0 - 0( 33.99%) 1 - 1( 5.62%) 2 - 2( 0.92%) 3 - 3( 1.09%) $
ERROR:TRAILING_WHITESPACE: trailing whitespace
#169: FILE: benchmark_report.txt:84:
+ 9 0 - 0( 32.63%) 1 - 1( 6.33%) 2 - 2( 1.13%) 3 - 3( 2.01%) $
ERROR:TRAILING_WHITESPACE: trailing whitespace
#170: FILE: benchmark_report.txt:85:
+ 12 0 - 0( 33.10%) 1 - 1( 7.30%) 4 - 3( 47.16%) 5 - 3( 41.00%) $
ERROR:TRAILING_WHITESPACE: trailing whitespace
#171: FILE: benchmark_report.txt:86:
+ 15 0 - 0( 32.30%) 1 - 1( 6.96%) 4 - 3( 47.34%) 5 - 3( 43.19%) $
ERROR:TRAILING_WHITESPACE: trailing whitespace
#172: FILE: benchmark_report.txt:87:
+ 16 0 - 0( 18.41%) 3 - 2( 68.45%) 4 - 3( 62.20%) 5 - 3( 35.47%) $
ERROR:TRAILING_WHITESPACE: trailing whitespace
#173: FILE: benchmark_report.txt:88:
+ 17 0 - 0( 7.81%) 4 - 3( 37.51%) 5 - 3( 59.08%) 6 - 4( 40.54%) $
ERROR:TRAILING_WHITESPACE: trailing whitespace
#174: FILE: benchmark_report.txt:89:
+ 31 0 - 0( 33.54%) 4 - 3( 31.79%) 6 - 4( 47.27%) 6 - 4( 39.17%) $
ERROR:TRAILING_WHITESPACE: trailing whitespace
#175: FILE: benchmark_report.txt:90:
+ 32 0 - 0( 32.98%) 4 - 3( 29.22%) 6 - 4( 46.89%) 6 - 5( 35.76%) $
ERROR:TRAILING_WHITESPACE: trailing whitespace
#176: FILE: benchmark_report.txt:91:
+ 33 0 - 0( 27.50%) 4 - 4( 6.37%) 6 - 5( 34.85%) 7 - 6( 19.56%) $
ERROR:TRAILING_WHITESPACE: trailing whitespace
#177: FILE: benchmark_report.txt:92:
+ 63 0 - 0( 44.23%) 5 - 5( 19.68%) 7 - 7( 3.62%) 9 - 9( 7.96%) $
ERROR:TRAILING_WHITESPACE: trailing whitespace
#178: FILE: benchmark_report.txt:93:
+ 64 0 - 0( 29.92%) 5 - 5( 14.45%) 7 - 7( 3.11%) 9 - 9( 7.57%) $
ERROR:TRAILING_WHITESPACE: trailing whitespace
#179: FILE: benchmark_report.txt:94:
+ 65 0 - 0( 3.00%) 6 - 5( 6.09%) 8 - 7( 2.61%) 10 - 10( 4.75%) $
ERROR:TRAILING_WHITESPACE: trailing whitespace
#180: FILE: benchmark_report.txt:95:
+ 127 1 - 0( 16.12%) 9 - 8( 10.20%) 12 - 12( -0.66%) 14 - 14( 2.06%) $
ERROR:TRAILING_WHITESPACE: trailing whitespace
#181: FILE: benchmark_report.txt:96:
+ 128 1 - 1( 11.58%) 8 - 8( 2.75%) 12 - 12( -2.33%) 13 - 14( -7.63%) $
ERROR:TRAILING_WHITESPACE: trailing whitespace
#182: FILE: benchmark_report.txt:97:
+ 129 1 - 1(-48.77%) 10 - 12(-13.37%) 12 - 16(-22.85%) 14 - 22(-35.87%) $
ERROR:TRAILING_WHITESPACE: trailing whitespace
#183: FILE: benchmark_report.txt:98:
+ 191 1 - 1(-36.20%) 11 - 12( -4.61%) 13 - 18(-27.05%) 17 - 27(-39.94%) $
ERROR:TRAILING_WHITESPACE: trailing whitespace
#184: FILE: benchmark_report.txt:99:
+ 192 1 - 1(-31.62%) 11 - 12( -9.55%) 14 - 18(-18.64%) 18 - 28(-34.80%) $
ERROR:TRAILING_WHITESPACE: trailing whitespace
#185: FILE: benchmark_report.txt:100:
+ 193 1 - 2(-36.96%) 13 - 13( 0.19%) 15 - 17(-12.88%) 20 - 28(-29.62%) $
ERROR:TRAILING_WHITESPACE: trailing whitespace
#186: FILE: benchmark_report.txt:101:
+ 255 1 - 2(-35.46%) 16 - 18(-12.89%) 17 - 17( 0.23%) 22 - 28(-21.79%) $
ERROR:TRAILING_WHITESPACE: trailing whitespace
#187: FILE: benchmark_report.txt:102:
+ 256 1 - 1( 7.89%) 17 - 19(-10.33%) 17 - 18( -3.25%) 24 - 28(-16.62%) $
ERROR:TRAILING_WHITESPACE: trailing whitespace
#188: FILE: benchmark_report.txt:103:
+ 257 1 - 2(-28.10%) 16 - 19(-11.20%) 19 - 20( -6.80%) 23 - 32(-27.58%) $
ERROR:TRAILING_WHITESPACE: trailing whitespace
#189: FILE: benchmark_report.txt:104:
+ 319 1 - 2(-21.72%) 18 - 19( -6.08%) 21 - 21( 3.22%) 25 - 33(-22.94%) $
ERROR:TRAILING_WHITESPACE: trailing whitespace
#190: FILE: benchmark_report.txt:105:
+ 320 1 - 2(-23.13%) 16 - 21(-19.75%) 21 - 21( 2.12%) 26 - 33(-22.39%) $
ERROR:TRAILING_WHITESPACE: trailing whitespace
#191: FILE: benchmark_report.txt:106:
+ 321 1 - 2(-22.90%) 16 - 21(-22.21%) 21 - 20( 2.73%) 26 - 33(-22.90%) $
ERROR:TRAILING_WHITESPACE: trailing whitespace
#192: FILE: benchmark_report.txt:107:
+ 383 2 - 2(-22.35%) 19 - 20( -7.58%) 21 - 20( 0.49%) 29 - 33(-12.06%) $
ERROR:TRAILING_WHITESPACE: trailing whitespace
#193: FILE: benchmark_report.txt:108:
+ 384 2 - 2( 3.32%) 16 - 21(-22.26%) 20 - 20( 2.75%) 28 - 33(-13.58%) $
ERROR:TRAILING_WHITESPACE: trailing whitespace
#194: FILE: benchmark_report.txt:109:
+ 385 2 - 2(-36.41%) 14 - 21(-32.50%) 18 - 23(-22.20%) 27 - 35(-23.63%) $
ERROR:TRAILING_WHITESPACE: trailing whitespace
#195: FILE: benchmark_report.txt:110:
+ 447 2 - 2( 4.13%) 14 - 20(-28.61%) 16 - 23(-29.60%) 26 - 35(-23.79%) $
ERROR:TRAILING_WHITESPACE: trailing whitespace
#196: FILE: benchmark_report.txt:111:
+ 448 2 - 2(-21.37%) 14 - 22(-35.54%) 18 - 23(-21.17%) 27 - 36(-23.90%) $
ERROR:TRAILING_WHITESPACE: trailing whitespace
#197: FILE: benchmark_report.txt:112:
+ 449 2 - 2(-26.56%) 14 - 22(-36.19%) 18 - 22(-18.43%) 27 - 35(-22.43%) $
ERROR:TRAILING_WHITESPACE: trailing whitespace
#198: FILE: benchmark_report.txt:113:
+ 511 2 - 3(-31.11%) 14 - 22(-35.23%) 19 - 22(-16.50%) 29 - 35(-16.05%) $
ERROR:TRAILING_WHITESPACE: trailing whitespace
#199: FILE: benchmark_report.txt:114:
+ 512 2 - 2( -5.05%) 15 - 24(-37.63%) 19 - 22(-12.75%) 29 - 35(-15.81%) $
ERROR:TRAILING_WHITESPACE: trailing whitespace
#200: FILE: benchmark_report.txt:115:
+ 513 2 - 3(-27.14%) 15 - 24(-38.02%) 19 - 24(-20.39%) 30 - 36(-18.37%) $
ERROR:TRAILING_WHITESPACE: trailing whitespace
#201: FILE: benchmark_report.txt:116:
+ 767 3 - 4(-24.58%) 21 - 28(-26.97%) 23 - 25( -8.20%) 34 - 40(-13.70%) $
ERROR:TRAILING_WHITESPACE: trailing whitespace
#202: FILE: benchmark_report.txt:117:
+ 768 3 - 3( -0.56%) 21 - 29(-27.01%) 23 - 25( -5.67%) 34 - 39(-13.71%) $
ERROR:TRAILING_WHITESPACE: trailing whitespace
#203: FILE: benchmark_report.txt:118:
+ 769 3 - 3(-20.43%) 21 - 29(-26.40%) 23 - 27(-13.86%) 34 - 41(-15.93%) $
ERROR:TRAILING_WHITESPACE: trailing whitespace
#204: FILE: benchmark_report.txt:119:
+ 1023 5 - 5( -7.38%) 23 - 32(-27.22%) 27 - 28( -3.98%) 39 - 44(-11.72%) $
ERROR:TRAILING_WHITESPACE: trailing whitespace
#205: FILE: benchmark_report.txt:120:
+ 1024 5 - 6(-17.62%) 25 - 33(-25.40%) 27 - 28( -2.44%) 39 - 43(-11.14%) $
ERROR:TRAILING_WHITESPACE: trailing whitespace
#206: FILE: benchmark_report.txt:121:
+ 1025 5 - 4( 3.62%) 25 - 33(-25.57%) 27 - 29( -8.17%) 39 - 46(-16.26%) $
ERROR:TRAILING_WHITESPACE: trailing whitespace
#207: FILE: benchmark_report.txt:122:
+ 1518 10 - 10( -4.77%) 33 - 42(-20.47%) 36 - 34( 6.36%) 53 - 54( -2.01%) $
ERROR:TRAILING_WHITESPACE: trailing whitespace
#208: FILE: benchmark_report.txt:123:
+ 1522 10 - 11( -5.28%) 34 - 42(-18.86%) 36 - 33( 8.35%) 53 - 53( -1.57%) $
ERROR:TRAILING_WHITESPACE: trailing whitespace
#209: FILE: benchmark_report.txt:124:
+ 1536 7 - 8(-12.20%) 34 - 42(-19.11%) 39 - 33( 17.70%) 53 - 54( -0.54%) $
ERROR:TRAILING_WHITESPACE: trailing whitespace
#210: FILE: benchmark_report.txt:125:
+ 1600 11 - 9( 20.88%) 35 - 43(-18.54%) 31 - 35(-10.26%) 50 - 55( -9.91%) $
ERROR:TRAILING_WHITESPACE: trailing whitespace
#211: FILE: benchmark_report.txt:126:
+ 2048 15 - 8( 99.56%) 51 - 51( 0.24%) 40 - 39( 1.22%) 64 - 62( 3.14%) $
ERROR:TRAILING_WHITESPACE: trailing whitespace
#212: FILE: benchmark_report.txt:127:
+ 2560 17 - 16( 1.33%) 59 - 60( -0.76%) 47 - 47( 0.75%) 73 - 73( -0.56%) $
ERROR:TRAILING_WHITESPACE: trailing whitespace
#213: FILE: benchmark_report.txt:128:
+ 3072 22 - 20( 8.49%) 68 - 68( 0.32%) 53 - 54( -2.01%) 82 - 83( -0.37%) $
ERROR:TRAILING_WHITESPACE: trailing whitespace
#214: FILE: benchmark_report.txt:129:
+ 3584 30 - 32( -4.26%) 76 - 76( 0.19%) 61 - 60( 1.03%) 91 - 92( -0.92%) $
ERROR:TRAILING_WHITESPACE: trailing whitespace
#215: FILE: benchmark_report.txt:130:
+ 4096 34 - 28( 22.80%) 85 - 86( -0.61%) 67 - 67( 0.03%) 100 -100( -0.08%) $
ERROR:TRAILING_WHITESPACE: trailing whitespace
#216: FILE: benchmark_report.txt:131:
+ 4608 34 - 36( -4.01%) 93 - 93( 0.17%) 74 - 75( -0.47%) 109 -109( 0.44%) $
ERROR:TRAILING_WHITESPACE: trailing whitespace
#217: FILE: benchmark_report.txt:132:
+ 5120 35 - 29( 20.42%) 102 -102( -0.11%) 82 - 82( -0.08%) 119 -119( 0.53%) $
ERROR:TRAILING_WHITESPACE: trailing whitespace
#218: FILE: benchmark_report.txt:133:
+ 5632 44 - 41( 8.71%) 110 -110( 0.14%) 89 - 90( -0.16%) 128 -127( 0.16%) $
ERROR:TRAILING_WHITESPACE: trailing whitespace
#219: FILE: benchmark_report.txt:134:
+ 6144 40 - 48(-17.75%) 119 -119( 0.12%) 98 - 99( -0.31%) 138 -137( 0.56%) $
ERROR:TRAILING_WHITESPACE: trailing whitespace
#220: FILE: benchmark_report.txt:135:
+ 6656 53 - 54( -0.83%) 127 -127( 0.14%) 107 -107( -0.07%) 146 -145( 0.50%) $
ERROR:TRAILING_WHITESPACE: trailing whitespace
#221: FILE: benchmark_report.txt:136:
+ 7168 56 - 59( -5.16%) 136 -136( 0.18%) 115 -115( -0.13%) 155 -155( -0.34%) $
ERROR:TRAILING_WHITESPACE: trailing whitespace
#222: FILE: benchmark_report.txt:137:
+ 7680 71 - 68( 4.02%) 144 -144( 0.01%) 123 -123( -0.06%) 164 -163( 0.47%) $
ERROR:TRAILING_WHITESPACE: trailing whitespace
#223: FILE: benchmark_report.txt:138:
+ 8192 76 - 65( 17.61%) 152 -153( -0.36%) 130 -130( -0.04%) 174 -174( 0.13%) $
ERROR:TRAILING_WHITESPACE: trailing whitespace
#225: FILE: benchmark_report.txt:140:
+C 6 0 - 0( 1.10%) 1 - 1( 8.55%) 2 - 2( 0.06%) 3 - 3( 4.86%) $
ERROR:TRAILING_WHITESPACE: trailing whitespace
#226: FILE: benchmark_report.txt:141:
+C 64 0 - 0( -3.20%) 5 - 5( 0.54%) 7 - 7( 0.27%) 9 - 9( -0.50%) $
ERROR:TRAILING_WHITESPACE: trailing whitespace
#227: FILE: benchmark_report.txt:142:
+C 128 1 - 0( 25.53%) 9 - 8( 3.56%) 12 - 12( -3.53%) 13 - 14( -8.98%) $
ERROR:TRAILING_WHITESPACE: trailing whitespace
#228: FILE: benchmark_report.txt:143:
+C 192 1 - 1(-37.27%) 11 - 12(-10.10%) 13 - 17(-23.33%) 17 - 28(-38.96%) $
ERROR:TRAILING_WHITESPACE: trailing whitespace
#229: FILE: benchmark_report.txt:144:
+C 256 1 - 1( 3.35%) 17 - 19( -8.99%) 16 - 18( -7.62%) 23 - 29(-20.07%) $
ERROR:TRAILING_WHITESPACE: trailing whitespace
#230: FILE: benchmark_report.txt:145:
+C 512 2 - 2( -6.31%) 14 - 24(-38.90%) 19 - 22(-13.61%) 29 - 35(-16.90%) $
ERROR:TRAILING_WHITESPACE: trailing whitespace
#231: FILE: benchmark_report.txt:146:
+C 768 3 - 3( -0.45%) 21 - 29(-25.43%) 23 - 25( -6.64%) 34 - 40(-13.59%) $
ERROR:TRAILING_WHITESPACE: trailing whitespace
#232: FILE: benchmark_report.txt:147:
+C 1024 6 - 6( -5.63%) 25 - 33(-24.23%) 27 - 28( -3.26%) 39 - 43(-10.94%) $
ERROR:TRAILING_WHITESPACE: trailing whitespace
#233: FILE: benchmark_report.txt:148:
+C 1536 8 - 8( 3.04%) 34 - 43(-19.62%) 38 - 33( 15.48%) 53 - 53( -0.43%) $
total: 144 errors, 0 warnings, 149 lines checked
^ permalink raw reply [flat|nested] 31+ messages in thread
* |PENDING| pw157716-157715 [PATCH] [v1,2/2] benchmark report for rte_
[not found] <20251016090934.1166954-3-chen.qiguo@zte.com.cn>
` (2 preceding siblings ...)
2025-10-16 9:25 ` |WARNING| pw157715 " checkpatch
@ 2025-10-16 9:53 ` dpdklab
2025-10-16 9:55 ` |SUCCESS| " dpdklab
` (26 subsequent siblings)
30 siblings, 0 replies; 31+ messages in thread
From: dpdklab @ 2025-10-16 9:53 UTC (permalink / raw)
To: Test Report; +Cc: dpdk-test-reports
Test-Label: iol-unit-amd64-testing
Test-Status: PENDING
http://dpdk.org/patch/157715
_Testing pending_
Submitter: Qiguo Chen <chen.qiguo@zte.com.cn>
Date: Thursday, October 16 2025 09:09:34
DPDK git baseline: Repo:dpdk
Branch: master
CommitID:16f4c522003dcfecf23c8d38e009b95a3bbefd03
157716-157715 --> testing pending
Upstream job id: Generic-Unit-Test-DPDK#382169
Test environment and result as below:
+-------------------------------+----------------+
| Environment | dpdk_unit_test |
+===============================+================+
| Debian GNU/Linux 12 | PEND |
+-------------------------------+----------------+
| Fedora Linux 40 | PEND |
+-------------------------------+----------------+
| Fedora Linux 41 | PEND |
+-------------------------------+----------------+
| Fedora Linux 42 | PEND |
+-------------------------------+----------------+
| CentOS Stream 10 | PEND |
+-------------------------------+----------------+
| CentOS Stream 9 | PEND |
+-------------------------------+----------------+
| Red Hat Enterprise Linux 8.10 | PEND |
+-------------------------------+----------------+
| Red Hat Enterprise Linux 9.5 | PEND |
+-------------------------------+----------------+
| Ubuntu 20.04 | PEND |
+-------------------------------+----------------+
| Ubuntu 24.04 | PEND |
+-------------------------------+----------------+
| Ubuntu 22.04 | PEND |
+-------------------------------+----------------+
Debian GNU/Linux 12
Kernel: 5.15
Compiler: gcc gcc (Debian 12.2.0-14+deb12u1) 12.2.0
Fedora Linux 40
Kernel: 5.15
Compiler: clang gcc (GCC) 14.2.1 20240912 (Red Hat 14.2.1-3)
Fedora Linux 41
Kernel: 5.15
Compiler: gcc gcc (GCC) 14.3.1 20250523 (Red Hat 14.3.1-1)
Fedora Linux 42
Kernel: 5.15
Compiler: gcc gcc (GCC) 15.2.1 20250808 (Red Hat 15.2.1-1)
CentOS Stream 10
Kernel: 5.15
Compiler: gcc gcc (GCC) 14.2.1 20250110 (Red Hat 14.2.1-8)
CentOS Stream 9
Kernel: 5.15
Compiler: gcc gcc (GCC) 11.5.0 20240719 (Red Hat 11.5.0-11)
Red Hat Enterprise Linux 8.10
Kernel: 5.15
Compiler: gcc gcc (GCC) 8.5.0 20210514 (Red Hat 8.5.0-22)
Red Hat Enterprise Linux 9.5
Kernel: 5.15
Compiler: gcc gcc (GCC) 11.5.0 20240719 (Red Hat 11.5.0-2)
Ubuntu 20.04
Kernel: 5.15
Compiler: gcc gcc (Ubuntu 9.4.0-1ubuntu1~20.04.2) 9.4.0
Ubuntu 24.04
Kernel: 5.15
Compiler: gcc gcc (Ubuntu 13.3.0-6ubuntu2~24.04) 13.3.0
Ubuntu 22.04
Kernel: 5.15
Compiler: gcc gcc (Ubuntu 11.4.0-1ubuntu1~22.04) 11.4.0
To view detailed results, visit:
https://lab.dpdk.org/results/dashboard/patchsets/34296/
UNH-IOL DPDK Community Lab
To manage your email subscriptions, visit:
https://lab.dpdk.org/results/dashboard/preferences/subscriptions/
^ permalink raw reply [flat|nested] 31+ messages in thread
* |SUCCESS| pw157716-157715 [PATCH] [v1,2/2] benchmark report for rte_
[not found] <20251016090934.1166954-3-chen.qiguo@zte.com.cn>
` (3 preceding siblings ...)
2025-10-16 9:53 ` |PENDING| pw157716-157715 [PATCH] [v1,2/2] benchmark report for rte_ dpdklab
@ 2025-10-16 9:55 ` dpdklab
2025-10-16 9:55 ` |PENDING| " dpdklab
` (25 subsequent siblings)
30 siblings, 0 replies; 31+ messages in thread
From: dpdklab @ 2025-10-16 9:55 UTC (permalink / raw)
To: Test Report; +Cc: dpdk-test-reports
Test-Label: iol-mellanox-Functional
Test-Status: SUCCESS
http://dpdk.org/patch/157715
_Functional Testing PASS_
Submitter: Qiguo Chen <chen.qiguo@zte.com.cn>
Date: Thursday, October 16 2025 09:09:34
DPDK git baseline: Repo:dpdk
Branch: master
CommitID:16f4c522003dcfecf23c8d38e009b95a3bbefd03
157716-157715 --> functional testing pass
Upstream job id: Template-DPDK-DTS-Pipeline#2478
Test environment and result as below:
Ubuntu 24.04
Kernel: 6.8.0-55-generic
Compiler: gcc 13.3.0
NIC: Mellanox ConnectX-5 100000 Mbps
Aggregate Results by Test Suite
+---------------------------------+--------+
| Test Suite | Result |
+=================================+========+
| blocklist | PASS |
+---------------------------------+--------+
| promisc_support | PASS |
+---------------------------------+--------+
| uni_pkt | PASS |
+---------------------------------+--------+
| dynamic_config | PASS |
+---------------------------------+--------+
| hello_world | PASS |
+---------------------------------+--------+
| l2fwd | PASS |
+---------------------------------+--------+
| port_restart_config_persistency | PASS |
+---------------------------------+--------+
| softnic | PASS |
+---------------------------------+--------+
| vlan | PASS |
+---------------------------------+--------+
To view detailed results, visit:
https://lab.dpdk.org/results/dashboard/patchsets/34296/
UNH-IOL DPDK Community Lab
To manage your email subscriptions, visit:
https://lab.dpdk.org/results/dashboard/preferences/subscriptions/
^ permalink raw reply [flat|nested] 31+ messages in thread
* |PENDING| pw157716-157715 [PATCH] [v1,2/2] benchmark report for rte_
[not found] <20251016090934.1166954-3-chen.qiguo@zte.com.cn>
` (4 preceding siblings ...)
2025-10-16 9:55 ` |SUCCESS| " dpdklab
@ 2025-10-16 9:55 ` dpdklab
2025-10-16 9:56 ` |SUCCESS| " dpdklab
` (24 subsequent siblings)
30 siblings, 0 replies; 31+ messages in thread
From: dpdklab @ 2025-10-16 9:55 UTC (permalink / raw)
To: Test Report; +Cc: dpdk-test-reports
Test-Label: iol-compile-amd64-testing
Test-Status: PENDING
http://dpdk.org/patch/157715
_Testing pending_
Submitter: Qiguo Chen <chen.qiguo@zte.com.cn>
Date: Thursday, October 16 2025 09:09:34
DPDK git baseline: Repo:dpdk
Branch: master
CommitID:16f4c522003dcfecf23c8d38e009b95a3bbefd03
157716-157715 --> testing pending
Upstream job id: Generic-VM-DPDK-Compile-Meson#39039
Test environment and result as below:
+--------------+--------------------+
| Environment | dpdk_meson_compile |
+==============+====================+
| FreeBSD 14.2 | PASS |
+--------------+--------------------+
| Ubuntu 20.04 | PEND |
+--------------+--------------------+
FreeBSD 14.2
Kernel: 14.2-RELEASE
Compiler: clang 18.1.6
Ubuntu 20.04
Kernel: 4.19
Compiler: gcc gcc (Ubuntu 9.4.0-1ubuntu1~20.04.2) 9.4.0
To view detailed results, visit:
https://lab.dpdk.org/results/dashboard/patchsets/34296/
UNH-IOL DPDK Community Lab
To manage your email subscriptions, visit:
https://lab.dpdk.org/results/dashboard/preferences/subscriptions/
^ permalink raw reply [flat|nested] 31+ messages in thread
* |SUCCESS| pw157716-157715 [PATCH] [v1,2/2] benchmark report for rte_
[not found] <20251016090934.1166954-3-chen.qiguo@zte.com.cn>
` (5 preceding siblings ...)
2025-10-16 9:55 ` |PENDING| " dpdklab
@ 2025-10-16 9:56 ` dpdklab
2025-10-16 9:59 ` dpdklab
` (23 subsequent siblings)
30 siblings, 0 replies; 31+ messages in thread
From: dpdklab @ 2025-10-16 9:56 UTC (permalink / raw)
To: Test Report; +Cc: dpdk-test-reports
Test-Label: iol-compile-amd64-testing
Test-Status: SUCCESS
http://dpdk.org/patch/157715
_Testing PASS_
Submitter: Qiguo Chen <chen.qiguo@zte.com.cn>
Date: Thursday, October 16 2025 09:09:34
DPDK git baseline: Repo:dpdk
Branch: master
CommitID:16f4c522003dcfecf23c8d38e009b95a3bbefd03
157716-157715 --> testing pass
Upstream job id: Generic-VM-DPDK-Compile-Meson#39038
Test environment and result as below:
+--------------+--------------------+
| Environment | dpdk_meson_compile |
+==============+====================+
| FreeBSD 14.2 | PASS |
+--------------+--------------------+
| Ubuntu 20.04 | PASS |
+--------------+--------------------+
FreeBSD 14.2
Kernel: 14.2-RELEASE
Compiler: clang 18.1.6
Ubuntu 20.04
Kernel: 4.19
Compiler: gcc gcc (Ubuntu 9.4.0-1ubuntu1~20.04.2) 9.4.0
To view detailed results, visit:
https://lab.dpdk.org/results/dashboard/patchsets/34296/
UNH-IOL DPDK Community Lab
To manage your email subscriptions, visit:
https://lab.dpdk.org/results/dashboard/preferences/subscriptions/
^ permalink raw reply [flat|nested] 31+ messages in thread
* |SUCCESS| pw157716-157715 [PATCH] [v1,2/2] benchmark report for rte_
[not found] <20251016090934.1166954-3-chen.qiguo@zte.com.cn>
` (6 preceding siblings ...)
2025-10-16 9:56 ` |SUCCESS| " dpdklab
@ 2025-10-16 9:59 ` dpdklab
2025-10-16 10:03 ` |PENDING| " dpdklab
` (22 subsequent siblings)
30 siblings, 0 replies; 31+ messages in thread
From: dpdklab @ 2025-10-16 9:59 UTC (permalink / raw)
To: Test Report; +Cc: dpdk-test-reports
Test-Label: iol-marvell-Functional
Test-Status: SUCCESS
http://dpdk.org/patch/157715
_Functional Testing PASS_
Submitter: Qiguo Chen <chen.qiguo@zte.com.cn>
Date: Thursday, October 16 2025 09:09:34
DPDK git baseline: Repo:dpdk
Branch: master
CommitID:16f4c522003dcfecf23c8d38e009b95a3bbefd03
157716-157715 --> functional testing pass
Upstream job id: Template-DTS-Pipeline#249739
Test environment and result as below:
Ubuntu 20.04.6
Kernel: 5.4.105
Compiler: gcc 9.4
NIC: Marvell CN106XX 50000 Mbps
Target: arm64-native-linuxapp-gcc
Aggregate Results by Test Suite
+----------------+--------+
| Test Suite | Result |
+================+========+
| cmdline | PASS |
+----------------+--------+
| rxtx_callbacks | PASS |
+----------------+--------+
To view detailed results, visit:
https://lab.dpdk.org/results/dashboard/patchsets/34296/
UNH-IOL DPDK Community Lab
To manage your email subscriptions, visit:
https://lab.dpdk.org/results/dashboard/preferences/subscriptions/
^ permalink raw reply [flat|nested] 31+ messages in thread
* |PENDING| pw157716-157715 [PATCH] [v1,2/2] benchmark report for rte_
[not found] <20251016090934.1166954-3-chen.qiguo@zte.com.cn>
` (7 preceding siblings ...)
2025-10-16 9:59 ` dpdklab
@ 2025-10-16 10:03 ` dpdklab
2025-10-16 10:11 ` dpdklab
` (21 subsequent siblings)
30 siblings, 0 replies; 31+ messages in thread
From: dpdklab @ 2025-10-16 10:03 UTC (permalink / raw)
To: Test Report; +Cc: dpdk-test-reports
Test-Label: iol-sample-apps-testing
Test-Status: PENDING
http://dpdk.org/patch/157715
_Testing pending_
Submitter: Qiguo Chen <chen.qiguo@zte.com.cn>
Date: Thursday, October 16 2025 09:09:34
DPDK git baseline: Repo:dpdk
Branch: master
CommitID:16f4c522003dcfecf23c8d38e009b95a3bbefd03
157716-157715 --> testing pending
Upstream job id: Template-DTS-Pipeline#249741
Test environment and result as below:
+--------------+----------------------+----------------------+
| Environment | dpdk_fips_validation | compressdev_zlib_pmd |
+==============+======================+======================+
| Ubuntu 20.04 | PEND | SKIPPED |
+--------------+----------------------+----------------------+
| Ubuntu 22.04 | SKIPPED | PASS |
+--------------+----------------------+----------------------+
Ubuntu 20.04
Kernel: 5.15
Compiler: gcc gcc (Ubuntu 9.4.0-1ubuntu1~20.04.2) 9.4.0
Ubuntu 22.04
Kernel: 5.15
Compiler: gcc gcc (Ubuntu 11.4.0-1ubuntu1~22.04.2) 11.4.0
To view detailed results, visit:
https://lab.dpdk.org/results/dashboard/patchsets/34296/
UNH-IOL DPDK Community Lab
To manage your email subscriptions, visit:
https://lab.dpdk.org/results/dashboard/preferences/subscriptions/
^ permalink raw reply [flat|nested] 31+ messages in thread
* |PENDING| pw157716-157715 [PATCH] [v1,2/2] benchmark report for rte_
[not found] <20251016090934.1166954-3-chen.qiguo@zte.com.cn>
` (8 preceding siblings ...)
2025-10-16 10:03 ` |PENDING| " dpdklab
@ 2025-10-16 10:11 ` dpdklab
2025-10-16 10:14 ` |SUCCESS| " dpdklab
` (20 subsequent siblings)
30 siblings, 0 replies; 31+ messages in thread
From: dpdklab @ 2025-10-16 10:11 UTC (permalink / raw)
To: Test Report; +Cc: dpdk-test-reports
Test-Label: iol-unit-arm64-testing
Test-Status: PENDING
http://dpdk.org/patch/157715
_Testing pending_
Submitter: Qiguo Chen <chen.qiguo@zte.com.cn>
Date: Thursday, October 16 2025 09:09:34
DPDK git baseline: Repo:dpdk
Branch: master
CommitID:16f4c522003dcfecf23c8d38e009b95a3bbefd03
157716-157715 --> testing pending
Upstream job id: Aarch32-Unit-Test#7866
Test environment and result as below:
+------------------------------+----------------+---------------------------+--------------+------------------------------+
| Environment | dpdk_unit_test | cryptodev_sw_zuc_autotest | lpm_autotest | cryptodev_sw_snow3g_autotest |
+==============================+================+===========================+==============+==============================+
| Fedora Linux 41 | PEND | SKIPPED | SKIPPED | SKIPPED |
+------------------------------+----------------+---------------------------+--------------+------------------------------+
| Fedora Linux 42 | PEND | SKIPPED | SKIPPED | SKIPPED |
+------------------------------+----------------+---------------------------+--------------+------------------------------+
| Fedora Linux 40 | PEND | SKIPPED | SKIPPED | SKIPPED |
+------------------------------+----------------+---------------------------+--------------+------------------------------+
| CentOS Stream 10 | PEND | SKIPPED | SKIPPED | SKIPPED |
+------------------------------+----------------+---------------------------+--------------+------------------------------+
| Debian GNU/Linux 12 | PEND | SKIPPED | SKIPPED | SKIPPED |
+------------------------------+----------------+---------------------------+--------------+------------------------------+
| Ubuntu 22.04 | PEND | SKIPPED | SKIPPED | SKIPPED |
+------------------------------+----------------+---------------------------+--------------+------------------------------+
| Ubuntu 24.04 | PEND | SKIPPED | SKIPPED | SKIPPED |
+------------------------------+----------------+---------------------------+--------------+------------------------------+
| CentOS Stream 9 | PEND | SKIPPED | SKIPPED | SKIPPED |
+------------------------------+----------------+---------------------------+--------------+------------------------------+
| Ubuntu 20.04 | PEND | SKIPPED | PEND | SKIPPED |
+------------------------------+----------------+---------------------------+--------------+------------------------------+
| Red Hat Enterprise Linux 9.5 | PEND | SKIPPED | SKIPPED | SKIPPED |
+------------------------------+----------------+---------------------------+--------------+------------------------------+
| Debian 12 (arm) | SKIPPED | PEND | SKIPPED | PEND |
+------------------------------+----------------+---------------------------+--------------+------------------------------+
Fedora Linux 41
Kernel: 5.4
Compiler: clang gcc (GCC) 14.3.1 20250523 (Red Hat 14.3.1-1)
Fedora Linux 42
Kernel: 5.4
Compiler: gcc gcc (GCC) 15.2.1 20250808 (Red Hat 15.2.1-1)
Fedora Linux 40
Kernel: 5.4
Compiler: clang gcc (GCC) 14.2.1 20240912 (Red Hat 14.2.1-3)
CentOS Stream 10
Kernel: 5.4
Compiler: gcc gcc (GCC) 14.2.1 20250110 (Red Hat 14.2.1-8)
Debian GNU/Linux 12
Kernel: 5.4
Compiler: gcc gcc (Debian 12.2.0-14+deb12u1) 12.2.0
Ubuntu 22.04
Kernel: 5.15
Compiler: gcc gcc (Ubuntu 11.4.0-1ubuntu1~22.04.2) 11.4.0
Ubuntu 24.04
Kernel: 5.4
Compiler: gcc gcc (Ubuntu 13.3.0-6ubuntu2~24.04) 13.3.0
CentOS Stream 9
Kernel: 5.4
Compiler: gcc gcc (GCC) 11.5.0 20240719 (Red Hat 11.5.0-11)
Ubuntu 20.04
Kernel: 5.4
Compiler: gcc gcc (Ubuntu 9.4.0-1ubuntu1~20.04.2) 9.4.0
Red Hat Enterprise Linux 9.5
Kernel: 5.4
Compiler: gcc gcc (GCC) 11.5.0 20240719 (Red Hat 11.5.0-2)
Debian 12 (arm)
Kernel: Depends on container host
Compiler: gcc (Debian 12.2.0-14) 12.2.0
To view detailed results, visit:
https://lab.dpdk.org/results/dashboard/patchsets/34296/
UNH-IOL DPDK Community Lab
To manage your email subscriptions, visit:
https://lab.dpdk.org/results/dashboard/preferences/subscriptions/
^ permalink raw reply [flat|nested] 31+ messages in thread
* |SUCCESS| pw157716-157715 [PATCH] [v1,2/2] benchmark report for rte_
[not found] <20251016090934.1166954-3-chen.qiguo@zte.com.cn>
` (9 preceding siblings ...)
2025-10-16 10:11 ` dpdklab
@ 2025-10-16 10:14 ` dpdklab
2025-10-16 10:15 ` dpdklab
` (19 subsequent siblings)
30 siblings, 0 replies; 31+ messages in thread
From: dpdklab @ 2025-10-16 10:14 UTC (permalink / raw)
To: Ali Alnubani, Test Report; +Cc: dpdk-test-reports
Test-Label: iol-mellanox-Performance
Test-Status: SUCCESS
http://dpdk.org/patch/157715
_Performance Testing PASS_
Submitter: Qiguo Chen <chen.qiguo@zte.com.cn>
Date: Thursday, October 16 2025 09:09:34
DPDK git baseline: Repo:dpdk
Branch: master
CommitID:16f4c522003dcfecf23c8d38e009b95a3bbefd03
157716-157715 --> performance testing pass
Upstream job id: Template-DTS-Pipeline#249730
Test environment and result as below:
Ubuntu 24.04
Kernel: 6.8
Compiler: gcc gcc (Ubuntu 13.3.0-6ubuntu2~24.04) 13.3.0
NIC: NVIDIA Mellanox ConnectX-7 100000 Mbps
Fail/Total: 0/6
Detail performance results:
+------------+---------+----------+-------------+------------------------------+
| frame_size | txd/rxd | num_cpus | num_threads | throughput difference from |
| | | | | expected |
+============+=========+==========+=============+==============================+
| 64 | 1024 | 1 | 1 | -0.0% |
+------------+---------+----------+-------------+------------------------------+
| 128 | 1024 | 1 | 1 | -0.5% |
+------------+---------+----------+-------------+------------------------------+
| 256 | 1024 | 1 | 1 | 0.2% |
+------------+---------+----------+-------------+------------------------------+
| 512 | 1024 | 1 | 1 | 0.0% |
+------------+---------+----------+-------------+------------------------------+
| 1024 | 1024 | 1 | 1 | -0.0% |
+------------+---------+----------+-------------+------------------------------+
| 1518 | 1024 | 1 | 1 | 0.1% |
+------------+---------+----------+-------------+------------------------------+
Ubuntu 24.04
Kernel: 6.8
Compiler: gcc gcc (Ubuntu 13.3.0-6ubuntu2~24.04) 13.3.0
NIC: Mellanox ConnectX-6 Lx 25000 Mbps
Fail/Total: 0/6
Detail performance results:
+------------+---------+----------+-------------+------------------------------+
| frame_size | txd/rxd | num_cpus | num_threads | throughput difference from |
| | | | | expected |
+============+=========+==========+=============+==============================+
| 64 | 1024 | 1 | 1 | 0.1% |
+------------+---------+----------+-------------+------------------------------+
| 128 | 1024 | 1 | 1 | -0.2% |
+------------+---------+----------+-------------+------------------------------+
| 256 | 1024 | 1 | 1 | -0.2% |
+------------+---------+----------+-------------+------------------------------+
| 512 | 1024 | 1 | 1 | -0.2% |
+------------+---------+----------+-------------+------------------------------+
| 1024 | 1024 | 1 | 1 | -0.2% |
+------------+---------+----------+-------------+------------------------------+
| 1518 | 1024 | 1 | 1 | -0.2% |
+------------+---------+----------+-------------+------------------------------+
To view detailed results, visit:
https://lab.dpdk.org/results/dashboard/patchsets/34296/
UNH-IOL DPDK Community Lab
To manage your email subscriptions, visit:
https://lab.dpdk.org/results/dashboard/preferences/subscriptions/
^ permalink raw reply [flat|nested] 31+ messages in thread
* |SUCCESS| pw157716-157715 [PATCH] [v1,2/2] benchmark report for rte_
[not found] <20251016090934.1166954-3-chen.qiguo@zte.com.cn>
` (10 preceding siblings ...)
2025-10-16 10:14 ` |SUCCESS| " dpdklab
@ 2025-10-16 10:15 ` dpdklab
2025-10-16 10:16 ` dpdklab
` (18 subsequent siblings)
30 siblings, 0 replies; 31+ messages in thread
From: dpdklab @ 2025-10-16 10:15 UTC (permalink / raw)
To: Test Report; +Cc: dpdk-test-reports
Test-Label: iol-sample-apps-testing
Test-Status: SUCCESS
http://dpdk.org/patch/157715
_Testing PASS_
Submitter: Qiguo Chen <chen.qiguo@zte.com.cn>
Date: Thursday, October 16 2025 09:09:34
DPDK git baseline: Repo:dpdk
Branch: master
CommitID:16f4c522003dcfecf23c8d38e009b95a3bbefd03
157716-157715 --> testing pass
Upstream job id: ACVP-FIPS-testing#11450
Test environment and result as below:
+--------------+----------------------+----------------------+
| Environment | dpdk_fips_validation | compressdev_zlib_pmd |
+==============+======================+======================+
| Ubuntu 20.04 | PASS | SKIPPED |
+--------------+----------------------+----------------------+
| Ubuntu 22.04 | SKIPPED | PASS |
+--------------+----------------------+----------------------+
Ubuntu 20.04
Kernel: 5.15
Compiler: gcc gcc (Ubuntu 9.4.0-1ubuntu1~20.04.2) 9.4.0
Ubuntu 22.04
Kernel: 5.15
Compiler: gcc gcc (Ubuntu 11.4.0-1ubuntu1~22.04.2) 11.4.0
To view detailed results, visit:
https://lab.dpdk.org/results/dashboard/patchsets/34296/
UNH-IOL DPDK Community Lab
To manage your email subscriptions, visit:
https://lab.dpdk.org/results/dashboard/preferences/subscriptions/
^ permalink raw reply [flat|nested] 31+ messages in thread
* |SUCCESS| pw157716-157715 [PATCH] [v1,2/2] benchmark report for rte_
[not found] <20251016090934.1166954-3-chen.qiguo@zte.com.cn>
` (11 preceding siblings ...)
2025-10-16 10:15 ` dpdklab
@ 2025-10-16 10:16 ` dpdklab
2025-10-16 10:26 ` dpdklab
` (17 subsequent siblings)
30 siblings, 0 replies; 31+ messages in thread
From: dpdklab @ 2025-10-16 10:16 UTC (permalink / raw)
To: Test Report; +Cc: dpdk-test-reports
Test-Label: iol-intel-Functional
Test-Status: SUCCESS
http://dpdk.org/patch/157715
_Functional Testing PASS_
Submitter: Qiguo Chen <chen.qiguo@zte.com.cn>
Date: Thursday, October 16 2025 09:09:34
DPDK git baseline: Repo:dpdk
Branch: master
CommitID:16f4c522003dcfecf23c8d38e009b95a3bbefd03
157716-157715 --> functional testing pass
Upstream job id: Template-DTS-Pipeline#249736
Test environment and result as below:
Ubuntu 20.04
Kernel: 5.4
Compiler: gcc gcc (Ubuntu 9.4.0-1ubuntu1~20.04.1) 9.4.0
NIC: Intel Corporation Ethernet Converged Network Adapter XL710-QDA2 40000 Mbps
Aggregate Results by Test Suite
+-----------------------------+--------+
| Test Suite | Result |
+=============================+========+
| unit_tests_mbuf | PASS |
+-----------------------------+--------+
| vhost_virtio_user_interrupt | PASS |
+-----------------------------+--------+
| virtio_smoke | PASS |
+-----------------------------+--------+
To view detailed results, visit:
https://lab.dpdk.org/results/dashboard/patchsets/34296/
UNH-IOL DPDK Community Lab
To manage your email subscriptions, visit:
https://lab.dpdk.org/results/dashboard/preferences/subscriptions/
^ permalink raw reply [flat|nested] 31+ messages in thread
* |SUCCESS| pw157716-157715 [PATCH] [v1,2/2] benchmark report for rte_
[not found] <20251016090934.1166954-3-chen.qiguo@zte.com.cn>
` (12 preceding siblings ...)
2025-10-16 10:16 ` dpdklab
@ 2025-10-16 10:26 ` dpdklab
2025-10-16 10:34 ` |SUCCESS| pw157715 [PATCH v1 2/2] benchmark report for rte_memcpy 0-day Robot
` (16 subsequent siblings)
30 siblings, 0 replies; 31+ messages in thread
From: dpdklab @ 2025-10-16 10:26 UTC (permalink / raw)
To: Test Report; +Cc: dpdk-test-reports
Test-Label: iol-unit-amd64-testing
Test-Status: SUCCESS
http://dpdk.org/patch/157715
_Testing PASS_
Submitter: Qiguo Chen <chen.qiguo@zte.com.cn>
Date: Thursday, October 16 2025 09:09:34
DPDK git baseline: Repo:dpdk
Branch: master
CommitID:16f4c522003dcfecf23c8d38e009b95a3bbefd03
157716-157715 --> testing pass
Upstream job id: Generic-Unit-Test-DPDK#382171
Test environment and result as below:
+-------------------------------+----------------+
| Environment | dpdk_unit_test |
+===============================+================+
| Debian GNU/Linux 12 | PASS |
+-------------------------------+----------------+
| Fedora Linux 40 | PASS |
+-------------------------------+----------------+
| Fedora Linux 41 | PASS |
+-------------------------------+----------------+
| Fedora Linux 42 | PASS |
+-------------------------------+----------------+
| CentOS Stream 10 | PASS |
+-------------------------------+----------------+
| CentOS Stream 9 | PASS |
+-------------------------------+----------------+
| Red Hat Enterprise Linux 8.10 | PASS |
+-------------------------------+----------------+
| Red Hat Enterprise Linux 9.5 | PASS |
+-------------------------------+----------------+
| Ubuntu 20.04 | PASS |
+-------------------------------+----------------+
| Ubuntu 24.04 | PASS |
+-------------------------------+----------------+
| Ubuntu 22.04 | PASS |
+-------------------------------+----------------+
Debian GNU/Linux 12
Kernel: 5.15
Compiler: gcc gcc (Debian 12.2.0-14+deb12u1) 12.2.0
Fedora Linux 40
Kernel: 5.15
Compiler: clang gcc (GCC) 14.2.1 20240912 (Red Hat 14.2.1-3)
Fedora Linux 41
Kernel: 5.15
Compiler: gcc gcc (GCC) 14.3.1 20250523 (Red Hat 14.3.1-1)
Fedora Linux 42
Kernel: 5.15
Compiler: gcc gcc (GCC) 15.2.1 20250808 (Red Hat 15.2.1-1)
CentOS Stream 10
Kernel: 5.15
Compiler: gcc gcc (GCC) 14.2.1 20250110 (Red Hat 14.2.1-8)
CentOS Stream 9
Kernel: 5.15
Compiler: gcc gcc (GCC) 11.5.0 20240719 (Red Hat 11.5.0-11)
Red Hat Enterprise Linux 8.10
Kernel: 5.15
Compiler: gcc gcc (GCC) 8.5.0 20210514 (Red Hat 8.5.0-22)
Red Hat Enterprise Linux 9.5
Kernel: 5.15
Compiler: gcc gcc (GCC) 11.5.0 20240719 (Red Hat 11.5.0-2)
Ubuntu 20.04
Kernel: 5.15
Compiler: gcc gcc (Ubuntu 9.4.0-1ubuntu1~20.04.2) 9.4.0
Ubuntu 24.04
Kernel: 5.15
Compiler: gcc gcc (Ubuntu 13.3.0-6ubuntu2~24.04) 13.3.0
Ubuntu 22.04
Kernel: 5.15
Compiler: gcc gcc (Ubuntu 11.4.0-1ubuntu1~22.04) 11.4.0
To view detailed results, visit:
https://lab.dpdk.org/results/dashboard/patchsets/34296/
UNH-IOL DPDK Community Lab
To manage your email subscriptions, visit:
https://lab.dpdk.org/results/dashboard/preferences/subscriptions/
^ permalink raw reply [flat|nested] 31+ messages in thread
* |SUCCESS| pw157715 [PATCH v1 2/2] benchmark report for rte_memcpy
[not found] <20251016090934.1166954-3-chen.qiguo@zte.com.cn>
` (13 preceding siblings ...)
2025-10-16 10:26 ` dpdklab
@ 2025-10-16 10:34 ` 0-day Robot
2025-10-16 10:34 ` 0-day Robot
` (15 subsequent siblings)
30 siblings, 0 replies; 31+ messages in thread
From: 0-day Robot @ 2025-10-16 10:34 UTC (permalink / raw)
To: test-report; +Cc: robot
From: robot@bytheb.org
Test-Label: github-robot: build
Test-Status: SUCCESS
http://patchwork.dpdk.org/patch/157715/
_github build: passed_
Build URL: https://github.com/ovsrobot/dpdk/actions/runs/18556980717
^ permalink raw reply [flat|nested] 31+ messages in thread
* |SUCCESS| pw157715 [PATCH v1 2/2] benchmark report for rte_memcpy
[not found] <20251016090934.1166954-3-chen.qiguo@zte.com.cn>
` (14 preceding siblings ...)
2025-10-16 10:34 ` |SUCCESS| pw157715 [PATCH v1 2/2] benchmark report for rte_memcpy 0-day Robot
@ 2025-10-16 10:34 ` 0-day Robot
2025-10-16 10:43 ` |SUCCESS| pw157716-157715 [PATCH] [v1,2/2] benchmark report for rte_ dpdklab
` (14 subsequent siblings)
30 siblings, 0 replies; 31+ messages in thread
From: 0-day Robot @ 2025-10-16 10:34 UTC (permalink / raw)
To: test-report; +Cc: robot
From: robot@bytheb.org
Test-Label: github-robot-post
Test-Status: SUCCESS
http://patchwork.dpdk.org/patch/157715/
_github post: success_
HTML Link: https://github.com/ovsrobot/dpdk/pull/195
^ permalink raw reply [flat|nested] 31+ messages in thread
* |SUCCESS| pw157716-157715 [PATCH] [v1,2/2] benchmark report for rte_
[not found] <20251016090934.1166954-3-chen.qiguo@zte.com.cn>
` (15 preceding siblings ...)
2025-10-16 10:34 ` 0-day Robot
@ 2025-10-16 10:43 ` dpdklab
2025-10-16 10:54 ` dpdklab
` (13 subsequent siblings)
30 siblings, 0 replies; 31+ messages in thread
From: dpdklab @ 2025-10-16 10:43 UTC (permalink / raw)
To: Test Report; +Cc: dpdk-test-reports
Test-Label: iol-intel-Performance
Test-Status: SUCCESS
http://dpdk.org/patch/157715
_Performance Testing PASS_
Submitter: Qiguo Chen <chen.qiguo@zte.com.cn>
Date: Thursday, October 16 2025 09:09:34
DPDK git baseline: Repo:dpdk
Branch: master
CommitID:16f4c522003dcfecf23c8d38e009b95a3bbefd03
157716-157715 --> performance testing pass
Upstream job id: Template-DTS-Pipeline#249732
Test environment and result as below:
Ubuntu 22.04
Kernel: 5.15
Compiler: gcc gcc (Ubuntu 11.4.0-1ubuntu1~22.04.2) 11.4.0
NIC: Intel E810 100000 Mbps
Fail/Total: 0/2
Detail performance results:
+------------+---------+----------+-------------+------------------------------+
| frame_size | txd/rxd | num_cpus | num_threads | throughput difference from |
| | | | | expected |
+============+=========+==========+=============+==============================+
| 64 | 512 | 1 | 1 | -0.0% |
+------------+---------+----------+-------------+------------------------------+
| 64 | 2048 | 1 | 1 | 0.3% |
+------------+---------+----------+-------------+------------------------------+
Ubuntu 20.04
Kernel: 5.4
Compiler: gcc gcc (Ubuntu 9.4.0-1ubuntu1~20.04.1) 9.4.0
NIC: Intel Corporation Ethernet Converged Network Adapter XL710-QDA2 40000 Mbps
Fail/Total: 0/4
Detail performance results:
+----------+-------------+---------+------------+------------------------------+
| num_cpus | num_threads | txd/rxd | frame_size | throughput difference from |
| | | | | expected |
+==========+=============+=========+============+==============================+
| 1 | 2 | 512 | 64 | 0.3% |
+----------+-------------+---------+------------+------------------------------+
| 1 | 2 | 2048 | 64 | 1.4% |
+----------+-------------+---------+------------+------------------------------+
| 1 | 1 | 512 | 64 | -0.4% |
+----------+-------------+---------+------------+------------------------------+
| 1 | 1 | 2048 | 64 | -3.2% |
+----------+-------------+---------+------------+------------------------------+
Ubuntu 24.04
Kernel: 6.8
Compiler: gcc gcc (Ubuntu 13.3.0-6ubuntu2~24.04) 13.3.0
NIC: Intel E810 (Arm Grace Server) 100000 Mbps
Fail/Total: 0/2
Detail performance results:
+------------+---------+----------+-------------+------------------------------+
| frame_size | txd/rxd | num_cpus | num_threads | throughput difference from |
| | | | | expected |
+============+=========+==========+=============+==============================+
| 64 | 512 | 1 | 1 | 2.9% |
+------------+---------+----------+-------------+------------------------------+
| 64 | 2048 | 1 | 1 | 3.4% |
+------------+---------+----------+-------------+------------------------------+
To view detailed results, visit:
https://lab.dpdk.org/results/dashboard/patchsets/34296/
UNH-IOL DPDK Community Lab
To manage your email subscriptions, visit:
https://lab.dpdk.org/results/dashboard/preferences/subscriptions/
^ permalink raw reply [flat|nested] 31+ messages in thread
* |SUCCESS| pw157716-157715 [PATCH] [v1,2/2] benchmark report for rte_
[not found] <20251016090934.1166954-3-chen.qiguo@zte.com.cn>
` (16 preceding siblings ...)
2025-10-16 10:43 ` |SUCCESS| pw157716-157715 [PATCH] [v1,2/2] benchmark report for rte_ dpdklab
@ 2025-10-16 10:54 ` dpdklab
2025-10-16 11:05 ` dpdklab
` (12 subsequent siblings)
30 siblings, 0 replies; 31+ messages in thread
From: dpdklab @ 2025-10-16 10:54 UTC (permalink / raw)
To: Test Report; +Cc: dpdk-test-reports
Test-Label: iol-sample-apps-testing
Test-Status: SUCCESS
http://dpdk.org/patch/157715
_Testing PASS_
Submitter: Qiguo Chen <chen.qiguo@zte.com.cn>
Date: Thursday, October 16 2025 09:09:34
DPDK git baseline: Repo:dpdk
Branch: master
CommitID:16f4c522003dcfecf23c8d38e009b95a3bbefd03
157716-157715 --> testing pass
Upstream job id: Template-DTS-Pipeline#249740
Test environment and result as below:
+--------------+----------------------+----------------------+
| Environment | dpdk_fips_validation | compressdev_zlib_pmd |
+==============+======================+======================+
| Ubuntu 20.04 | PASS | SKIPPED |
+--------------+----------------------+----------------------+
| Ubuntu 22.04 | SKIPPED | PASS |
+--------------+----------------------+----------------------+
Ubuntu 20.04
Kernel: 5.15
Compiler: gcc gcc (Ubuntu 9.4.0-1ubuntu1~20.04.2) 9.4.0
Ubuntu 22.04
Kernel: 5.15
Compiler: gcc gcc (Ubuntu 11.4.0-1ubuntu1~22.04.2) 11.4.0
To view detailed results, visit:
https://lab.dpdk.org/results/dashboard/patchsets/34296/
UNH-IOL DPDK Community Lab
To manage your email subscriptions, visit:
https://lab.dpdk.org/results/dashboard/preferences/subscriptions/
^ permalink raw reply [flat|nested] 31+ messages in thread
* |SUCCESS| pw157716-157715 [PATCH] [v1,2/2] benchmark report for rte_
[not found] <20251016090934.1166954-3-chen.qiguo@zte.com.cn>
` (17 preceding siblings ...)
2025-10-16 10:54 ` dpdklab
@ 2025-10-16 11:05 ` dpdklab
2025-10-16 11:19 ` dpdklab
` (11 subsequent siblings)
30 siblings, 0 replies; 31+ messages in thread
From: dpdklab @ 2025-10-16 11:05 UTC (permalink / raw)
To: Test Report; +Cc: dpdk-test-reports
Test-Label: iol-compile-amd64-testing
Test-Status: SUCCESS
http://dpdk.org/patch/157715
_Testing PASS_
Submitter: Qiguo Chen <chen.qiguo@zte.com.cn>
Date: Thursday, October 16 2025 09:09:34
DPDK git baseline: Repo:dpdk
Branch: master
CommitID:16f4c522003dcfecf23c8d38e009b95a3bbefd03
157716-157715 --> testing pass
Upstream job id: Windows-Compile-DPDK-VS#7219
Test environment and result as below:
+---------------------+--------------------+-------------------+
| Environment | dpdk_meson_compile | dpdk_msvc_compile |
+=====================+====================+===================+
| FreeBSD 14.2 | PASS | SKIPPED |
+---------------------+--------------------+-------------------+
| Ubuntu 20.04 | PASS | SKIPPED |
+---------------------+--------------------+-------------------+
| Windows Server 2022 | SKIPPED | PASS |
+---------------------+--------------------+-------------------+
FreeBSD 14.2
Kernel: 14.2-RELEASE
Compiler: clang 18.1.6
Ubuntu 20.04
Kernel: 4.19
Compiler: gcc gcc (Ubuntu 9.4.0-1ubuntu1~20.04.2) 9.4.0
Windows Server 2022
Kernel: 10.0.20348.2031
Compiler: clang 15.0.7, gcc 14.1.0 (MinGW), and MSVC VS 19.39.33521
To view detailed results, visit:
https://lab.dpdk.org/results/dashboard/patchsets/34296/
UNH-IOL DPDK Community Lab
To manage your email subscriptions, visit:
https://lab.dpdk.org/results/dashboard/preferences/subscriptions/
^ permalink raw reply [flat|nested] 31+ messages in thread
* |SUCCESS| pw157716-157715 [PATCH] [v1,2/2] benchmark report for rte_
[not found] <20251016090934.1166954-3-chen.qiguo@zte.com.cn>
` (18 preceding siblings ...)
2025-10-16 11:05 ` dpdklab
@ 2025-10-16 11:19 ` dpdklab
2025-10-16 11:26 ` dpdklab
` (10 subsequent siblings)
30 siblings, 0 replies; 31+ messages in thread
From: dpdklab @ 2025-10-16 11:19 UTC (permalink / raw)
To: Test Report; +Cc: dpdk-test-reports
Test-Label: iol-unit-amd64-testing
Test-Status: SUCCESS
http://dpdk.org/patch/157715
_Testing PASS_
Submitter: Qiguo Chen <chen.qiguo@zte.com.cn>
Date: Thursday, October 16 2025 09:09:34
DPDK git baseline: Repo:dpdk
Branch: master
CommitID:16f4c522003dcfecf23c8d38e009b95a3bbefd03
157716-157715 --> testing pass
Upstream job id: Generic-VM-Unit-Test-DPDK#31844
Test environment and result as below:
+-------------------------------+----------------+
| Environment | dpdk_unit_test |
+===============================+================+
| Debian GNU/Linux 12 | PASS |
+-------------------------------+----------------+
| Fedora Linux 40 | PASS |
+-------------------------------+----------------+
| Fedora Linux 41 | PASS |
+-------------------------------+----------------+
| Fedora Linux 42 | PASS |
+-------------------------------+----------------+
| CentOS Stream 10 | PASS |
+-------------------------------+----------------+
| CentOS Stream 9 | PASS |
+-------------------------------+----------------+
| Red Hat Enterprise Linux 8.10 | PASS |
+-------------------------------+----------------+
| Red Hat Enterprise Linux 9.5 | PASS |
+-------------------------------+----------------+
| Ubuntu 20.04 | PASS |
+-------------------------------+----------------+
| Ubuntu 24.04 | PASS |
+-------------------------------+----------------+
| Ubuntu 22.04 | PASS |
+-------------------------------+----------------+
| Windows Server 2022 | PASS |
+-------------------------------+----------------+
Debian GNU/Linux 12
Kernel: 5.15
Compiler: gcc gcc (Debian 12.2.0-14+deb12u1) 12.2.0
Fedora Linux 40
Kernel: 5.15
Compiler: clang gcc (GCC) 14.2.1 20240912 (Red Hat 14.2.1-3)
Fedora Linux 41
Kernel: 5.15
Compiler: gcc gcc (GCC) 14.3.1 20250523 (Red Hat 14.3.1-1)
Fedora Linux 42
Kernel: 5.15
Compiler: gcc gcc (GCC) 15.2.1 20250808 (Red Hat 15.2.1-1)
CentOS Stream 10
Kernel: 5.15
Compiler: gcc gcc (GCC) 14.2.1 20250110 (Red Hat 14.2.1-8)
CentOS Stream 9
Kernel: 5.15
Compiler: gcc gcc (GCC) 11.5.0 20240719 (Red Hat 11.5.0-11)
Red Hat Enterprise Linux 8.10
Kernel: 5.15
Compiler: gcc gcc (GCC) 8.5.0 20210514 (Red Hat 8.5.0-22)
Red Hat Enterprise Linux 9.5
Kernel: 5.15
Compiler: gcc gcc (GCC) 11.5.0 20240719 (Red Hat 11.5.0-2)
Ubuntu 20.04
Kernel: 5.15
Compiler: gcc gcc (Ubuntu 9.4.0-1ubuntu1~20.04.2) 9.4.0
Ubuntu 24.04
Kernel: 5.15
Compiler: gcc gcc (Ubuntu 13.3.0-6ubuntu2~24.04) 13.3.0
Ubuntu 22.04
Kernel: 5.15
Compiler: gcc gcc (Ubuntu 11.4.0-1ubuntu1~22.04) 11.4.0
Windows Server 2022
Kernel: 10.0.20348.2031
Compiler: clang 15.0.7, gcc 14.1.0 (MinGW), and MSVC VS 19.39.33521
To view detailed results, visit:
https://lab.dpdk.org/results/dashboard/patchsets/34296/
UNH-IOL DPDK Community Lab
To manage your email subscriptions, visit:
https://lab.dpdk.org/results/dashboard/preferences/subscriptions/
^ permalink raw reply [flat|nested] 31+ messages in thread
* |SUCCESS| pw157716-157715 [PATCH] [v1,2/2] benchmark report for rte_
[not found] <20251016090934.1166954-3-chen.qiguo@zte.com.cn>
` (19 preceding siblings ...)
2025-10-16 11:19 ` dpdklab
@ 2025-10-16 11:26 ` dpdklab
2025-10-16 11:48 ` dpdklab
` (9 subsequent siblings)
30 siblings, 0 replies; 31+ messages in thread
From: dpdklab @ 2025-10-16 11:26 UTC (permalink / raw)
To: Test Report; +Cc: dpdk-test-reports
Test-Label: iol-broadcom-Performance
Test-Status: SUCCESS
http://dpdk.org/patch/157715
_Performance Testing PASS_
Submitter: Qiguo Chen <chen.qiguo@zte.com.cn>
Date: Thursday, October 16 2025 09:09:34
DPDK git baseline: Repo:dpdk
Branch: master
CommitID:16f4c522003dcfecf23c8d38e009b95a3bbefd03
157716-157715 --> performance testing pass
Upstream job id: Template-DTS-Pipeline#249734
Test environment and result as below:
Ubuntu 22.04
Kernel: 5.15
Compiler: gcc gcc (Ubuntu 11.4.0-1ubuntu1~22.04.2) 11.4.0
NIC: Arm Broadcom Inc. brcm_57414 25000 Mbps
Fail/Total: 0/2
Detail performance results:
+------------+---------+----------+-------------+------------------------------+
| frame_size | txd/rxd | num_cpus | num_threads | throughput difference from |
| | | | | expected |
+============+=========+==========+=============+==============================+
| 64 | 512 | 1 | 1 | -0.2% |
+------------+---------+----------+-------------+------------------------------+
| 64 | 2048 | 1 | 1 | 0.0% |
+------------+---------+----------+-------------+------------------------------+
Ubuntu 22.04
Kernel: 5.15
Compiler: gcc gcc (Ubuntu 11.4.0-1ubuntu1~22.04) 11.4.0
NIC: Broadcom Inc. and subsidiaries BCM57414 NetXtreme-E 10Gb/25Gb RDMA Ethernet Controller 16d7 25 Mbps
Fail/Total: 0/3
Detail performance results:
+------------+---------+----------+-------------+------------------------------+
| frame_size | txd/rxd | num_cpus | num_threads | throughput difference from |
| | | | | expected |
+============+=========+==========+=============+==============================+
| 64 | 128 | 1 | 1 | 0.3% |
+------------+---------+----------+-------------+------------------------------+
| 64 | 512 | 1 | 1 | -1.1% |
+------------+---------+----------+-------------+------------------------------+
| 64 | 2048 | 1 | 1 | -0.2% |
+------------+---------+----------+-------------+------------------------------+
To view detailed results, visit:
https://lab.dpdk.org/results/dashboard/patchsets/34296/
UNH-IOL DPDK Community Lab
To manage your email subscriptions, visit:
https://lab.dpdk.org/results/dashboard/preferences/subscriptions/
^ permalink raw reply [flat|nested] 31+ messages in thread
* |SUCCESS| pw157716-157715 [PATCH] [v1,2/2] benchmark report for rte_
[not found] <20251016090934.1166954-3-chen.qiguo@zte.com.cn>
` (20 preceding siblings ...)
2025-10-16 11:26 ` dpdklab
@ 2025-10-16 11:48 ` dpdklab
2025-10-16 11:48 ` dpdklab
` (8 subsequent siblings)
30 siblings, 0 replies; 31+ messages in thread
From: dpdklab @ 2025-10-16 11:48 UTC (permalink / raw)
To: Test Report; +Cc: dpdk-test-reports
Test-Label: iol-unit-amd64-testing
Test-Status: SUCCESS
http://dpdk.org/patch/157715
_Testing PASS_
Submitter: Qiguo Chen <chen.qiguo@zte.com.cn>
Date: Thursday, October 16 2025 09:09:34
DPDK git baseline: Repo:dpdk
Branch: master
CommitID:16f4c522003dcfecf23c8d38e009b95a3bbefd03
157716-157715 --> testing pass
Upstream job id: Generic-VM-Unit-Test-DPDK#31845
Test environment and result as below:
+-------------------------------+----------------+
| Environment | dpdk_unit_test |
+===============================+================+
| Debian GNU/Linux 12 | PASS |
+-------------------------------+----------------+
| Fedora Linux 40 | PASS |
+-------------------------------+----------------+
| Fedora Linux 41 | PASS |
+-------------------------------+----------------+
| Fedora Linux 42 | PASS |
+-------------------------------+----------------+
| CentOS Stream 10 | PASS |
+-------------------------------+----------------+
| CentOS Stream 9 | PASS |
+-------------------------------+----------------+
| Red Hat Enterprise Linux 8.10 | PASS |
+-------------------------------+----------------+
| Red Hat Enterprise Linux 9.5 | PASS |
+-------------------------------+----------------+
| Ubuntu 20.04 | PASS |
+-------------------------------+----------------+
| Ubuntu 24.04 | PASS |
+-------------------------------+----------------+
| Ubuntu 22.04 | PASS |
+-------------------------------+----------------+
| Windows Server 2022 | PASS |
+-------------------------------+----------------+
Debian GNU/Linux 12
Kernel: 5.15
Compiler: gcc gcc (Debian 12.2.0-14+deb12u1) 12.2.0
Fedora Linux 40
Kernel: 5.15
Compiler: clang gcc (GCC) 14.2.1 20240912 (Red Hat 14.2.1-3)
Fedora Linux 41
Kernel: 5.15
Compiler: gcc gcc (GCC) 14.3.1 20250523 (Red Hat 14.3.1-1)
Fedora Linux 42
Kernel: 5.15
Compiler: gcc gcc (GCC) 15.2.1 20250808 (Red Hat 15.2.1-1)
CentOS Stream 10
Kernel: 5.15
Compiler: gcc gcc (GCC) 14.2.1 20250110 (Red Hat 14.2.1-8)
CentOS Stream 9
Kernel: 5.15
Compiler: gcc gcc (GCC) 11.5.0 20240719 (Red Hat 11.5.0-11)
Red Hat Enterprise Linux 8.10
Kernel: 5.15
Compiler: gcc gcc (GCC) 8.5.0 20210514 (Red Hat 8.5.0-22)
Red Hat Enterprise Linux 9.5
Kernel: 5.15
Compiler: gcc gcc (GCC) 11.5.0 20240719 (Red Hat 11.5.0-2)
Ubuntu 20.04
Kernel: 5.15
Compiler: gcc gcc (Ubuntu 9.4.0-1ubuntu1~20.04.2) 9.4.0
Ubuntu 24.04
Kernel: 5.15
Compiler: gcc gcc (Ubuntu 13.3.0-6ubuntu2~24.04) 13.3.0
Ubuntu 22.04
Kernel: 5.15
Compiler: gcc gcc (Ubuntu 11.4.0-1ubuntu1~22.04) 11.4.0
Windows Server 2022
Kernel: 10.0.20348.2031
Compiler: clang 15.0.7, gcc 14.1.0 (MinGW), and MSVC VS 19.39.33521
To view detailed results, visit:
https://lab.dpdk.org/results/dashboard/patchsets/34296/
UNH-IOL DPDK Community Lab
To manage your email subscriptions, visit:
https://lab.dpdk.org/results/dashboard/preferences/subscriptions/
^ permalink raw reply [flat|nested] 31+ messages in thread
* |SUCCESS| pw157716-157715 [PATCH] [v1,2/2] benchmark report for rte_
[not found] <20251016090934.1166954-3-chen.qiguo@zte.com.cn>
` (21 preceding siblings ...)
2025-10-16 11:48 ` dpdklab
@ 2025-10-16 11:48 ` dpdklab
2025-10-16 13:04 ` dpdklab
` (7 subsequent siblings)
30 siblings, 0 replies; 31+ messages in thread
From: dpdklab @ 2025-10-16 11:48 UTC (permalink / raw)
To: Test Report; +Cc: dpdk-test-reports
Test-Label: iol-intel-Functional
Test-Status: SUCCESS
http://dpdk.org/patch/157715
_Functional Testing PASS_
Submitter: Qiguo Chen <chen.qiguo@zte.com.cn>
Date: Thursday, October 16 2025 09:09:34
DPDK git baseline: Repo:dpdk
Branch: master
CommitID:16f4c522003dcfecf23c8d38e009b95a3bbefd03
157716-157715 --> functional testing pass
Upstream job id: Template-DTS-Pipeline#249738
Test environment and result as below:
Ubuntu 20.04
Kernel: 5.4
Compiler: gcc gcc (Ubuntu 9.4.0-1ubuntu1~20.04.1) 9.4.0
NIC: Intel Corporation Ethernet Converged Network Adapter XL710-QDA2 40000 Mbps
Aggregate Results by Test Suite
+-----------------------------+--------+
| Test Suite | Result |
+=============================+========+
| unit_tests_mbuf | PASS |
+-----------------------------+--------+
| vhost_virtio_user_interrupt | PASS |
+-----------------------------+--------+
| virtio_smoke | PASS |
+-----------------------------+--------+
Ubuntu 22.04
Kernel: 5.15
Compiler: gcc gcc (Ubuntu 11.4.0-1ubuntu1~22.04.2) 11.4.0
NIC: Intel Corporation QAT 8970 0 Mbps
Aggregate Results by Test Suite
+----------------------------+--------+
| Test Suite | Result |
+============================+========+
| crypto_perf_cryptodev_perf | PASS |
+----------------------------+--------+
To view detailed results, visit:
https://lab.dpdk.org/results/dashboard/patchsets/34296/
UNH-IOL DPDK Community Lab
To manage your email subscriptions, visit:
https://lab.dpdk.org/results/dashboard/preferences/subscriptions/
^ permalink raw reply [flat|nested] 31+ messages in thread
* |SUCCESS| pw157716-157715 [PATCH] [v1,2/2] benchmark report for rte_
[not found] <20251016090934.1166954-3-chen.qiguo@zte.com.cn>
` (22 preceding siblings ...)
2025-10-16 11:48 ` dpdklab
@ 2025-10-16 13:04 ` dpdklab
2025-10-16 13:49 ` dpdklab
` (6 subsequent siblings)
30 siblings, 0 replies; 31+ messages in thread
From: dpdklab @ 2025-10-16 13:04 UTC (permalink / raw)
To: Test Report; +Cc: dpdk-test-reports
Test-Label: iol-compile-amd64-testing
Test-Status: SUCCESS
http://dpdk.org/patch/157715
_Testing PASS_
Submitter: Qiguo Chen <chen.qiguo@zte.com.cn>
Date: Thursday, October 16 2025 09:09:34
DPDK git baseline: Repo:dpdk
Branch: master
CommitID:16f4c522003dcfecf23c8d38e009b95a3bbefd03
157716-157715 --> testing pass
Upstream job id: Windows-Compile-DPDK-Native#31673
Test environment and result as below:
+---------------------+--------------------+-------------------+-------------------------+
| Environment | dpdk_meson_compile | dpdk_msvc_compile | dpdk_llvm_clang_compile |
+=====================+====================+===================+=========================+
| FreeBSD 14.2 | PASS | SKIPPED | SKIPPED |
+---------------------+--------------------+-------------------+-------------------------+
| Ubuntu 20.04 | PASS | SKIPPED | SKIPPED |
+---------------------+--------------------+-------------------+-------------------------+
| Windows Server 2022 | SKIPPED | PASS | PASS |
+---------------------+--------------------+-------------------+-------------------------+
FreeBSD 14.2
Kernel: 14.2-RELEASE
Compiler: clang 18.1.6
Ubuntu 20.04
Kernel: 4.19
Compiler: gcc gcc (Ubuntu 9.4.0-1ubuntu1~20.04.2) 9.4.0
Windows Server 2022
Kernel: 10.0.20348.2031
Compiler: clang 15.0.7, gcc 14.1.0 (MinGW), and MSVC VS 19.39.33521
To view detailed results, visit:
https://lab.dpdk.org/results/dashboard/patchsets/34296/
UNH-IOL DPDK Community Lab
To manage your email subscriptions, visit:
https://lab.dpdk.org/results/dashboard/preferences/subscriptions/
^ permalink raw reply [flat|nested] 31+ messages in thread
* |SUCCESS| pw157716-157715 [PATCH] [v1,2/2] benchmark report for rte_
[not found] <20251016090934.1166954-3-chen.qiguo@zte.com.cn>
` (23 preceding siblings ...)
2025-10-16 13:04 ` dpdklab
@ 2025-10-16 13:49 ` dpdklab
2025-10-16 18:06 ` dpdklab
` (5 subsequent siblings)
30 siblings, 0 replies; 31+ messages in thread
From: dpdklab @ 2025-10-16 13:49 UTC (permalink / raw)
To: Test Report; +Cc: dpdk-test-reports
Test-Label: iol-compile-amd64-testing
Test-Status: SUCCESS
http://dpdk.org/patch/157715
_Testing PASS_
Submitter: Qiguo Chen <chen.qiguo@zte.com.cn>
Date: Thursday, October 16 2025 09:09:34
DPDK git baseline: Repo:dpdk
Branch: master
CommitID:16f4c522003dcfecf23c8d38e009b95a3bbefd03
157716-157715 --> testing pass
Upstream job id: Windows-Compile-DPDK-Native#31674
Test environment and result as below:
+---------------------+--------------------+-------------------+-------------------------+----------------------+
| Environment | dpdk_meson_compile | dpdk_msvc_compile | dpdk_llvm_clang_compile | dpdk_mingw64_compile |
+=====================+====================+===================+=========================+======================+
| FreeBSD 14.2 | PASS | SKIPPED | SKIPPED | SKIPPED |
+---------------------+--------------------+-------------------+-------------------------+----------------------+
| Ubuntu 20.04 | PASS | SKIPPED | SKIPPED | SKIPPED |
+---------------------+--------------------+-------------------+-------------------------+----------------------+
| Windows Server 2022 | SKIPPED | PASS | PASS | PASS |
+---------------------+--------------------+-------------------+-------------------------+----------------------+
FreeBSD 14.2
Kernel: 14.2-RELEASE
Compiler: clang 18.1.6
Ubuntu 20.04
Kernel: 4.19
Compiler: gcc gcc (Ubuntu 9.4.0-1ubuntu1~20.04.2) 9.4.0
Windows Server 2022
Kernel: 10.0.20348.2031
Compiler: clang 15.0.7, gcc 14.1.0 (MinGW), and MSVC VS 19.39.33521
To view detailed results, visit:
https://lab.dpdk.org/results/dashboard/patchsets/34296/
UNH-IOL DPDK Community Lab
To manage your email subscriptions, visit:
https://lab.dpdk.org/results/dashboard/preferences/subscriptions/
^ permalink raw reply [flat|nested] 31+ messages in thread
* |SUCCESS| pw157716-157715 [PATCH] [v1,2/2] benchmark report for rte_
[not found] <20251016090934.1166954-3-chen.qiguo@zte.com.cn>
` (24 preceding siblings ...)
2025-10-16 13:49 ` dpdklab
@ 2025-10-16 18:06 ` dpdklab
2025-10-16 18:22 ` dpdklab
` (4 subsequent siblings)
30 siblings, 0 replies; 31+ messages in thread
From: dpdklab @ 2025-10-16 18:06 UTC (permalink / raw)
To: Test Report; +Cc: dpdk-test-reports
Test-Label: iol-intel-Functional
Test-Status: SUCCESS
http://dpdk.org/patch/157715
_Functional Testing PASS_
Submitter: Qiguo Chen <chen.qiguo@zte.com.cn>
Date: Thursday, October 16 2025 09:09:34
DPDK git baseline: Repo:dpdk
Branch: master
CommitID:16f4c522003dcfecf23c8d38e009b95a3bbefd03
157716-157715 --> functional testing pass
Upstream job id: Template-DPDK-DTS-Pipeline#2479
Test environment and result as below:
Ubuntu 20.04
Kernel: 5.4
Compiler: gcc gcc (Ubuntu 9.4.0-1ubuntu1~20.04.1) 9.4.0
NIC: Intel Corporation Ethernet Converged Network Adapter XL710-QDA2 40000 Mbps
Aggregate Results by Test Suite
+-----------------------------+--------+
| Test Suite | Result |
+=============================+========+
| unit_tests_mbuf | PASS |
+-----------------------------+--------+
| vhost_virtio_user_interrupt | PASS |
+-----------------------------+--------+
| virtio_smoke | PASS |
+-----------------------------+--------+
Ubuntu 22.04
Kernel: 5.15
Compiler: gcc gcc (Ubuntu 11.4.0-1ubuntu1~22.04.2) 11.4.0
NIC: Intel Corporation QAT 8970 0 Mbps
Aggregate Results by Test Suite
+----------------------------+--------+
| Test Suite | Result |
+============================+========+
| crypto_perf_cryptodev_perf | PASS |
+----------------------------+--------+
Ubuntu 24.04 LTS
Kernel: 6.8.0-44-generic
Compiler: gcc 13.2.0
NIC: Intel Corporation Ethernet Controller XL710 for 40GbE QSFP+ 40 Mbps
Aggregate Results by Test Suite
+--------------------+--------+
| Test Suite | Result |
+====================+========+
| blocklist | PASS |
+--------------------+--------+
| promisc_support | PASS |
+--------------------+--------+
| uni_pkt | PASS |
+--------------------+--------+
| dynamic_config | PASS |
+--------------------+--------+
| dynamic_queue_conf | PASS |
+--------------------+--------+
| hello_world | PASS |
+--------------------+--------+
| l2fwd | PASS |
+--------------------+--------+
| softnic | PASS |
+--------------------+--------+
| vlan | PASS |
+--------------------+--------+
To view detailed results, visit:
https://lab.dpdk.org/results/dashboard/patchsets/34296/
UNH-IOL DPDK Community Lab
To manage your email subscriptions, visit:
https://lab.dpdk.org/results/dashboard/preferences/subscriptions/
^ permalink raw reply [flat|nested] 31+ messages in thread
* |SUCCESS| pw157716-157715 [PATCH] [v1,2/2] benchmark report for rte_
[not found] <20251016090934.1166954-3-chen.qiguo@zte.com.cn>
` (25 preceding siblings ...)
2025-10-16 18:06 ` dpdklab
@ 2025-10-16 18:22 ` dpdklab
2025-10-16 21:18 ` |WARNING| " dpdklab
` (3 subsequent siblings)
30 siblings, 0 replies; 31+ messages in thread
From: dpdklab @ 2025-10-16 18:22 UTC (permalink / raw)
To: Test Report; +Cc: dpdk-test-reports
Test-Label: iol-intel-Functional
Test-Status: SUCCESS
http://dpdk.org/patch/157715
_Functional Testing PASS_
Submitter: Qiguo Chen <chen.qiguo@zte.com.cn>
Date: Thursday, October 16 2025 09:09:34
DPDK git baseline: Repo:dpdk
Branch: master
CommitID:16f4c522003dcfecf23c8d38e009b95a3bbefd03
157716-157715 --> functional testing pass
Upstream job id: Template-DTS-Pipeline#249742
Test environment and result as below:
Ubuntu 20.04
Kernel: 5.4
Compiler: gcc gcc (Ubuntu 9.4.0-1ubuntu1~20.04.1) 9.4.0
NIC: Intel Corporation Ethernet Converged Network Adapter XL710-QDA2 40000 Mbps
Aggregate Results by Test Suite
+-----------------------------+--------+
| Test Suite | Result |
+=============================+========+
| unit_tests_mbuf | PASS |
+-----------------------------+--------+
| vhost_virtio_user_interrupt | PASS |
+-----------------------------+--------+
| virtio_smoke | PASS |
+-----------------------------+--------+
Ubuntu 22.04
Kernel: 5.15
Compiler: gcc gcc (Ubuntu 11.4.0-1ubuntu1~22.04.2) 11.4.0
NIC: Intel Corporation QAT 8970 0 Mbps
Aggregate Results by Test Suite
+----------------------------+--------+
| Test Suite | Result |
+============================+========+
| crypto_perf_cryptodev_perf | PASS |
+----------------------------+--------+
Ubuntu 24.04
Kernel: 6.8
Compiler: gcc gcc (Ubuntu 13.3.0-6ubuntu2~24.04) 13.3.0
NIC: Intel Corporation 4xxx Series QAT 0 Mbps
Aggregate Results by Test Suite
+----------------------------+--------+
| Test Suite | Result |
+============================+========+
| crypto_perf_cryptodev_perf | PASS |
+----------------------------+--------+
Ubuntu 24.04 LTS
Kernel: 6.8.0-44-generic
Compiler: gcc 13.2.0
NIC: Intel Corporation Ethernet Controller XL710 for 40GbE QSFP+ 40 Mbps
Aggregate Results by Test Suite
+--------------------+--------+
| Test Suite | Result |
+====================+========+
| blocklist | PASS |
+--------------------+--------+
| promisc_support | PASS |
+--------------------+--------+
| uni_pkt | PASS |
+--------------------+--------+
| dynamic_config | PASS |
+--------------------+--------+
| dynamic_queue_conf | PASS |
+--------------------+--------+
| hello_world | PASS |
+--------------------+--------+
| l2fwd | PASS |
+--------------------+--------+
| softnic | PASS |
+--------------------+--------+
| vlan | PASS |
+--------------------+--------+
To view detailed results, visit:
https://lab.dpdk.org/results/dashboard/patchsets/34296/
UNH-IOL DPDK Community Lab
To manage your email subscriptions, visit:
https://lab.dpdk.org/results/dashboard/preferences/subscriptions/
^ permalink raw reply [flat|nested] 31+ messages in thread
* |WARNING| pw157716-157715 [PATCH] [v1,2/2] benchmark report for rte_
[not found] <20251016090934.1166954-3-chen.qiguo@zte.com.cn>
` (26 preceding siblings ...)
2025-10-16 18:22 ` dpdklab
@ 2025-10-16 21:18 ` dpdklab
2025-10-16 21:49 ` dpdklab
` (2 subsequent siblings)
30 siblings, 0 replies; 31+ messages in thread
From: dpdklab @ 2025-10-16 21:18 UTC (permalink / raw)
To: Test Report; +Cc: dpdk-test-reports
Test-Label: iol-compile-amd64-testing
Test-Status: WARNING
http://dpdk.org/patch/157715
_Testing issues_
Submitter: Qiguo Chen <chen.qiguo@zte.com.cn>
Date: Thursday, October 16 2025 09:09:34
DPDK git baseline: Repo:dpdk
Branch: master
CommitID:16f4c522003dcfecf23c8d38e009b95a3bbefd03
157716-157715 --> testing issues
Upstream job id: Generic-DPDK-Compile-Meson#434937
Test environment and result as below:
+-------------------------------+--------------------+-------------------+-------------------------+----------------------+-------------------+------------------+
| Environment | dpdk_meson_compile | dpdk_msvc_compile | dpdk_llvm_clang_compile | dpdk_mingw64_compile | dpdk_compile_spdk | dpdk_compile_ovs |
+===============================+====================+===================+=========================+======================+===================+==================+
| FreeBSD 14.2 | PASS | SKIPPED | SKIPPED | SKIPPED | SKIPPED | SKIPPED |
+-------------------------------+--------------------+-------------------+-------------------------+----------------------+-------------------+------------------+
| Ubuntu 20.04 | PEND | SKIPPED | SKIPPED | SKIPPED | SKIPPED | SKIPPED |
+-------------------------------+--------------------+-------------------+-------------------------+----------------------+-------------------+------------------+
| CentOS Stream 9 | PASS | SKIPPED | SKIPPED | SKIPPED | WARN | SKIPPED |
+-------------------------------+--------------------+-------------------+-------------------------+----------------------+-------------------+------------------+
| CentOS Stream 10 | PASS | SKIPPED | SKIPPED | SKIPPED | SKIPPED | SKIPPED |
+-------------------------------+--------------------+-------------------+-------------------------+----------------------+-------------------+------------------+
| Debian GNU/Linux 12 | PEND | SKIPPED | SKIPPED | SKIPPED | PEND | SKIPPED |
+-------------------------------+--------------------+-------------------+-------------------------+----------------------+-------------------+------------------+
| Fedora Linux 42 | PEND | SKIPPED | SKIPPED | SKIPPED | PEND | PEND |
+-------------------------------+--------------------+-------------------+-------------------------+----------------------+-------------------+------------------+
| openSUSE Leap 15.6 | PEND | SKIPPED | SKIPPED | SKIPPED | SKIPPED | SKIPPED |
+-------------------------------+--------------------+-------------------+-------------------------+----------------------+-------------------+------------------+
| Red Hat Enterprise Linux 8.10 | PEND | SKIPPED | SKIPPED | SKIPPED | SKIPPED | SKIPPED |
+-------------------------------+--------------------+-------------------+-------------------------+----------------------+-------------------+------------------+
| Ubuntu 22.04 | PEND | SKIPPED | SKIPPED | SKIPPED | PEND | SKIPPED |
+-------------------------------+--------------------+-------------------+-------------------------+----------------------+-------------------+------------------+
| Red Hat Enterprise Linux 9.5 | PEND | SKIPPED | SKIPPED | SKIPPED | SKIPPED | SKIPPED |
+-------------------------------+--------------------+-------------------+-------------------------+----------------------+-------------------+------------------+
| Ubuntu 24.04 | PEND | SKIPPED | SKIPPED | SKIPPED | PEND | PEND |
+-------------------------------+--------------------+-------------------+-------------------------+----------------------+-------------------+------------------+
| Alpine Linux 3.22.0 | PEND | SKIPPED | SKIPPED | SKIPPED | SKIPPED | SKIPPED |
+-------------------------------+--------------------+-------------------+-------------------------+----------------------+-------------------+------------------+
| Windows Server 2022 | SKIPPED | PASS | PASS | PASS | SKIPPED | SKIPPED |
+-------------------------------+--------------------+-------------------+-------------------------+----------------------+-------------------+------------------+
==== 20 line log output for CentOS Stream 9 (dpdk_compile_spdk): ====
--- Failed to get log output ---
==== End log output ====
FreeBSD 14.2
Kernel: 14.2-RELEASE
Compiler: clang 18.1.6
Ubuntu 20.04
Kernel: 4.19
Compiler: gcc gcc (Ubuntu 9.4.0-1ubuntu1~20.04.2) 9.4.0
CentOS Stream 9
Kernel: 5.15
Compiler: gcc gcc (GCC) 11.5.0 20240719 (Red Hat 11.5.0-11)
CentOS Stream 10
Kernel: 5.15
Compiler: gcc gcc (GCC) 14.2.1 20250110 (Red Hat 14.2.1-8)
Debian GNU/Linux 12
Kernel: 5.15
Compiler: gcc gcc (Debian 12.2.0-14+deb12u1) 12.2.0
Fedora Linux 42
Kernel: 5.15
Compiler: clang gcc (GCC) 15.2.1 20250808 (Red Hat 15.2.1-1)
openSUSE Leap 15.6
Kernel: 5.15
Compiler: gcc gcc (SUSE Linux) 7.5.0
Red Hat Enterprise Linux 8.10
Kernel: 5.15
Compiler: gcc gcc (GCC) 8.5.0 20210514 (Red Hat 8.5.0-22)
Ubuntu 22.04
Kernel: 5.15
Compiler: gcc gcc (Ubuntu 11.4.0-1ubuntu1~22.04) 11.4.0
Red Hat Enterprise Linux 9.5
Kernel: 5.15
Compiler: gcc gcc (GCC) 11.5.0 20240719 (Red Hat 11.5.0-2)
Ubuntu 24.04
Kernel: 5.15
Compiler: gcc gcc (Ubuntu 13.3.0-6ubuntu2~24.04) 13.3.0
Alpine Linux 3.22.0
Kernel: 5.15
Compiler: gcc gcc (Alpine 14.2.0) 14.2.0
Windows Server 2022
Kernel: 10.0.20348.2031
Compiler: clang 15.0.7, gcc 14.1.0 (MinGW), and MSVC VS 19.39.33521
To view detailed results, visit:
https://lab.dpdk.org/results/dashboard/patchsets/34296/
UNH-IOL DPDK Community Lab
To manage your email subscriptions, visit:
https://lab.dpdk.org/results/dashboard/preferences/subscriptions/
^ permalink raw reply [flat|nested] 31+ messages in thread
* |WARNING| pw157716-157715 [PATCH] [v1,2/2] benchmark report for rte_
[not found] <20251016090934.1166954-3-chen.qiguo@zte.com.cn>
` (27 preceding siblings ...)
2025-10-16 21:18 ` |WARNING| " dpdklab
@ 2025-10-16 21:49 ` dpdklab
2025-10-16 21:50 ` dpdklab
2025-10-16 21:51 ` dpdklab
30 siblings, 0 replies; 31+ messages in thread
From: dpdklab @ 2025-10-16 21:49 UTC (permalink / raw)
To: Test Report; +Cc: dpdk-test-reports
Test-Label: iol-compile-amd64-testing
Test-Status: WARNING
http://dpdk.org/patch/157715
_Testing issues_
Submitter: Qiguo Chen <chen.qiguo@zte.com.cn>
Date: Thursday, October 16 2025 09:09:34
DPDK git baseline: Repo:dpdk
Branch: master
CommitID:16f4c522003dcfecf23c8d38e009b95a3bbefd03
157716-157715 --> testing issues
Upstream job id: Generic-DPDK-Compile-Meson#434948
Test environment and result as below:
+-------------------------------+--------------------+-------------------+-------------------------+----------------------+-------------------+------------------+
| Environment | dpdk_meson_compile | dpdk_msvc_compile | dpdk_llvm_clang_compile | dpdk_mingw64_compile | dpdk_compile_spdk | dpdk_compile_ovs |
+===============================+====================+===================+=========================+======================+===================+==================+
| FreeBSD 14.2 | PASS | SKIPPED | SKIPPED | SKIPPED | SKIPPED | SKIPPED |
+-------------------------------+--------------------+-------------------+-------------------------+----------------------+-------------------+------------------+
| Ubuntu 20.04 | PASS | SKIPPED | SKIPPED | SKIPPED | SKIPPED | SKIPPED |
+-------------------------------+--------------------+-------------------+-------------------------+----------------------+-------------------+------------------+
| CentOS Stream 9 | PASS | SKIPPED | SKIPPED | SKIPPED | WARN | SKIPPED |
+-------------------------------+--------------------+-------------------+-------------------------+----------------------+-------------------+------------------+
| CentOS Stream 10 | PASS | SKIPPED | SKIPPED | SKIPPED | SKIPPED | SKIPPED |
+-------------------------------+--------------------+-------------------+-------------------------+----------------------+-------------------+------------------+
| Debian GNU/Linux 12 | PASS | SKIPPED | SKIPPED | SKIPPED | WARN | SKIPPED |
+-------------------------------+--------------------+-------------------+-------------------------+----------------------+-------------------+------------------+
| Fedora Linux 42 | PASS | SKIPPED | SKIPPED | SKIPPED | WARN | PASS |
+-------------------------------+--------------------+-------------------+-------------------------+----------------------+-------------------+------------------+
| openSUSE Leap 15.6 | PASS | SKIPPED | SKIPPED | SKIPPED | SKIPPED | SKIPPED |
+-------------------------------+--------------------+-------------------+-------------------------+----------------------+-------------------+------------------+
| Red Hat Enterprise Linux 8.10 | PASS | SKIPPED | SKIPPED | SKIPPED | SKIPPED | SKIPPED |
+-------------------------------+--------------------+-------------------+-------------------------+----------------------+-------------------+------------------+
| Ubuntu 22.04 | PASS | SKIPPED | SKIPPED | SKIPPED | WARN | SKIPPED |
+-------------------------------+--------------------+-------------------+-------------------------+----------------------+-------------------+------------------+
| Red Hat Enterprise Linux 9.5 | PASS | SKIPPED | SKIPPED | SKIPPED | SKIPPED | SKIPPED |
+-------------------------------+--------------------+-------------------+-------------------------+----------------------+-------------------+------------------+
| Ubuntu 24.04 | PASS | SKIPPED | SKIPPED | SKIPPED | WARN | PASS |
+-------------------------------+--------------------+-------------------+-------------------------+----------------------+-------------------+------------------+
| Alpine Linux 3.22.0 | PASS | SKIPPED | SKIPPED | SKIPPED | SKIPPED | SKIPPED |
+-------------------------------+--------------------+-------------------+-------------------------+----------------------+-------------------+------------------+
| Windows Server 2022 | SKIPPED | PASS | PASS | PASS | SKIPPED | SKIPPED |
+-------------------------------+--------------------+-------------------+-------------------------+----------------------+-------------------+------------------+
==== 20 line log output for Ubuntu 24.04 (dpdk_compile_spdk): ====
--- Failed to get log output ---
==== End log output ====
FreeBSD 14.2
Kernel: 14.2-RELEASE
Compiler: clang 18.1.6
Ubuntu 20.04
Kernel: 4.19
Compiler: gcc gcc (Ubuntu 9.4.0-1ubuntu1~20.04.2) 9.4.0
CentOS Stream 9
Kernel: 5.15
Compiler: gcc gcc (GCC) 11.5.0 20240719 (Red Hat 11.5.0-11)
CentOS Stream 10
Kernel: 5.15
Compiler: gcc gcc (GCC) 14.2.1 20250110 (Red Hat 14.2.1-8)
Debian GNU/Linux 12
Kernel: 5.15
Compiler: gcc gcc (Debian 12.2.0-14+deb12u1) 12.2.0
Fedora Linux 42
Kernel: 5.15
Compiler: clang gcc (GCC) 15.2.1 20250808 (Red Hat 15.2.1-1)
openSUSE Leap 15.6
Kernel: 5.15
Compiler: gcc gcc (SUSE Linux) 7.5.0
Red Hat Enterprise Linux 8.10
Kernel: 5.15
Compiler: gcc gcc (GCC) 8.5.0 20210514 (Red Hat 8.5.0-22)
Ubuntu 22.04
Kernel: 5.15
Compiler: gcc gcc (Ubuntu 11.4.0-1ubuntu1~22.04) 11.4.0
Red Hat Enterprise Linux 9.5
Kernel: 5.15
Compiler: gcc gcc (GCC) 11.5.0 20240719 (Red Hat 11.5.0-2)
Ubuntu 24.04
Kernel: 5.15
Compiler: gcc gcc (Ubuntu 13.3.0-6ubuntu2~24.04) 13.3.0
Alpine Linux 3.22.0
Kernel: 5.15
Compiler: gcc gcc (Alpine 14.2.0) 14.2.0
Windows Server 2022
Kernel: 10.0.20348.2031
Compiler: clang 15.0.7, gcc 14.1.0 (MinGW), and MSVC VS 19.39.33521
To view detailed results, visit:
https://lab.dpdk.org/results/dashboard/patchsets/34296/
UNH-IOL DPDK Community Lab
To manage your email subscriptions, visit:
https://lab.dpdk.org/results/dashboard/preferences/subscriptions/
^ permalink raw reply [flat|nested] 31+ messages in thread
* |WARNING| pw157716-157715 [PATCH] [v1,2/2] benchmark report for rte_
[not found] <20251016090934.1166954-3-chen.qiguo@zte.com.cn>
` (28 preceding siblings ...)
2025-10-16 21:49 ` dpdklab
@ 2025-10-16 21:50 ` dpdklab
2025-10-16 21:51 ` dpdklab
30 siblings, 0 replies; 31+ messages in thread
From: dpdklab @ 2025-10-16 21:50 UTC (permalink / raw)
To: Test Report; +Cc: dpdk-test-reports
Test-Label: iol-compile-amd64-testing
Test-Status: WARNING
http://dpdk.org/patch/157715
_Testing issues_
Submitter: Qiguo Chen <chen.qiguo@zte.com.cn>
Date: Thursday, October 16 2025 09:09:34
DPDK git baseline: Repo:dpdk
Branch: master
CommitID:16f4c522003dcfecf23c8d38e009b95a3bbefd03
157716-157715 --> testing issues
Upstream job id: Generic-DPDK-Compile-Meson#434947
Test environment and result as below:
+-------------------------------+--------------------+-------------------+-------------------------+----------------------+-------------------+------------------+
| Environment | dpdk_meson_compile | dpdk_msvc_compile | dpdk_llvm_clang_compile | dpdk_mingw64_compile | dpdk_compile_spdk | dpdk_compile_ovs |
+===============================+====================+===================+=========================+======================+===================+==================+
| FreeBSD 14.2 | PASS | SKIPPED | SKIPPED | SKIPPED | SKIPPED | SKIPPED |
+-------------------------------+--------------------+-------------------+-------------------------+----------------------+-------------------+------------------+
| Ubuntu 20.04 | PASS | SKIPPED | SKIPPED | SKIPPED | SKIPPED | SKIPPED |
+-------------------------------+--------------------+-------------------+-------------------------+----------------------+-------------------+------------------+
| CentOS Stream 9 | PASS | SKIPPED | SKIPPED | SKIPPED | WARN | SKIPPED |
+-------------------------------+--------------------+-------------------+-------------------------+----------------------+-------------------+------------------+
| CentOS Stream 10 | PASS | SKIPPED | SKIPPED | SKIPPED | SKIPPED | SKIPPED |
+-------------------------------+--------------------+-------------------+-------------------------+----------------------+-------------------+------------------+
| Debian GNU/Linux 12 | PASS | SKIPPED | SKIPPED | SKIPPED | WARN | SKIPPED |
+-------------------------------+--------------------+-------------------+-------------------------+----------------------+-------------------+------------------+
| Fedora Linux 42 | PASS | SKIPPED | SKIPPED | SKIPPED | WARN | PASS |
+-------------------------------+--------------------+-------------------+-------------------------+----------------------+-------------------+------------------+
| openSUSE Leap 15.6 | PASS | SKIPPED | SKIPPED | SKIPPED | SKIPPED | SKIPPED |
+-------------------------------+--------------------+-------------------+-------------------------+----------------------+-------------------+------------------+
| Red Hat Enterprise Linux 8.10 | PASS | SKIPPED | SKIPPED | SKIPPED | SKIPPED | SKIPPED |
+-------------------------------+--------------------+-------------------+-------------------------+----------------------+-------------------+------------------+
| Ubuntu 22.04 | PASS | SKIPPED | SKIPPED | SKIPPED | WARN | SKIPPED |
+-------------------------------+--------------------+-------------------+-------------------------+----------------------+-------------------+------------------+
| Red Hat Enterprise Linux 9.5 | PASS | SKIPPED | SKIPPED | SKIPPED | SKIPPED | SKIPPED |
+-------------------------------+--------------------+-------------------+-------------------------+----------------------+-------------------+------------------+
| Ubuntu 24.04 | PASS | SKIPPED | SKIPPED | SKIPPED | WARN | PASS |
+-------------------------------+--------------------+-------------------+-------------------------+----------------------+-------------------+------------------+
| Alpine Linux 3.22.0 | PASS | SKIPPED | SKIPPED | SKIPPED | SKIPPED | SKIPPED |
+-------------------------------+--------------------+-------------------+-------------------------+----------------------+-------------------+------------------+
| Windows Server 2022 | SKIPPED | PASS | PASS | PASS | SKIPPED | SKIPPED |
+-------------------------------+--------------------+-------------------+-------------------------+----------------------+-------------------+------------------+
==== 20 line log output for Ubuntu 24.04 (dpdk_compile_spdk): ====
--- Failed to get log output ---
==== End log output ====
FreeBSD 14.2
Kernel: 14.2-RELEASE
Compiler: clang 18.1.6
Ubuntu 20.04
Kernel: 4.19
Compiler: gcc gcc (Ubuntu 9.4.0-1ubuntu1~20.04.2) 9.4.0
CentOS Stream 9
Kernel: 5.15
Compiler: gcc gcc (GCC) 11.5.0 20240719 (Red Hat 11.5.0-11)
CentOS Stream 10
Kernel: 5.15
Compiler: gcc gcc (GCC) 14.2.1 20250110 (Red Hat 14.2.1-8)
Debian GNU/Linux 12
Kernel: 5.15
Compiler: gcc gcc (Debian 12.2.0-14+deb12u1) 12.2.0
Fedora Linux 42
Kernel: 5.15
Compiler: clang gcc (GCC) 15.2.1 20250808 (Red Hat 15.2.1-1)
openSUSE Leap 15.6
Kernel: 5.15
Compiler: gcc gcc (SUSE Linux) 7.5.0
Red Hat Enterprise Linux 8.10
Kernel: 5.15
Compiler: gcc gcc (GCC) 8.5.0 20210514 (Red Hat 8.5.0-22)
Ubuntu 22.04
Kernel: 5.15
Compiler: gcc gcc (Ubuntu 11.4.0-1ubuntu1~22.04) 11.4.0
Red Hat Enterprise Linux 9.5
Kernel: 5.15
Compiler: gcc gcc (GCC) 11.5.0 20240719 (Red Hat 11.5.0-2)
Ubuntu 24.04
Kernel: 5.15
Compiler: gcc gcc (Ubuntu 13.3.0-6ubuntu2~24.04) 13.3.0
Alpine Linux 3.22.0
Kernel: 5.15
Compiler: gcc gcc (Alpine 14.2.0) 14.2.0
Windows Server 2022
Kernel: 10.0.20348.2031
Compiler: clang 15.0.7, gcc 14.1.0 (MinGW), and MSVC VS 19.39.33521
To view detailed results, visit:
https://lab.dpdk.org/results/dashboard/patchsets/34296/
UNH-IOL DPDK Community Lab
To manage your email subscriptions, visit:
https://lab.dpdk.org/results/dashboard/preferences/subscriptions/
^ permalink raw reply [flat|nested] 31+ messages in thread
* |WARNING| pw157716-157715 [PATCH] [v1,2/2] benchmark report for rte_
[not found] <20251016090934.1166954-3-chen.qiguo@zte.com.cn>
` (29 preceding siblings ...)
2025-10-16 21:50 ` dpdklab
@ 2025-10-16 21:51 ` dpdklab
30 siblings, 0 replies; 31+ messages in thread
From: dpdklab @ 2025-10-16 21:51 UTC (permalink / raw)
To: Test Report; +Cc: dpdk-test-reports
Test-Label: iol-compile-amd64-testing
Test-Status: WARNING
http://dpdk.org/patch/157715
_Testing issues_
Submitter: Qiguo Chen <chen.qiguo@zte.com.cn>
Date: Thursday, October 16 2025 09:09:34
DPDK git baseline: Repo:dpdk
Branch: master
CommitID:16f4c522003dcfecf23c8d38e009b95a3bbefd03
157716-157715 --> testing issues
Upstream job id: Generic-DPDK-Compile-Meson#434949
Test environment and result as below:
+-------------------------------+--------------------+-------------------+-------------------------+----------------------+-------------------+------------------+
| Environment | dpdk_meson_compile | dpdk_msvc_compile | dpdk_llvm_clang_compile | dpdk_mingw64_compile | dpdk_compile_spdk | dpdk_compile_ovs |
+===============================+====================+===================+=========================+======================+===================+==================+
| FreeBSD 14.2 | PASS | SKIPPED | SKIPPED | SKIPPED | SKIPPED | SKIPPED |
+-------------------------------+--------------------+-------------------+-------------------------+----------------------+-------------------+------------------+
| Ubuntu 20.04 | PASS | SKIPPED | SKIPPED | SKIPPED | SKIPPED | SKIPPED |
+-------------------------------+--------------------+-------------------+-------------------------+----------------------+-------------------+------------------+
| CentOS Stream 9 | PASS | SKIPPED | SKIPPED | SKIPPED | WARN | SKIPPED |
+-------------------------------+--------------------+-------------------+-------------------------+----------------------+-------------------+------------------+
| CentOS Stream 10 | PASS | SKIPPED | SKIPPED | SKIPPED | SKIPPED | SKIPPED |
+-------------------------------+--------------------+-------------------+-------------------------+----------------------+-------------------+------------------+
| Debian GNU/Linux 12 | PASS | SKIPPED | SKIPPED | SKIPPED | WARN | SKIPPED |
+-------------------------------+--------------------+-------------------+-------------------------+----------------------+-------------------+------------------+
| Fedora Linux 42 | PASS | SKIPPED | SKIPPED | SKIPPED | WARN | PASS |
+-------------------------------+--------------------+-------------------+-------------------------+----------------------+-------------------+------------------+
| openSUSE Leap 15.6 | PASS | SKIPPED | SKIPPED | SKIPPED | SKIPPED | SKIPPED |
+-------------------------------+--------------------+-------------------+-------------------------+----------------------+-------------------+------------------+
| Red Hat Enterprise Linux 8.10 | PASS | SKIPPED | SKIPPED | SKIPPED | SKIPPED | SKIPPED |
+-------------------------------+--------------------+-------------------+-------------------------+----------------------+-------------------+------------------+
| Ubuntu 22.04 | PASS | SKIPPED | SKIPPED | SKIPPED | WARN | SKIPPED |
+-------------------------------+--------------------+-------------------+-------------------------+----------------------+-------------------+------------------+
| Red Hat Enterprise Linux 9.5 | PASS | SKIPPED | SKIPPED | SKIPPED | SKIPPED | SKIPPED |
+-------------------------------+--------------------+-------------------+-------------------------+----------------------+-------------------+------------------+
| Ubuntu 24.04 | PASS | SKIPPED | SKIPPED | SKIPPED | WARN | PASS |
+-------------------------------+--------------------+-------------------+-------------------------+----------------------+-------------------+------------------+
| Alpine Linux 3.22.0 | PASS | SKIPPED | SKIPPED | SKIPPED | SKIPPED | SKIPPED |
+-------------------------------+--------------------+-------------------+-------------------------+----------------------+-------------------+------------------+
| Windows Server 2022 | SKIPPED | PASS | PASS | PASS | SKIPPED | SKIPPED |
+-------------------------------+--------------------+-------------------+-------------------------+----------------------+-------------------+------------------+
==== 20 line log output for Ubuntu 24.04 (dpdk_compile_spdk): ====
--- Failed to get log output ---
==== End log output ====
FreeBSD 14.2
Kernel: 14.2-RELEASE
Compiler: clang 18.1.6
Ubuntu 20.04
Kernel: 4.19
Compiler: gcc gcc (Ubuntu 9.4.0-1ubuntu1~20.04.2) 9.4.0
CentOS Stream 9
Kernel: 5.15
Compiler: gcc gcc (GCC) 11.5.0 20240719 (Red Hat 11.5.0-11)
CentOS Stream 10
Kernel: 5.15
Compiler: gcc gcc (GCC) 14.2.1 20250110 (Red Hat 14.2.1-8)
Debian GNU/Linux 12
Kernel: 5.15
Compiler: gcc gcc (Debian 12.2.0-14+deb12u1) 12.2.0
Fedora Linux 42
Kernel: 5.15
Compiler: clang gcc (GCC) 15.2.1 20250808 (Red Hat 15.2.1-1)
openSUSE Leap 15.6
Kernel: 5.15
Compiler: gcc gcc (SUSE Linux) 7.5.0
Red Hat Enterprise Linux 8.10
Kernel: 5.15
Compiler: gcc gcc (GCC) 8.5.0 20210514 (Red Hat 8.5.0-22)
Ubuntu 22.04
Kernel: 5.15
Compiler: gcc gcc (Ubuntu 11.4.0-1ubuntu1~22.04) 11.4.0
Red Hat Enterprise Linux 9.5
Kernel: 5.15
Compiler: gcc gcc (GCC) 11.5.0 20240719 (Red Hat 11.5.0-2)
Ubuntu 24.04
Kernel: 5.15
Compiler: gcc gcc (Ubuntu 13.3.0-6ubuntu2~24.04) 13.3.0
Alpine Linux 3.22.0
Kernel: 5.15
Compiler: gcc gcc (Alpine 14.2.0) 14.2.0
Windows Server 2022
Kernel: 10.0.20348.2031
Compiler: clang 15.0.7, gcc 14.1.0 (MinGW), and MSVC VS 19.39.33521
To view detailed results, visit:
https://lab.dpdk.org/results/dashboard/patchsets/34296/
UNH-IOL DPDK Community Lab
To manage your email subscriptions, visit:
https://lab.dpdk.org/results/dashboard/preferences/subscriptions/
^ permalink raw reply [flat|nested] 31+ messages in thread
end of thread, other threads:[~2025-10-16 21:51 UTC | newest]
Thread overview: 31+ messages (download: mbox.gz / follow: Atom feed)
-- links below jump to the message on this page --
[not found] <20251016090934.1166954-3-chen.qiguo@zte.com.cn>
2025-10-16 8:51 ` |SUCCESS| pw157716-157715 [PATCH v1 2/2] benchmark report for rte_memcpy qemudev
2025-10-16 8:56 ` qemudev
2025-10-16 9:25 ` |WARNING| pw157715 " checkpatch
2025-10-16 9:53 ` |PENDING| pw157716-157715 [PATCH] [v1,2/2] benchmark report for rte_ dpdklab
2025-10-16 9:55 ` |SUCCESS| " dpdklab
2025-10-16 9:55 ` |PENDING| " dpdklab
2025-10-16 9:56 ` |SUCCESS| " dpdklab
2025-10-16 9:59 ` dpdklab
2025-10-16 10:03 ` |PENDING| " dpdklab
2025-10-16 10:11 ` dpdklab
2025-10-16 10:14 ` |SUCCESS| " dpdklab
2025-10-16 10:15 ` dpdklab
2025-10-16 10:16 ` dpdklab
2025-10-16 10:26 ` dpdklab
2025-10-16 10:34 ` |SUCCESS| pw157715 [PATCH v1 2/2] benchmark report for rte_memcpy 0-day Robot
2025-10-16 10:34 ` 0-day Robot
2025-10-16 10:43 ` |SUCCESS| pw157716-157715 [PATCH] [v1,2/2] benchmark report for rte_ dpdklab
2025-10-16 10:54 ` dpdklab
2025-10-16 11:05 ` dpdklab
2025-10-16 11:19 ` dpdklab
2025-10-16 11:26 ` dpdklab
2025-10-16 11:48 ` dpdklab
2025-10-16 11:48 ` dpdklab
2025-10-16 13:04 ` dpdklab
2025-10-16 13:49 ` dpdklab
2025-10-16 18:06 ` dpdklab
2025-10-16 18:22 ` dpdklab
2025-10-16 21:18 ` |WARNING| " dpdklab
2025-10-16 21:49 ` dpdklab
2025-10-16 21:50 ` dpdklab
2025-10-16 21:51 ` dpdklab
This is a public inbox, see mirroring instructions
for how to clone and mirror all data and code used for this inbox;
as well as URLs for NNTP newsgroup(s).