From mboxrd@z Thu Jan 1 00:00:00 1970 Return-Path: Received: from mails.dpdk.org (mails.dpdk.org [217.70.189.124]) by inbox.dpdk.org (Postfix) with ESMTP id 61B4848952 for ; Thu, 16 Oct 2025 13:19:03 +0200 (CEST) Received: from mails.dpdk.org (localhost [127.0.0.1]) by mails.dpdk.org (Postfix) with ESMTP id 5A94240A71; Thu, 16 Oct 2025 13:19:03 +0200 (CEST) Received: from mail-pj1-f97.google.com (mail-pj1-f97.google.com [209.85.216.97]) by mails.dpdk.org (Postfix) with ESMTP id 6BB9440269 for ; Thu, 16 Oct 2025 13:19:02 +0200 (CEST) Received: by mail-pj1-f97.google.com with SMTP id 98e67ed59e1d1-3352018e051so746170a91.0 for ; Thu, 16 Oct 2025 04:19:02 -0700 (PDT) DKIM-Signature: v=1; a=rsa-sha256; c=relaxed/relaxed; d=iol.unh.edu; s=unh-iol; t=1760613541; x=1761218341; darn=dpdk.org; h=references:in-reply-to:cc:to:from:subject:message-id:date:from:to :cc:subject:date:message-id:reply-to; bh=w2qBk8lfLNpS7hnxkhUehyiZiA1PUQsnGgbU2BR96Tw=; b=PX8InIeSne5ryyrkRygNECc4TLC+cgSLGVfZP8gMHFQxHrVhddsZvlXGeVcmBT9gLD l0ps7QCoenZuwKdMkTjGzHKQlsJH3oZvc/IZjR3tpJbZFtr3oGXzRuG1w0/QecinY6a1 eC7So+07U6ee/Wlf2oAaHf1L024cH2WykXQHM= X-Google-DKIM-Signature: v=1; a=rsa-sha256; c=relaxed/relaxed; d=1e100.net; s=20230601; t=1760613541; x=1761218341; h=references:in-reply-to:cc:to:from:subject:message-id:date :x-gm-message-state:from:to:cc:subject:date:message-id:reply-to; bh=w2qBk8lfLNpS7hnxkhUehyiZiA1PUQsnGgbU2BR96Tw=; b=ffFUeJQoCLTBZ5EboHkJPmP3PR8bE3CIx/qOzDAVWpx/6o076Q2P1tMUyz9G+O7G6G VFWHsgGu6ptjLPBrKpA/vtxakJzts44sU1DOKQEsYb4pyBctN6oQZ9jChjAlZRoDYi7p oZE+QBgHiAXGiOPAaS4YS04n343hgyCmn+kmpkXRS3W51BfV5mOcSSvigXarjdShgUU8 L8YClCzEr0nBZPpwGOVeQj8B1L/bKfddzVh308hvIK/RJShv1Y0i2MT7gk1tmRgcOHI+ Ts6277KsOmpgx00hnUzzsmBx+O6aAZdH18MFd54uKYuTw1lD0q11ejVhpWZ2OPBas64P 3p8g== X-Gm-Message-State: AOJu0Yz5HrC97q80gJpVydt/TgSfdmVGaoxkkWdUH1LFnt60MsR8qYmP MPGfoAbDy8JijVonTF4nKl3DfWN9OwEugA9MaW5Yfy9ynjjN6a8aOlerTuWeDdbSk8cy7vZKoTs G3Gu38NN6ApaXtM7Xg99u4j2skH7zLmxu3o2z2itkQ7G1sH97ZR9uEjbnE04m X-Gm-Gg: ASbGnctNmDa9KqL10qDkkYAnnNsFuiQhttRCq+1q65gOTIE6TN2ZR1x/7++a8zjzDRN IxhuGeeyo1P+mJQrky65jRNyAGzVO5hZ5L1JwzILOkxVqQdRMQp4s2CbgKuo8PdH5VekkyvWliR /iu79GXKfQsTXYFRI7DQ3efG0WDIg1uRj5FdgDh2NnW5t199JtDGb0j5EztWPOEXYQfpjhkOpKn T+zcICA/yF5y9ROa5t1g4nMyml1i3i0si2qiZjWRFjVmqeWlaZfPfGLDpzXKqpPHz+5H/9fIC6H XSvcpJMjgkYqQr+NXs5T+GCxyPVAzvi/KLcP58McS7aNZfXyA0R9eH2RU0aJeRRWF0IA/bCgRzI lIa17HC/b X-Google-Smtp-Source: AGHT+IH6Jo1+VUeTc672tyxpbQ0feWtnOixJwIwPari0jHARU4BryanRWc4GmW6YcjSF+1zLQDngSAcDDPoN X-Received: by 2002:a17:90b:38ce:b0:32e:23fe:fa51 with SMTP id 98e67ed59e1d1-33b511188e7mr42053970a91.9.1760613541590; Thu, 16 Oct 2025 04:19:01 -0700 (PDT) Received: from postal.iol.unh.edu (postal.iol.unh.edu. [2606:4100:3880:1234::84]) by smtp-relay.gmail.com with ESMTPS id 98e67ed59e1d1-33bb64885eesm105939a91.0.2025.10.16.04.19.01 (version=TLS1_2 cipher=ECDHE-ECDSA-AES128-GCM-SHA256 bits=128/128); Thu, 16 Oct 2025 04:19:01 -0700 (PDT) X-Relaying-Domain: iol.unh.edu Date: Thu, 16 Oct 2025 04:19:01 -0700 (PDT) Message-ID: <68f0d4a5.170a0220.51886.487eSMTPIN_ADDED_MISSING@mx.google.com> Received: from [172.21.0.2] (unknown [172.18.0.240]) by postal.iol.unh.edu (Postfix) with ESMTP id D4D246051830; Thu, 16 Oct 2025 07:19:00 -0400 (EDT) Subject: |SUCCESS| pw157716-157715 [PATCH] [v1,2/2] benchmark report for rte_ From: dpdklab@iol.unh.edu To: Test Report Cc: dpdk-test-reports@iol.unh.edu In-Reply-To: <20251016090934.1166954-3-chen.qiguo@zte.com.cn> References: <20251016090934.1166954-3-chen.qiguo@zte.com.cn> Content-Type: text/plain X-BeenThere: test-report@dpdk.org X-Mailman-Version: 2.1.29 Precedence: list List-Id: automatic DPDK test reports List-Unsubscribe: , List-Archive: List-Post: List-Help: List-Subscribe: , Errors-To: test-report-bounces@dpdk.org Test-Label: iol-unit-amd64-testing Test-Status: SUCCESS http://dpdk.org/patch/157715 _Testing PASS_ Submitter: Qiguo Chen Date: Thursday, October 16 2025 09:09:34 DPDK git baseline: Repo:dpdk Branch: master CommitID:16f4c522003dcfecf23c8d38e009b95a3bbefd03 157716-157715 --> testing pass Upstream job id: Generic-VM-Unit-Test-DPDK#31844 Test environment and result as below: +-------------------------------+----------------+ | Environment | dpdk_unit_test | +===============================+================+ | Debian GNU/Linux 12 | PASS | +-------------------------------+----------------+ | Fedora Linux 40 | PASS | +-------------------------------+----------------+ | Fedora Linux 41 | PASS | +-------------------------------+----------------+ | Fedora Linux 42 | PASS | +-------------------------------+----------------+ | CentOS Stream 10 | PASS | +-------------------------------+----------------+ | CentOS Stream 9 | PASS | +-------------------------------+----------------+ | Red Hat Enterprise Linux 8.10 | PASS | +-------------------------------+----------------+ | Red Hat Enterprise Linux 9.5 | PASS | +-------------------------------+----------------+ | Ubuntu 20.04 | PASS | +-------------------------------+----------------+ | Ubuntu 24.04 | PASS | +-------------------------------+----------------+ | Ubuntu 22.04 | PASS | +-------------------------------+----------------+ | Windows Server 2022 | PASS | +-------------------------------+----------------+ Debian GNU/Linux 12 Kernel: 5.15 Compiler: gcc gcc (Debian 12.2.0-14+deb12u1) 12.2.0 Fedora Linux 40 Kernel: 5.15 Compiler: clang gcc (GCC) 14.2.1 20240912 (Red Hat 14.2.1-3) Fedora Linux 41 Kernel: 5.15 Compiler: gcc gcc (GCC) 14.3.1 20250523 (Red Hat 14.3.1-1) Fedora Linux 42 Kernel: 5.15 Compiler: gcc gcc (GCC) 15.2.1 20250808 (Red Hat 15.2.1-1) CentOS Stream 10 Kernel: 5.15 Compiler: gcc gcc (GCC) 14.2.1 20250110 (Red Hat 14.2.1-8) CentOS Stream 9 Kernel: 5.15 Compiler: gcc gcc (GCC) 11.5.0 20240719 (Red Hat 11.5.0-11) Red Hat Enterprise Linux 8.10 Kernel: 5.15 Compiler: gcc gcc (GCC) 8.5.0 20210514 (Red Hat 8.5.0-22) Red Hat Enterprise Linux 9.5 Kernel: 5.15 Compiler: gcc gcc (GCC) 11.5.0 20240719 (Red Hat 11.5.0-2) Ubuntu 20.04 Kernel: 5.15 Compiler: gcc gcc (Ubuntu 9.4.0-1ubuntu1~20.04.2) 9.4.0 Ubuntu 24.04 Kernel: 5.15 Compiler: gcc gcc (Ubuntu 13.3.0-6ubuntu2~24.04) 13.3.0 Ubuntu 22.04 Kernel: 5.15 Compiler: gcc gcc (Ubuntu 11.4.0-1ubuntu1~22.04) 11.4.0 Windows Server 2022 Kernel: 10.0.20348.2031 Compiler: clang 15.0.7, gcc 14.1.0 (MinGW), and MSVC VS 19.39.33521 To view detailed results, visit: https://lab.dpdk.org/results/dashboard/patchsets/34296/ UNH-IOL DPDK Community Lab To manage your email subscriptions, visit: https://lab.dpdk.org/results/dashboard/preferences/subscriptions/