From mboxrd@z Thu Jan 1 00:00:00 1970 Return-Path: Received: from mails.dpdk.org (mails.dpdk.org [217.70.189.124]) by inbox.dpdk.org (Postfix) with ESMTP id 85EF248952 for ; Thu, 16 Oct 2025 13:28:58 +0200 (CEST) Received: from mails.dpdk.org (localhost [127.0.0.1]) by mails.dpdk.org (Postfix) with ESMTP id 810D240269; Thu, 16 Oct 2025 13:28:58 +0200 (CEST) Received: from mail-pl1-f226.google.com (mail-pl1-f226.google.com [209.85.214.226]) by mails.dpdk.org (Postfix) with ESMTP id 159EB40269 for ; Thu, 16 Oct 2025 13:28:57 +0200 (CEST) Received: by mail-pl1-f226.google.com with SMTP id d9443c01a7336-2698384978dso4561555ad.0 for ; Thu, 16 Oct 2025 04:28:57 -0700 (PDT) DKIM-Signature: v=1; a=rsa-sha256; c=relaxed/relaxed; d=iol.unh.edu; s=unh-iol; t=1760614136; x=1761218936; darn=dpdk.org; h=references:in-reply-to:cc:to:from:subject:message-id:date:from:to :cc:subject:date:message-id:reply-to; bh=MBvN23HybqAwwlsMADwSMvykH9pEIIQQ5DW/+DcqCP8=; b=jmEQbsikoMtEUCqLHP8+ovm+5fY2XJkYOzmt317foLoPCb+0h4oLDWLiQHzyQ9tB/l VhaUrMzrHSrQHrevFw0LH0vpXMfseNzQJVLrRaxsJ0sILwKLGPkMiR1ZK5lLQNrvTEMz vIW8nguZV0RuWGXUTqXL/g0DNytYh8R0g/eWY= X-Google-DKIM-Signature: v=1; a=rsa-sha256; c=relaxed/relaxed; d=1e100.net; s=20230601; t=1760614136; x=1761218936; h=references:in-reply-to:cc:to:from:subject:message-id:date :x-gm-message-state:from:to:cc:subject:date:message-id:reply-to; bh=MBvN23HybqAwwlsMADwSMvykH9pEIIQQ5DW/+DcqCP8=; b=trk4TG1b0IRDM69Gnlbk0enCsbjNdk3RpMylwgRwmskPrbYh+jCyr7xQl9npWDCvSp siJq2tUqUaoePUbpH72pQf0NTY6JcGiiVu3eLGN9sgmYG3SMDPRoAPAcymmElJ6x0nKQ poLKm4i7VeVUAnRcpyMn5kMGoQUh2HdyD62TK9eBt0lp01E6slJ9TvPjVURi+9/Mis08 QpRPG0Hp66jfvRLY69yN+sTkaQQaWN5GchYGNGNU42D53/oTYYntsM/IL/mTVcll35Gf moaNcXHxOfAC/ckDoXn1g7M38NiGe2nZ5q60v5AUHYQAR1FfOw7kV2zgSWMSzBgWAdlu IcAQ== X-Gm-Message-State: AOJu0YzpNFkOGE42rIMivgC2vhkhYllYtP8+7WpBqHtT2L7S0gaREjKr DSAcQf0I+MvIMIqrkqr+RG57fcq8yIN/YPAV4NcyFRssL4AHoekuuAHBA1j+Bhkw8odfzphR1CF /zuV/xvDZDdA7h28fdPSMWuZHQ4aLmGcW13K/2t7drI7cct4lhtk9Aum50cVC X-Gm-Gg: ASbGncs1Zh0xESCH12EL7SngWHS1OZXu2beBon052lZKAWjX+w4IQcmuwTdeoECLBpV pz2XrJNs45RO+efOgBz/mtYUowaLgK7cVSX4XyW0S/fXGD34yY0w5MnfTOpzkINoQj5d1GV8HjR hNNqZ0PcOX+PTsta+hHSn55kBPSC8CKnDZ64KrLV+06/e0ivQuv2+n+8gFhbEVyPypbkhmTPdSz aO7JmvGEZCAt2C1kv5WejRCH3Skbl0xOqekZw7u+r8MnLTfzHBcg2kvVziigyaY3blj0bvzkE8h 1QsREQ4TfJhN3bqQ/f/nqm9HPKOrjS3HVBAFiaFNAo1OwbHf+RHFflNVfcntmHHMbsxBfppg0IJ GkhSXcWne X-Google-Smtp-Source: AGHT+IFN+SYN35H5G8PeJ4ZU0Nx82KICB0WaG5LemY+nvurQk5stj9go3i/A7Ur12mOiZzNIu+8QTCsT4B3f X-Received: by 2002:a17:903:2292:b0:24c:bc02:788b with SMTP id d9443c01a7336-290272e3debmr404314405ad.44.1760614136121; Thu, 16 Oct 2025 04:28:56 -0700 (PDT) Received: from postal.iol.unh.edu (postal.iol.unh.edu. [2606:4100:3880:1234::84]) by smtp-relay.gmail.com with ESMTPS id d9443c01a7336-29098e8abdesm2846715ad.5.2025.10.16.04.28.56 (version=TLS1_2 cipher=ECDHE-ECDSA-AES128-GCM-SHA256 bits=128/128); Thu, 16 Oct 2025 04:28:56 -0700 (PDT) X-Relaying-Domain: iol.unh.edu Date: Thu, 16 Oct 2025 04:28:56 -0700 (PDT) Message-ID: <68f0d6f8.170a0220.3ad217.dd70SMTPIN_ADDED_MISSING@mx.google.com> Received: from [172.21.0.2] (unknown [172.18.0.240]) by postal.iol.unh.edu (Postfix) with ESMTP id 943726051830; Thu, 16 Oct 2025 07:28:55 -0400 (EDT) Subject: |WARNING| pw157695-157696 [PATCH] [v6,4/4] dma/hisi_acc: add doc From: dpdklab@iol.unh.edu To: Test Report Cc: dpdk-test-reports@iol.unh.edu In-Reply-To: <20251016025318.14333-5-fengchengwen@huawei.com> References: <20251016025318.14333-5-fengchengwen@huawei.com> Content-Type: text/plain X-BeenThere: test-report@dpdk.org X-Mailman-Version: 2.1.29 Precedence: list List-Id: automatic DPDK test reports List-Unsubscribe: , List-Archive: List-Post: List-Help: List-Subscribe: , Errors-To: test-report-bounces@dpdk.org Test-Label: iol-compile-amd64-testing Test-Status: WARNING http://dpdk.org/patch/157696 _Testing issues_ Submitter: Chengwen Feng Date: Thursday, October 16 2025 02:53:18 DPDK git baseline: Repo:dpdk Branch: master CommitID:16f4c522003dcfecf23c8d38e009b95a3bbefd03 157695-157696 --> testing issues Upstream job id: Generic-DPDK-Compile-Meson#434755 Test environment and result as below: +-------------------------------+--------------------+-------------------+-------------------------+----------------------+-------------------+------------------+ | Environment | dpdk_meson_compile | dpdk_msvc_compile | dpdk_llvm_clang_compile | dpdk_mingw64_compile | dpdk_compile_spdk | dpdk_compile_ovs | +===============================+====================+===================+=========================+======================+===================+==================+ | Ubuntu 20.04 | PASS | SKIPPED | SKIPPED | SKIPPED | SKIPPED | SKIPPED | +-------------------------------+--------------------+-------------------+-------------------------+----------------------+-------------------+------------------+ | FreeBSD 14.2 | PASS | SKIPPED | SKIPPED | SKIPPED | SKIPPED | SKIPPED | +-------------------------------+--------------------+-------------------+-------------------------+----------------------+-------------------+------------------+ | CentOS Stream 9 | PASS | SKIPPED | SKIPPED | SKIPPED | WARN | SKIPPED | +-------------------------------+--------------------+-------------------+-------------------------+----------------------+-------------------+------------------+ | CentOS Stream 10 | PASS | SKIPPED | SKIPPED | SKIPPED | SKIPPED | SKIPPED | +-------------------------------+--------------------+-------------------+-------------------------+----------------------+-------------------+------------------+ | Debian GNU/Linux 12 | PASS | SKIPPED | SKIPPED | SKIPPED | WARN | SKIPPED | +-------------------------------+--------------------+-------------------+-------------------------+----------------------+-------------------+------------------+ | Fedora Linux 42 | PASS | SKIPPED | SKIPPED | SKIPPED | WARN | PASS | +-------------------------------+--------------------+-------------------+-------------------------+----------------------+-------------------+------------------+ | openSUSE Leap 15.6 | PASS | SKIPPED | SKIPPED | SKIPPED | SKIPPED | SKIPPED | +-------------------------------+--------------------+-------------------+-------------------------+----------------------+-------------------+------------------+ | Red Hat Enterprise Linux 8.10 | PASS | SKIPPED | SKIPPED | SKIPPED | SKIPPED | SKIPPED | +-------------------------------+--------------------+-------------------+-------------------------+----------------------+-------------------+------------------+ | Red Hat Enterprise Linux 9.5 | PASS | SKIPPED | SKIPPED | SKIPPED | SKIPPED | SKIPPED | +-------------------------------+--------------------+-------------------+-------------------------+----------------------+-------------------+------------------+ | Ubuntu 22.04 | PASS | SKIPPED | SKIPPED | SKIPPED | WARN | SKIPPED | +-------------------------------+--------------------+-------------------+-------------------------+----------------------+-------------------+------------------+ | Ubuntu 24.04 | PASS | SKIPPED | SKIPPED | SKIPPED | WARN | PASS | +-------------------------------+--------------------+-------------------+-------------------------+----------------------+-------------------+------------------+ | Alpine Linux 3.22.0 | PASS | SKIPPED | SKIPPED | SKIPPED | SKIPPED | SKIPPED | +-------------------------------+--------------------+-------------------+-------------------------+----------------------+-------------------+------------------+ | Windows Server 2022 | SKIPPED | PASS | PASS | PASS | SKIPPED | SKIPPED | +-------------------------------+--------------------+-------------------+-------------------------+----------------------+-------------------+------------------+ ==== 20 line log output for Ubuntu 24.04 (dpdk_compile_spdk): ==== --- Failed to get log output --- ==== End log output ==== Ubuntu 20.04 Kernel: 4.19 Compiler: gcc gcc (Ubuntu 9.4.0-1ubuntu1~20.04.2) 9.4.0 FreeBSD 14.2 Kernel: 14.2-RELEASE Compiler: clang 18.1.6 CentOS Stream 9 Kernel: 5.15 Compiler: gcc gcc (GCC) 11.5.0 20240719 (Red Hat 11.5.0-11) CentOS Stream 10 Kernel: 5.15 Compiler: gcc gcc (GCC) 14.2.1 20250110 (Red Hat 14.2.1-8) Debian GNU/Linux 12 Kernel: 5.15 Compiler: gcc gcc (Debian 12.2.0-14+deb12u1) 12.2.0 Fedora Linux 42 Kernel: 5.15 Compiler: clang gcc (GCC) 15.2.1 20250808 (Red Hat 15.2.1-1) openSUSE Leap 15.6 Kernel: 5.15 Compiler: gcc gcc (SUSE Linux) 7.5.0 Red Hat Enterprise Linux 8.10 Kernel: 5.15 Compiler: gcc gcc (GCC) 8.5.0 20210514 (Red Hat 8.5.0-22) Red Hat Enterprise Linux 9.5 Kernel: 5.15 Compiler: gcc gcc (GCC) 11.5.0 20240719 (Red Hat 11.5.0-2) Ubuntu 22.04 Kernel: 5.15 Compiler: gcc gcc (Ubuntu 11.4.0-1ubuntu1~22.04) 11.4.0 Ubuntu 24.04 Kernel: 5.15 Compiler: gcc gcc (Ubuntu 13.3.0-6ubuntu2~24.04) 13.3.0 Alpine Linux 3.22.0 Kernel: 5.15 Compiler: gcc gcc (Alpine 14.2.0) 14.2.0 Windows Server 2022 Kernel: 10.0.20348.2031 Compiler: clang 15.0.7, gcc 14.1.0 (MinGW), and MSVC VS 19.39.33521 To view detailed results, visit: https://lab.dpdk.org/results/dashboard/patchsets/34293/ UNH-IOL DPDK Community Lab To manage your email subscriptions, visit: https://lab.dpdk.org/results/dashboard/preferences/subscriptions/