From mboxrd@z Thu Jan 1 00:00:00 1970 Return-Path: Received: from mails.dpdk.org (mails.dpdk.org [217.70.189.124]) by inbox.dpdk.org (Postfix) with ESMTP id BD5E448952 for ; Thu, 16 Oct 2025 13:48:55 +0200 (CEST) Received: from mails.dpdk.org (localhost [127.0.0.1]) by mails.dpdk.org (Postfix) with ESMTP id B82AA40676; Thu, 16 Oct 2025 13:48:55 +0200 (CEST) Received: from mail-il1-f228.google.com (mail-il1-f228.google.com [209.85.166.228]) by mails.dpdk.org (Postfix) with ESMTP id 7CE1A40676 for ; Thu, 16 Oct 2025 13:48:54 +0200 (CEST) Received: by mail-il1-f228.google.com with SMTP id e9e14a558f8ab-430a5fe0c5cso5569515ab.0 for ; Thu, 16 Oct 2025 04:48:54 -0700 (PDT) DKIM-Signature: v=1; a=rsa-sha256; c=relaxed/relaxed; d=iol.unh.edu; s=unh-iol; t=1760615334; x=1761220134; darn=dpdk.org; h=references:in-reply-to:cc:to:from:subject:message-id:date:from:to :cc:subject:date:message-id:reply-to; bh=mZRST35sToD+qPQpqhmfTJebtybeHXAL7eMajoAoPv0=; b=YLbnCaewA7w9PqWdFdRsGcvJN01i1BNDr2/3j8iQ7dhDBvMaKDRG6oPXuef47ArSqN mBNrdKt+SDASUds/GUotCo6OyFfVuGpFPGz8za6aIzO2n60q1binT4W5n7WX09UCeaKp SKRDutPOigzDJyuIm0iPBarfsReiylYmkKT7s= X-Google-DKIM-Signature: v=1; a=rsa-sha256; c=relaxed/relaxed; d=1e100.net; s=20230601; t=1760615334; x=1761220134; h=references:in-reply-to:cc:to:from:subject:message-id:date :x-gm-message-state:from:to:cc:subject:date:message-id:reply-to; bh=mZRST35sToD+qPQpqhmfTJebtybeHXAL7eMajoAoPv0=; b=uSr2hKFyKYfjjD1NuD/ZfYi+wa2TiVuhzZ2dW3IsWY0R0ejHmRAyh1Iu6thVqsaig7 XTRsqeYSHQQ9AfEYYvIrPV0HknQ9Xy9L+y1OShzt4F9aNPVEuH/4eiVnp3IyJ5P3W9kX 2u/DQamQDiklh++hBwwokTprGM1GyTIY9t0u/MBlNFFBmbCYbDhuh3E5c82c5v/0zoru JHXhMUR/7eTfc7I5BrDuHCswIGZ16VkcYgVLqaK6yAEGFuaxpwLn89alNW57gpKmBpU3 R4+JInAnIMqZp3k1180I9U+zjPyAGVsIWyScuademkZBaGGthHPPMhq0Z7wB1nLzD83T 5HLw== X-Gm-Message-State: AOJu0YzNqqvD1/9c1GrdwJAK+FoPFGU9quZafQW38SsbYccnc026f3JE Q4XrxTF9R39KHUeFlC8euRe1oMrGufBs13QdqbssYWF/6+9wtrBWLWFYdoDo3SsVkhCuL3u38Ks A2VVrjzNISRWg6iSLeLV23hrIJOmLkIUet7kQ9Zo1mZwaEF8hpUymBoulBRoT X-Gm-Gg: ASbGnct+//velnhXG+RqzdDjCpYJAyXuT6aKQHQjUekKL5Qkbt8zWKI7LMSYQjHt850 nCRyMTHCtkvl3QaHZt5PhxrFYrFcizm1DqyztAqqFWqLEcoV016KTQNe4CY1lmRTVaiUUzgwZP7 AFjveWfLzGVRKwBpL6YV4cvD2bP3yxMD1EJlEgTBoCsl5PR5q3Ql2p6mvcx6T4SqNcYmQsGzZee PEyPC7bCnrGvIMxsZbPs2aKyi8Mme1RFXz9kZsH9AL9CYiAyE52G+f1mFzRRGkCqmli7g2QUfRM NfNmAkjAbE7bPfjnD8ZAKIds/j9N1dZA3XT/Fl0Er0ENLRml8LmplQ6bL1OEFxBE3zgbJd1nrqv aOOpEKdxw X-Google-Smtp-Source: AGHT+IEOHh5Q7tm+bXAsBoPaQTYCzKmfEFOW7X5qS+4JxGE2FMu5DJBUO+bnk2Gx485CALutrrT/ERg0fT+0 X-Received: by 2002:a05:6e02:1d8d:b0:42f:8d40:6c4b with SMTP id e9e14a558f8ab-42f8d40719dmr338825755ab.11.1760615333522; Thu, 16 Oct 2025 04:48:53 -0700 (PDT) Received: from postal.iol.unh.edu (postal.iol.unh.edu. [2606:4100:3880:1234::84]) by smtp-relay.gmail.com with ESMTPS id e9e14a558f8ab-430bfbf4ff7sm1029325ab.34.2025.10.16.04.48.53 (version=TLS1_2 cipher=ECDHE-ECDSA-AES128-GCM-SHA256 bits=128/128); Thu, 16 Oct 2025 04:48:53 -0700 (PDT) X-Relaying-Domain: iol.unh.edu Date: Thu, 16 Oct 2025 04:48:53 -0700 (PDT) Message-ID: <68f0dba5.050a0220.39a90c.457dSMTPIN_ADDED_MISSING@mx.google.com> Received: from [172.21.0.3] (unknown [172.18.0.240]) by postal.iol.unh.edu (Postfix) with ESMTP id 0BCC660003F7; Thu, 16 Oct 2025 07:48:53 -0400 (EDT) Subject: |SUCCESS| pw157716-157715 [PATCH] [v1,2/2] benchmark report for rte_ From: dpdklab@iol.unh.edu To: Test Report Cc: dpdk-test-reports@iol.unh.edu In-Reply-To: <20251016090934.1166954-3-chen.qiguo@zte.com.cn> References: <20251016090934.1166954-3-chen.qiguo@zte.com.cn> Content-Type: text/plain X-BeenThere: test-report@dpdk.org X-Mailman-Version: 2.1.29 Precedence: list List-Id: automatic DPDK test reports List-Unsubscribe: , List-Archive: List-Post: List-Help: List-Subscribe: , Errors-To: test-report-bounces@dpdk.org Test-Label: iol-unit-amd64-testing Test-Status: SUCCESS http://dpdk.org/patch/157715 _Testing PASS_ Submitter: Qiguo Chen Date: Thursday, October 16 2025 09:09:34 DPDK git baseline: Repo:dpdk Branch: master CommitID:16f4c522003dcfecf23c8d38e009b95a3bbefd03 157716-157715 --> testing pass Upstream job id: Generic-VM-Unit-Test-DPDK#31845 Test environment and result as below: +-------------------------------+----------------+ | Environment | dpdk_unit_test | +===============================+================+ | Debian GNU/Linux 12 | PASS | +-------------------------------+----------------+ | Fedora Linux 40 | PASS | +-------------------------------+----------------+ | Fedora Linux 41 | PASS | +-------------------------------+----------------+ | Fedora Linux 42 | PASS | +-------------------------------+----------------+ | CentOS Stream 10 | PASS | +-------------------------------+----------------+ | CentOS Stream 9 | PASS | +-------------------------------+----------------+ | Red Hat Enterprise Linux 8.10 | PASS | +-------------------------------+----------------+ | Red Hat Enterprise Linux 9.5 | PASS | +-------------------------------+----------------+ | Ubuntu 20.04 | PASS | +-------------------------------+----------------+ | Ubuntu 24.04 | PASS | +-------------------------------+----------------+ | Ubuntu 22.04 | PASS | +-------------------------------+----------------+ | Windows Server 2022 | PASS | +-------------------------------+----------------+ Debian GNU/Linux 12 Kernel: 5.15 Compiler: gcc gcc (Debian 12.2.0-14+deb12u1) 12.2.0 Fedora Linux 40 Kernel: 5.15 Compiler: clang gcc (GCC) 14.2.1 20240912 (Red Hat 14.2.1-3) Fedora Linux 41 Kernel: 5.15 Compiler: gcc gcc (GCC) 14.3.1 20250523 (Red Hat 14.3.1-1) Fedora Linux 42 Kernel: 5.15 Compiler: gcc gcc (GCC) 15.2.1 20250808 (Red Hat 15.2.1-1) CentOS Stream 10 Kernel: 5.15 Compiler: gcc gcc (GCC) 14.2.1 20250110 (Red Hat 14.2.1-8) CentOS Stream 9 Kernel: 5.15 Compiler: gcc gcc (GCC) 11.5.0 20240719 (Red Hat 11.5.0-11) Red Hat Enterprise Linux 8.10 Kernel: 5.15 Compiler: gcc gcc (GCC) 8.5.0 20210514 (Red Hat 8.5.0-22) Red Hat Enterprise Linux 9.5 Kernel: 5.15 Compiler: gcc gcc (GCC) 11.5.0 20240719 (Red Hat 11.5.0-2) Ubuntu 20.04 Kernel: 5.15 Compiler: gcc gcc (Ubuntu 9.4.0-1ubuntu1~20.04.2) 9.4.0 Ubuntu 24.04 Kernel: 5.15 Compiler: gcc gcc (Ubuntu 13.3.0-6ubuntu2~24.04) 13.3.0 Ubuntu 22.04 Kernel: 5.15 Compiler: gcc gcc (Ubuntu 11.4.0-1ubuntu1~22.04) 11.4.0 Windows Server 2022 Kernel: 10.0.20348.2031 Compiler: clang 15.0.7, gcc 14.1.0 (MinGW), and MSVC VS 19.39.33521 To view detailed results, visit: https://lab.dpdk.org/results/dashboard/patchsets/34296/ UNH-IOL DPDK Community Lab To manage your email subscriptions, visit: https://lab.dpdk.org/results/dashboard/preferences/subscriptions/