From mboxrd@z Thu Jan 1 00:00:00 1970 Return-Path: Received: from mails.dpdk.org (mails.dpdk.org [217.70.189.124]) by inbox.dpdk.org (Postfix) with ESMTP id E2B1048952 for ; Thu, 16 Oct 2025 13:59:12 +0200 (CEST) Received: from mails.dpdk.org (localhost [127.0.0.1]) by mails.dpdk.org (Postfix) with ESMTP id DD6A240269; Thu, 16 Oct 2025 13:59:12 +0200 (CEST) Received: from mail-oa1-f99.google.com (mail-oa1-f99.google.com [209.85.160.99]) by mails.dpdk.org (Postfix) with ESMTP id EA27740269 for ; Thu, 16 Oct 2025 13:59:10 +0200 (CEST) Received: by mail-oa1-f99.google.com with SMTP id 586e51a60fabf-3c972dec6easo394672fac.3 for ; Thu, 16 Oct 2025 04:59:10 -0700 (PDT) DKIM-Signature: v=1; a=rsa-sha256; c=relaxed/relaxed; d=iol.unh.edu; s=unh-iol; t=1760615950; x=1761220750; darn=dpdk.org; h=references:in-reply-to:cc:to:from:subject:message-id:date:from:to :cc:subject:date:message-id:reply-to; bh=XFUkyNUVNIYFsi1gVqniBMZXGRDCuBfs8OZL3GGU79U=; b=QtJmkad/1hLCnxBNmaOmEocvES158W1aY5z5qwM1pxIkr8cg25M6Z4mjRE4HQQm1Ue qq+urwElAZOJRv6ByA8IJ6232TPCvzM+W+dISngN1glQyuRt6VbddTG3FC6rRhTOcEAd fGW/8ZvJ83BALmAkZ+KuETnFJkhRW/kYLOCR0= X-Google-DKIM-Signature: v=1; a=rsa-sha256; c=relaxed/relaxed; d=1e100.net; s=20230601; t=1760615950; x=1761220750; h=references:in-reply-to:cc:to:from:subject:message-id:date :x-gm-message-state:from:to:cc:subject:date:message-id:reply-to; bh=XFUkyNUVNIYFsi1gVqniBMZXGRDCuBfs8OZL3GGU79U=; b=Y1ABlKwVNz08EwZyKM4fbEBWAxoYRuZVvXkZk6dOOH2JtijbJ63PkfKB5Uu1X/EXxK OFecbF+Mf7mmYfTNjxc3dL5w48DZkWHd9MIztdwCZWztxdyRuuLbDB4RNhtimAC2s4tY 1k7Oam3BVG0ywW1JfFYRX+W4jkNVO68/w15QtLZ9Hdj+3u7ZNLgLfAAraMIxb72mMmnQ MtWaLZuo44q60lWroC6xklSrRu1asr3E54v3LO5cyMrg4teLkiPYkl5k0RGWTh16S1ZR VSCcEm4Zkz8VNCfc34A69E7dET1Y6JtIY0rCo7ENkqwHikMbD69A8PNqt3VPkx1ad7Sp S63g== X-Gm-Message-State: AOJu0YzJoBDBB9bpAI1O15zo/jKEygpPnJj5iRPqMM30yDoShWlbM4Je HH/BWV2vpYHOR0DlJ2Nu7Ta446+bWANQCQkQFlzvxSQa3iUshCsF9ZANJHKrIu5KM1BTfCWkq9I WOLWigcCVv69M41Gql4+5tEReXye1ue4gFp2F8Yu479VoK60HRitxbv4LbPJz X-Gm-Gg: ASbGncuQknkLMZokmzdU6pCcv/Frrbmum8KygZJ8dUy4rb201sLsvv8m0NXXFYChMm6 0ZJsKNRCYXQfnx8XmCbna/q/YRmxuUeg4SUeJM9t3Wwrxzt5E26FLZ9f0pZubrZOYlIGhE0r0N8 7Rs329JM5VsrMWGTg2+3Bdji/Hcgk05THrJoo+jhP85cjPGrXsx2KB0WAOWPAeUfbI9GPeRjs2o eDMJyzF+atg3erylljNlG/4dB6y2ROczlK6bKwnYiOmsXnZZRqcyuhUiNoTxV6+7iiP9GEjCGIZ pm4bWXz8CoP+OVfcirurmxh9IKlXoSpnUr688GyOD7iHMNPLO8Qq2qXdT+eZ+GvFBGz2GnLZXrH QBYitQXWe X-Google-Smtp-Source: AGHT+IHPRMbz1j2p3AFCcEXoI7UfDCmltkPSjiwrYgrnULc6QHoYbWXRyX9XZCvQxlh19pvJQLavVjNpDT8x X-Received: by 2002:a05:6870:8195:b0:315:7456:1ec2 with SMTP id 586e51a60fabf-3c0f968ee94mr15906910fac.24.1760615950239; Thu, 16 Oct 2025 04:59:10 -0700 (PDT) Received: from postal.iol.unh.edu (postal.iol.unh.edu. [2606:4100:3880:1234::84]) by smtp-relay.gmail.com with ESMTPS id 586e51a60fabf-3c8c8b7da77sm1717923fac.8.2025.10.16.04.59.10 (version=TLS1_2 cipher=ECDHE-ECDSA-AES128-GCM-SHA256 bits=128/128); Thu, 16 Oct 2025 04:59:10 -0700 (PDT) X-Relaying-Domain: iol.unh.edu Date: Thu, 16 Oct 2025 04:59:10 -0700 (PDT) Message-ID: <68f0de0e.050a0220.30ff25.3e4dSMTPIN_ADDED_MISSING@mx.google.com> Received: from [172.21.0.5] (unknown [172.18.0.240]) by postal.iol.unh.edu (Postfix) with ESMTP id B8FEE6051830; Thu, 16 Oct 2025 07:59:09 -0400 (EDT) Subject: |SUCCESS| pw157718 [PATCH] [v1] maintainers: update for LoongArch From: dpdklab@iol.unh.edu To: Test Report Cc: dpdk-test-reports@iol.unh.edu In-Reply-To: <20251016090948.836029-1-zhoumin@loongson.cn> References: <20251016090948.836029-1-zhoumin@loongson.cn> Content-Type: text/plain X-BeenThere: test-report@dpdk.org X-Mailman-Version: 2.1.29 Precedence: list List-Id: automatic DPDK test reports List-Unsubscribe: , List-Archive: List-Post: List-Help: List-Subscribe: , Errors-To: test-report-bounces@dpdk.org Test-Label: iol-compile-amd64-testing Test-Status: SUCCESS http://dpdk.org/patch/157718 _Testing PASS_ Submitter: Min Zhou Date: Thursday, October 16 2025 09:09:48 DPDK git baseline: Repo:dpdk Branch: master CommitID:16f4c522003dcfecf23c8d38e009b95a3bbefd03 157718 --> testing pass Upstream job id: Windows-Compile-DPDK-VS#7220 Test environment and result as below: +---------------------+--------------------+-------------------+ | Environment | dpdk_meson_compile | dpdk_msvc_compile | +=====================+====================+===================+ | Ubuntu 20.04 | PASS | SKIPPED | +---------------------+--------------------+-------------------+ | FreeBSD 14.2 | PASS | SKIPPED | +---------------------+--------------------+-------------------+ | Windows Server 2022 | SKIPPED | PASS | +---------------------+--------------------+-------------------+ Ubuntu 20.04 Kernel: 4.19 Compiler: gcc gcc (Ubuntu 9.4.0-1ubuntu1~20.04.2) 9.4.0 FreeBSD 14.2 Kernel: 14.2-RELEASE Compiler: clang 18.1.6 Windows Server 2022 Kernel: 10.0.20348.2031 Compiler: clang 15.0.7, gcc 14.1.0 (MinGW), and MSVC VS 19.39.33521 To view detailed results, visit: https://lab.dpdk.org/results/dashboard/patchsets/34297/ UNH-IOL DPDK Community Lab To manage your email subscriptions, visit: https://lab.dpdk.org/results/dashboard/preferences/subscriptions/