From mboxrd@z Thu Jan 1 00:00:00 1970 Return-Path: Received: from mails.dpdk.org (mails.dpdk.org [217.70.189.124]) by inbox.dpdk.org (Postfix) with ESMTP id 0750648952 for ; Thu, 16 Oct 2025 14:00:01 +0200 (CEST) Received: from mails.dpdk.org (localhost [127.0.0.1]) by mails.dpdk.org (Postfix) with ESMTP id 016F640269; Thu, 16 Oct 2025 14:00:01 +0200 (CEST) Received: from mail-pj1-f98.google.com (mail-pj1-f98.google.com [209.85.216.98]) by mails.dpdk.org (Postfix) with ESMTP id C0D2640269 for ; Thu, 16 Oct 2025 13:59:59 +0200 (CEST) Received: by mail-pj1-f98.google.com with SMTP id 98e67ed59e1d1-330469eb750so883211a91.2 for ; Thu, 16 Oct 2025 04:59:59 -0700 (PDT) DKIM-Signature: v=1; a=rsa-sha256; c=relaxed/relaxed; d=iol.unh.edu; s=unh-iol; t=1760615999; x=1761220799; darn=dpdk.org; h=cc:to:from:subject:message-id:date:from:to:cc:subject:date :message-id:reply-to; bh=bTCKGpQFFYkqsvLb6XPE6OyYaddvJXdvnqC9xvODy+4=; b=R1VpV1Pa5/UFBcPdXgMvCH3Q30mA8tgfU0ExlEj0kCSB9XorBtFbJd1gxSUk3fDs86 eEFDax1AVR0bdDV388p21ntXSjEE2MoNr+m+o1eYk3fkHd8OI8vrChRquYPePphbz60D ByO80jKyLC/WHqPGS4GLBGeUwtgF++D+ipjCs= X-Google-DKIM-Signature: v=1; a=rsa-sha256; c=relaxed/relaxed; d=1e100.net; s=20230601; t=1760615999; x=1761220799; h=cc:to:from:subject:message-id:date:x-gm-message-state:from:to:cc :subject:date:message-id:reply-to; bh=bTCKGpQFFYkqsvLb6XPE6OyYaddvJXdvnqC9xvODy+4=; b=tu1qwROPMT1Ua2pogM+comU68T0D25y3zh552X79FinSDBFnkwrMbQ52KPnlCoUbZx P+TvfuLkcNjvoX/dky8cgZ5DUkCEXmTk+RZYw1c+C6BN72EYv4AIE3Q3lWldATUWQ+VG bSbkBYT+jwrXPhpXm5U5oosgvoaK5zZxV1zkutdaubHuJOoncluam0ORK4Jr0r8uqXRv UbxwOMapBLBfwJ6z3lUwF1AisniGgKn6jM6ceKSFpHOIXfhGvrE5TSCWBxN7hcpAG8YO chf7kxYS/mqAOI0vpyHZF1mLxPUW1oqoz+5+Lxp57voMAmqBj8gnPt5kwLqH8RSwWb+E z47Q== X-Gm-Message-State: AOJu0YyfnO81xQRR3ca4aeewgth7u9N4HaRmULPrwgaaQa3gTKgcY5zL eb7ElUKW5AUY3bbPCK8vnH2KZTlL7wKT1WXAZGkU2oWwjW00HNKTJ/Ov5cWcXOua5RnRVgf4woh GPdLo62iy1+OctXTu8DsamHkLGiFfE8qcvx1K X-Gm-Gg: ASbGnct61VDmUNB00FWK2eB6j/Od+NzuqgZUtuub1zSM8ojFlOAs8NIJ0eCRy5ifS+3 1XJLwkxBcucQLpfCnaOPSkIjnTL6JI4quXm2UmWLdBJEi8G246n09OndLPkCnnTnJbvTldzl85V vSuW7i7nRyujt4VV2sjCRd0+Ph4ETQPAEQzAbbt0UK67VvC5zgKugXvmlKcyj1TomHIs767zh3b IpozZZwbuYIEhmL84pjGj9OjXN0bTWWMa79ft4VcRWHE33SXHhdj8CZ8iTXFeyOP95MHBMZzDOV I0i7RvBzVgK1bprJvFIVhYiRUkkYrG/dCnBq70NuDZ+mu3aYGH4TYwxazRusmrANtvX6yMRiRtT ggCvvmlqFnnopeF9VPuVwZ4TlkmxZZCM= X-Google-Smtp-Source: AGHT+IEJK22x3saVuxtt5q9W8/HT3DX72aTyiwtbsCQOuFXhbmi982xXKajha4nKb9H4qpoqIeDxuxGpAsfn X-Received: by 2002:a17:90b:1b42:b0:330:a228:d32 with SMTP id 98e67ed59e1d1-33b5111891emr42860025a91.10.1760615998947; Thu, 16 Oct 2025 04:59:58 -0700 (PDT) Received: from postal.iol.unh.edu (postal.iol.unh.edu. [132.177.123.84]) by smtp-relay.gmail.com with ESMTPS id 98e67ed59e1d1-33ba927eedesm55768a91.0.2025.10.16.04.59.58 (version=TLS1_2 cipher=ECDHE-ECDSA-AES128-GCM-SHA256 bits=128/128); Thu, 16 Oct 2025 04:59:58 -0700 (PDT) X-Relaying-Domain: iol.unh.edu Date: Thu, 16 Oct 2025 04:59:58 -0700 (PDT) Message-ID: <68f0de3e.170a0220.7428f.2bafSMTPIN_ADDED_MISSING@mx.google.com> Received: from [172.21.0.3] (unknown [172.18.0.240]) by postal.iol.unh.edu (Postfix) with ESMTP id 38BDF6051830; Thu, 16 Oct 2025 07:59:58 -0400 (EDT) Subject: |SUCCESS| [GIT MASTER] b287e404643aeab5bb5db084c142789df187844e From: dpdklab@iol.unh.edu To: Test Report Cc: dpdk-test-reports@iol.unh.edu, Xueming Li , Christian Ehrhardt , Kevin Traynor , Luca Boccassi Content-Type: text/plain X-BeenThere: test-report@dpdk.org X-Mailman-Version: 2.1.29 Precedence: list List-Id: automatic DPDK test reports List-Unsubscribe: , List-Archive: List-Post: List-Help: List-Subscribe: , Errors-To: test-report-bounces@dpdk.org _Testing PASS_ Branch: tags/v24.11 b287e404643aeab5bb5db084c142789df187844e --> testing pass Upstream job id: Generic-DPDK-Compile-Meson#434768 Test environment and result as below: +---------------------+--------------------+-------------------+-------------------------+----------------------+-------------------+ | Environment | dpdk_meson_compile | dpdk_msvc_compile | dpdk_llvm_clang_compile | dpdk_mingw64_compile | dpdk_compile_spdk | +=====================+====================+===================+=========================+======================+===================+ | Ubuntu 20.04 | PASS | SKIPPED | SKIPPED | SKIPPED | SKIPPED | +---------------------+--------------------+-------------------+-------------------------+----------------------+-------------------+ | FreeBSD 14.2 | PASS | SKIPPED | SKIPPED | SKIPPED | SKIPPED | +---------------------+--------------------+-------------------+-------------------------+----------------------+-------------------+ | CentOS Stream 9 | PASS | SKIPPED | SKIPPED | SKIPPED | PASS | +---------------------+--------------------+-------------------+-------------------------+----------------------+-------------------+ | Windows Server 2022 | SKIPPED | PASS | PASS | PASS | SKIPPED | +---------------------+--------------------+-------------------+-------------------------+----------------------+-------------------+ Ubuntu 20.04 Kernel: 4.19 Compiler: gcc gcc (Ubuntu 9.4.0-1ubuntu1~20.04.2) 9.4.0 FreeBSD 14.2 Kernel: 14.2-RELEASE Compiler: clang 18.1.6 CentOS Stream 9 Kernel: 5.15 Compiler: gcc gcc (GCC) 11.5.0 20240719 (Red Hat 11.5.0-11) Windows Server 2022 Kernel: 10.0.20348.2031 Compiler: clang 15.0.7, gcc 14.1.0 (MinGW), and MSVC VS 19.39.33521 To view detailed results, visit: https://lab.dpdk.org/results/dashboard/tarballs/35229/ UNH-IOL DPDK Community Lab To manage your email subscriptions, visit: https://lab.dpdk.org/results/dashboard/preferences/subscriptions/