From mboxrd@z Thu Jan 1 00:00:00 1970 Return-Path: Received: from mails.dpdk.org (mails.dpdk.org [217.70.189.124]) by inbox.dpdk.org (Postfix) with ESMTP id 33EDA48953 for ; Thu, 16 Oct 2025 14:01:25 +0200 (CEST) Received: from mails.dpdk.org (localhost [127.0.0.1]) by mails.dpdk.org (Postfix) with ESMTP id 2DB0E40269; Thu, 16 Oct 2025 14:01:25 +0200 (CEST) Received: from mail-vk1-f227.google.com (mail-vk1-f227.google.com [209.85.221.227]) by mails.dpdk.org (Postfix) with ESMTP id D0F5C40269 for ; Thu, 16 Oct 2025 14:01:23 +0200 (CEST) Received: by mail-vk1-f227.google.com with SMTP id 71dfb90a1353d-54a880e2858so440573e0c.2 for ; Thu, 16 Oct 2025 05:01:23 -0700 (PDT) DKIM-Signature: v=1; a=rsa-sha256; c=relaxed/relaxed; d=iol.unh.edu; s=unh-iol; t=1760616083; x=1761220883; darn=dpdk.org; h=references:in-reply-to:cc:to:from:subject:message-id:date:from:to :cc:subject:date:message-id:reply-to; bh=UEutxpn+T0KdtbN1R+AiTgeLbGGWz5AtIMKYMRUzQiQ=; b=Tz90EFzsxuNnBBFNApG4Qc6tSVweQQQRpPXlSUugdK7gh1ipBoNniIDDS8DAxcoDzJ bJmSeLo1TjR75xtCmxNDWDCXVaZLrcH6dZe0Tt9clqRmMaNXM6rApMZ+yX23B/NFPg97 hJd9JhVw1Ab6Ai1Tadcjp7rUBKFT9/gxoqHzc= X-Google-DKIM-Signature: v=1; a=rsa-sha256; c=relaxed/relaxed; d=1e100.net; s=20230601; t=1760616083; x=1761220883; h=references:in-reply-to:cc:to:from:subject:message-id:date :x-gm-message-state:from:to:cc:subject:date:message-id:reply-to; bh=UEutxpn+T0KdtbN1R+AiTgeLbGGWz5AtIMKYMRUzQiQ=; b=s2w88lQlaPcStfcDTrqfn6TkSUPRyWNobEKI+H058muhgp29m3zvaUJX39KxCDw+1L fquOIjEAXVFXOAD+fC9MtrZBjK/AYcOicBUaBYAiW+1KrB4N2o8tSRCp8nTfhq2VAQqK mZRoBxpkltGODs41zSsLbMBgnn1LBKv9nQJ9K5IVvTOhHl9upjFhKS9ti7b7SYbgBJob PFaAs44BK+pk2x53wecLec+JlPbIcTg6X48hAkYZ0WhNZmGYGGaQO9P1CXVLTgpdfFnK 5DceWsbUXMVhiTVOWvKC3kZ/jWBtEza3UskYGSG9iEKgIRPQ9/vlBf9n4XZz48Okqxg/ Urhg== X-Gm-Message-State: AOJu0Yz80ue9+RcpYYYwjlFogxQ7VyTJdYAmvOAqnfAM5jP2NAIxvoci 8hD5I7q96HbjD68+nj3oTcnKE1wJ3iTHunzhOqzZtXWxHJwV4aKRWJz2KDtXDH5eZNnpty9YmdF s6pkfaMRZ4zyulwJQFKO4KJUQyiuwDBO8IemiwdIEyAU+ X-Gm-Gg: ASbGncu+NOPrfbKRhBygRtbsn/QtwUrKhd60LuTWmNCUaI9DlZ1+b1wwexvp5jBnfDI eLUGrDLaEY6uYCNaCxc2ijYWE9EIAS0FHFldnYmdbHDP3GyO4r0IaRr0o7lt0ls/rDSLyOAIevW h+/EtQEqF6Gj/yDUDkxY12M8hKXGdpXq7X2p8HP6KWVxXpxrkJHSmrec8Hnlrim+aUEdbaVlHiY R+h03WGEPKAOzKY1kL9bgs1OGlUZRz4Y49AbYEQAXq7GoFMFGksgg/sb/kB3/eBWLnMCFSDgKe5 Qux3KznY4NWfRuhirc8LAZBgVB6HVIhkNqhfxRq207qBgihOSW2LcnMOf696hMEaF6Cjw8p4tiX hebm8obJcZZSbsRdpWDrMFQS9qQqERNQ= X-Google-Smtp-Source: AGHT+IHF6C3V+I1z3RgzcjqxXkNh8HcnjzMftQBwp2VUgbv4VwIxJzgNGNQ721bQMhwApQWg9W57Hv8GjcE8 X-Received: by 2002:a05:6122:92a:b0:54a:992c:815e with SMTP id 71dfb90a1353d-554b8ade4b3mr11836604e0c.8.1760616082863; Thu, 16 Oct 2025 05:01:22 -0700 (PDT) Received: from postal.iol.unh.edu (postal.iol.unh.edu. [132.177.123.84]) by smtp-relay.gmail.com with ESMTPS id 71dfb90a1353d-554d7ff0ea3sm2080711e0c.5.2025.10.16.05.01.22 (version=TLS1_2 cipher=ECDHE-ECDSA-AES128-GCM-SHA256 bits=128/128); Thu, 16 Oct 2025 05:01:22 -0700 (PDT) X-Relaying-Domain: iol.unh.edu Date: Thu, 16 Oct 2025 05:01:22 -0700 (PDT) Message-ID: <68f0de92.050a0220.14b70d.9a45SMTPIN_ADDED_MISSING@mx.google.com> Received: from [172.21.0.5] (unknown [172.18.0.240]) by postal.iol.unh.edu (Postfix) with ESMTP id 881C36051830; Thu, 16 Oct 2025 08:01:22 -0400 (EDT) Subject: |SUCCESS| pw157697-157712 [PATCH] [v13,17/17] net/nbl: add nbl devic From: dpdklab@iol.unh.edu To: Test Report Cc: dpdk-test-reports@iol.unh.edu, Stephen Hemminger In-Reply-To: <20251016080128.3133579-18-dimon.zhao@nebula-matrix.com> References: <20251016080128.3133579-18-dimon.zhao@nebula-matrix.com> Content-Type: text/plain X-BeenThere: test-report@dpdk.org X-Mailman-Version: 2.1.29 Precedence: list List-Id: automatic DPDK test reports List-Unsubscribe: , List-Archive: List-Post: List-Help: List-Subscribe: , Errors-To: test-report-bounces@dpdk.org Test-Label: iol-compile-amd64-testing Test-Status: SUCCESS http://dpdk.org/patch/157712 _Testing PASS_ Submitter: Dimon Zhao Date: Thursday, October 16 2025 08:01:28 DPDK git baseline: Repo:dpdk-next-net Branch: master CommitID:791cea04798a8e2de014b99c009cd25b5929000a 157697-157712 --> testing pass Upstream job id: Windows-Compile-DPDK-Native#31672 Test environment and result as below: +---------------------+--------------------+-------------------+-------------------------+----------------------+ | Environment | dpdk_meson_compile | dpdk_msvc_compile | dpdk_llvm_clang_compile | dpdk_mingw64_compile | +=====================+====================+===================+=========================+======================+ | FreeBSD 14.2 | PASS | SKIPPED | SKIPPED | SKIPPED | +---------------------+--------------------+-------------------+-------------------------+----------------------+ | Ubuntu 20.04 | PASS | SKIPPED | SKIPPED | SKIPPED | +---------------------+--------------------+-------------------+-------------------------+----------------------+ | Windows Server 2022 | SKIPPED | PASS | PASS | PASS | +---------------------+--------------------+-------------------+-------------------------+----------------------+ FreeBSD 14.2 Kernel: 14.2-RELEASE Compiler: clang 18.1.6 Ubuntu 20.04 Kernel: 4.19 Compiler: gcc gcc (Ubuntu 9.4.0-1ubuntu1~20.04.2) 9.4.0 Windows Server 2022 Kernel: 10.0.20348.2031 Compiler: clang 15.0.7, gcc 14.1.0 (MinGW), and MSVC VS 19.39.33521 To view detailed results, visit: https://lab.dpdk.org/results/dashboard/patchsets/34295/ UNH-IOL DPDK Community Lab To manage your email subscriptions, visit: https://lab.dpdk.org/results/dashboard/preferences/subscriptions/