From mboxrd@z Thu Jan 1 00:00:00 1970 Return-Path: Received: from mails.dpdk.org (mails.dpdk.org [217.70.189.124]) by inbox.dpdk.org (Postfix) with ESMTP id 1536648953 for ; Thu, 16 Oct 2025 14:10:40 +0200 (CEST) Received: from mails.dpdk.org (localhost [127.0.0.1]) by mails.dpdk.org (Postfix) with ESMTP id 101254113C; Thu, 16 Oct 2025 14:10:40 +0200 (CEST) Received: from mail-io1-f99.google.com (mail-io1-f99.google.com [209.85.166.99]) by mails.dpdk.org (Postfix) with ESMTP id CE26740EE4 for ; Thu, 16 Oct 2025 14:10:38 +0200 (CEST) Received: by mail-io1-f99.google.com with SMTP id ca18e2360f4ac-938bf212b72so26302639f.1 for ; Thu, 16 Oct 2025 05:10:38 -0700 (PDT) DKIM-Signature: v=1; a=rsa-sha256; c=relaxed/relaxed; d=iol.unh.edu; s=unh-iol; t=1760616638; x=1761221438; darn=dpdk.org; h=references:in-reply-to:cc:to:from:subject:message-id:date:from:to :cc:subject:date:message-id:reply-to; bh=CVJWftvzuCxjlJQ52XyNOWBkey+ayWonT78JU1zJpUs=; b=WPJwAe9IBNnP5XeFv001poz2tqm0iDlBQmJSCWlPq1xueZ6wK3bMgkhsoaFThpH2yZ QRIwUlvQ1cGC/Cc3RIIhK0Dl2avoC7Mh2VKtkOoGCAvq8APnqfHtokO2w0sYPYOwGlAg cDAi1OiU1BldoX4QbgSvIDK9Y/DlqBJnbu6Eo= X-Google-DKIM-Signature: v=1; a=rsa-sha256; c=relaxed/relaxed; d=1e100.net; s=20230601; t=1760616638; x=1761221438; h=references:in-reply-to:cc:to:from:subject:message-id:date :x-gm-message-state:from:to:cc:subject:date:message-id:reply-to; bh=CVJWftvzuCxjlJQ52XyNOWBkey+ayWonT78JU1zJpUs=; b=HErSIHBMwkbepJgyD7hk1/2GJGIKRI7UyrvJj8nB0SjNqS6qZz3fP8yjzRl3hincWV HfmmYpEMK6LQBgHE7iivVbmZptnKyBgzxtTTi7oRmYDDVjAKne7mb+9YBGOO13823WA9 JfJi94KeSPY/de4RWhpxFHiQf6/jY1V5/iBYUKjgTI69C1r+oZ9otHT0fdoD52tVwfS6 g5+bfz8JUdQn55AX7sNFB32fQNePt9Pqh2MS3Adteltd4Hekn+TCRwaP5lv7PyDOfJ2i 8OrjRiqSJCZsk5AYXaGN2Lh0YZkRShs7/IaGWt2aptCdHQE+VRW2VmsgcdrNVInPKA4i zxNg== X-Gm-Message-State: AOJu0Yxnvw9IAb0+e8/14uwprqiitcDk9F0T0/oh3e1DiyWtLhFWtFCM n6kKfpjYdi5wktfJz2NrrpE35RtXoVWjnDAPlbSmI5FsZmPw4/x6DKGUftgcVnt36Hncp4ERnPr TUc4lfqxOtEQymKRJcr8a0ChgeJ6nu+KgeWNAMAOMYffO X-Gm-Gg: ASbGncvbz8bKDEfxXNYSOlwVME3/mbRj0GywcSc5/watu3rKfNnpfrqREjcnA2TZgLK bcMKRdl/KqrxzYV85u7iRZ/JDzg6DV6jE5Lphj4sZxHC3RNO6C9F1RxsXfQfGtjvxYCtQHoUZyO fbkB0z4cCgeJeK6sfvruSOkzqFkffopOQ9hEMxQz5ViEhu7J2e1YAHKC9/MssWGhIEklAx8gKOh 8uBAgS5ZhJxAUgzjtgddo20+8n9TtQ9y0C4G3ToEEA+5Mob0WEq7w5f+BBF2TmGYQpWlnxSP0s3 tiBxvXMW09bXP80S1pvnIsh75uzhd8plOlWLgM4SODhdLzYnQFD6yFrxIYaPgvRCK9oaOW5UP3p EaMPEfGw4CvSQ5zgNDj137cXfhRAR6kM= X-Google-Smtp-Source: AGHT+IG+xtBo8yVldkf3PLF25JIBe1qaPNkUt8fNgwDeFd8joFh/su2sywW01+fS1n+JcrZhGYvtUVtUISow X-Received: by 2002:a05:6602:608b:b0:887:56b5:b502 with SMTP id ca18e2360f4ac-93bd196081bmr3914569339f.10.1760616638104; Thu, 16 Oct 2025 05:10:38 -0700 (PDT) Received: from postal.iol.unh.edu (postal.iol.unh.edu. [132.177.123.84]) by smtp-relay.gmail.com with ESMTPS id ca18e2360f4ac-93e25926fc8sm114203539f.2.2025.10.16.05.10.38 (version=TLS1_2 cipher=ECDHE-ECDSA-AES128-GCM-SHA256 bits=128/128); Thu, 16 Oct 2025 05:10:38 -0700 (PDT) X-Relaying-Domain: iol.unh.edu Date: Thu, 16 Oct 2025 05:10:38 -0700 (PDT) Message-ID: <68f0e0be.050a0220.2d3437.7675SMTPIN_ADDED_MISSING@mx.google.com> Received: from [172.21.0.3] (unknown [172.18.0.240]) by postal.iol.unh.edu (Postfix) with ESMTP id C1ED46051830; Thu, 16 Oct 2025 08:10:37 -0400 (EDT) Subject: |SUCCESS| pw157718 [PATCH] [v1] maintainers: update for LoongArch From: dpdklab@iol.unh.edu To: Test Report Cc: dpdk-test-reports@iol.unh.edu In-Reply-To: <20251016090948.836029-1-zhoumin@loongson.cn> References: <20251016090948.836029-1-zhoumin@loongson.cn> Content-Type: text/plain X-BeenThere: test-report@dpdk.org X-Mailman-Version: 2.1.29 Precedence: list List-Id: automatic DPDK test reports List-Unsubscribe: , List-Archive: List-Post: List-Help: List-Subscribe: , Errors-To: test-report-bounces@dpdk.org Test-Label: iol-unit-amd64-testing Test-Status: SUCCESS http://dpdk.org/patch/157718 _Testing PASS_ Submitter: Min Zhou Date: Thursday, October 16 2025 09:09:48 DPDK git baseline: Repo:dpdk Branch: master CommitID:16f4c522003dcfecf23c8d38e009b95a3bbefd03 157718 --> testing pass Upstream job id: Generic-VM-Unit-Test-DPDK#31846 Test environment and result as below: +-------------------------------+----------------+ | Environment | dpdk_unit_test | +===============================+================+ | CentOS Stream 10 | PASS | +-------------------------------+----------------+ | CentOS Stream 9 | PASS | +-------------------------------+----------------+ | Debian GNU/Linux 12 | PASS | +-------------------------------+----------------+ | Fedora Linux 40 | PASS | +-------------------------------+----------------+ | Fedora Linux 41 | PASS | +-------------------------------+----------------+ | Fedora Linux 42 | PASS | +-------------------------------+----------------+ | Red Hat Enterprise Linux 9.5 | PASS | +-------------------------------+----------------+ | Red Hat Enterprise Linux 8.10 | PASS | +-------------------------------+----------------+ | Ubuntu 22.04 | PASS | +-------------------------------+----------------+ | Ubuntu 20.04 | PASS | +-------------------------------+----------------+ | Ubuntu 24.04 | PASS | +-------------------------------+----------------+ | Windows Server 2022 | PASS | +-------------------------------+----------------+ CentOS Stream 10 Kernel: 5.15 Compiler: gcc gcc (GCC) 14.2.1 20250110 (Red Hat 14.2.1-8) CentOS Stream 9 Kernel: 5.15 Compiler: gcc gcc (GCC) 11.5.0 20240719 (Red Hat 11.5.0-11) Debian GNU/Linux 12 Kernel: 5.15 Compiler: gcc gcc (Debian 12.2.0-14+deb12u1) 12.2.0 Fedora Linux 40 Kernel: 5.15 Compiler: gcc gcc (GCC) 14.2.1 20240912 (Red Hat 14.2.1-3) Fedora Linux 41 Kernel: 5.15 Compiler: gcc gcc (GCC) 14.3.1 20250523 (Red Hat 14.3.1-1) Fedora Linux 42 Kernel: 5.15 Compiler: gcc gcc (GCC) 15.2.1 20250808 (Red Hat 15.2.1-1) Red Hat Enterprise Linux 9.5 Kernel: 5.15 Compiler: gcc gcc (GCC) 11.5.0 20240719 (Red Hat 11.5.0-2) Red Hat Enterprise Linux 8.10 Kernel: 5.15 Compiler: gcc gcc (GCC) 8.5.0 20210514 (Red Hat 8.5.0-22) Ubuntu 22.04 Kernel: 5.15 Compiler: gcc gcc (Ubuntu 11.4.0-1ubuntu1~22.04) 11.4.0 Ubuntu 20.04 Kernel: 5.15 Compiler: gcc gcc (Ubuntu 9.4.0-1ubuntu1~20.04.2) 9.4.0 Ubuntu 24.04 Kernel: 5.15 Compiler: gcc gcc (Ubuntu 13.3.0-6ubuntu2~24.04) 13.3.0 Windows Server 2022 Kernel: 10.0.20348.2031 Compiler: clang 15.0.7, gcc 14.1.0 (MinGW), and MSVC VS 19.39.33521 To view detailed results, visit: https://lab.dpdk.org/results/dashboard/patchsets/34297/ UNH-IOL DPDK Community Lab To manage your email subscriptions, visit: https://lab.dpdk.org/results/dashboard/preferences/subscriptions/