From mboxrd@z Thu Jan 1 00:00:00 1970 Return-Path: Received: from mails.dpdk.org (mails.dpdk.org [217.70.189.124]) by inbox.dpdk.org (Postfix) with ESMTP id 4779348953 for ; Thu, 16 Oct 2025 14:34:40 +0200 (CEST) Received: from mails.dpdk.org (localhost [127.0.0.1]) by mails.dpdk.org (Postfix) with ESMTP id 4292540269; Thu, 16 Oct 2025 14:34:40 +0200 (CEST) Received: from mail-pg1-f226.google.com (mail-pg1-f226.google.com [209.85.215.226]) by mails.dpdk.org (Postfix) with ESMTP id CC1A040269 for ; Thu, 16 Oct 2025 14:34:38 +0200 (CEST) Received: by mail-pg1-f226.google.com with SMTP id 41be03b00d2f7-b62fcddfa21so420146a12.1 for ; Thu, 16 Oct 2025 05:34:38 -0700 (PDT) DKIM-Signature: v=1; a=rsa-sha256; c=relaxed/relaxed; d=iol.unh.edu; s=unh-iol; t=1760618078; x=1761222878; darn=dpdk.org; h=references:in-reply-to:cc:to:from:subject:message-id:date:from:to :cc:subject:date:message-id:reply-to; bh=WRX+JK+0laowQMUnPgRO4QKCoalf8h5R3DW7wN9u7AU=; b=guEm1wyfobpv5OW+nJS8U/dbdadhfV0toRHcKUAXWAquX3S/lYf8co36tW9TCJjYRG xn3VvWRik8Y2wA+OKE0htbJRGyKjJTywOc5mEgzRO6UFretgBsUnobuHuQ/ZtnLuUT7W WCDRiG+C8Vr8nEecEp5r5SbCri3jl8V0PapxM= X-Google-DKIM-Signature: v=1; a=rsa-sha256; c=relaxed/relaxed; d=1e100.net; s=20230601; t=1760618078; x=1761222878; h=references:in-reply-to:cc:to:from:subject:message-id:date :x-gm-message-state:from:to:cc:subject:date:message-id:reply-to; bh=WRX+JK+0laowQMUnPgRO4QKCoalf8h5R3DW7wN9u7AU=; b=IxhYW3vILig26ZXwZ+hdyQdsPyDIFRu+sgbjhiUmEtLbnjIlsxI3KHE1pvD/zY/j1o VaZ6juG5MxF2I01Zb5Ra3T9mXB3eFfbdRBezU89P13FVxe4zOtd29CS/dA9min3gS8ql 8gPKUACW7XfSe8M465wfxWGDTY6Noi75GdJbWyxGYH01WLmadDytKYf5yIhUbAt36ZPc 2W0DSOufBPQviLxZ9SRX82hCReaaAd4pYlZOtRCxc6xnLFQ40w0W+K7jW+ujxR+jveNY nfbOpjevj/0RBLtb3zlJ7dfGkXSoawuGhxM6MnAd/9HwlaLkw+MAkfBy63G5Zm7BeJb5 +yIw== X-Gm-Message-State: AOJu0Yy+/m1WI4ogOltpoEoBnrS4cx82LJREQZ5vsZU+i7aHvUYGHrmY kaFpq6Ox+CL/uA6WiwYXEr51b8TmwHj8e0CQFK5ZPZuuRGw/tafjZDTPdSGXqbh4jtYEud8K1Dx qJyZInD2I1cHJpMuCNHnunbCzcG24fC6H3nMFiMiqdrM7nfy+cTxcf2XnfXBI X-Gm-Gg: ASbGncsYrN5xCm2hNPRx+p7FkyN3gt+Jtjmkl8GG7h0jWn3+z5RoBO47f9NC+iDUHfU w44pAczPdP1ZfIMGc/88JhYaGqAqusSQzaiG1gavndu3ZmsEPd0UvgXd3cf+GmKBPakRlyrZ46w 9FOzlKTR90Ib11HoVGwSscUALBx0JxS4Rl3XTOJl3gOdG0dWm1iKsV3Qj4w6944VNm8qwY9ioEs 2bh6DQockxluD39DjR1Jg6d4K/tm/Pzm/yLirzOaSRM0Tw76RM6Qanx/H7MVfxOAStcIJyQwIpg KU3+9CKh2U4OXrlcOIZrwoTI1a2m7VUzj+GxQ+OMIqHuQSFoyZrB6Sb85YQ2jrcUt4Zkom5Xo91 TClzNPDVC X-Google-Smtp-Source: AGHT+IGTnOP2almnf7f9M65RCbjK+AIe8PCBBkGSlXiZUryk0kGE+BusMtVtNZVKlkyhCiG+gTU5UXNFzLQc X-Received: by 2002:a17:903:1b2e:b0:249:3efa:3c99 with SMTP id d9443c01a7336-29027305700mr390275715ad.61.1760618077760; Thu, 16 Oct 2025 05:34:37 -0700 (PDT) Received: from postal.iol.unh.edu (postal.iol.unh.edu. [2606:4100:3880:1234::84]) by smtp-relay.gmail.com with ESMTPS id d9443c01a7336-290992dc867sm3026195ad.26.2025.10.16.05.34.37 (version=TLS1_2 cipher=ECDHE-ECDSA-AES128-GCM-SHA256 bits=128/128); Thu, 16 Oct 2025 05:34:37 -0700 (PDT) X-Relaying-Domain: iol.unh.edu Date: Thu, 16 Oct 2025 05:34:37 -0700 (PDT) Message-ID: <68f0e65d.170a0220.30f455.3e82SMTPIN_ADDED_MISSING@mx.google.com> Received: from [172.21.0.2] (unknown [172.18.0.240]) by postal.iol.unh.edu (Postfix) with ESMTP id 0D9A76051830; Thu, 16 Oct 2025 08:34:37 -0400 (EDT) Subject: |SUCCESS| pw157735-157754 [PATCH] [v5,21/21] doc: update release not From: dpdklab@iol.unh.edu To: Test Report Cc: dpdk-test-reports@iol.unh.edu, Stephen Hemminger In-Reply-To: <20251016111736.25372-22-zaiyuwang@trustnetic.com> References: <20251016111736.25372-22-zaiyuwang@trustnetic.com> Content-Type: text/plain X-BeenThere: test-report@dpdk.org X-Mailman-Version: 2.1.29 Precedence: list List-Id: automatic DPDK test reports List-Unsubscribe: , List-Archive: List-Post: List-Help: List-Subscribe: , Errors-To: test-report-bounces@dpdk.org Test-Label: iol-unit-amd64-testing Test-Status: SUCCESS http://dpdk.org/patch/157754 _Testing PASS_ Submitter: Zaiyu Wang Date: Thursday, October 16 2025 11:17:35 DPDK git baseline: Repo:dpdk-next-net Branch: master CommitID:791cea04798a8e2de014b99c009cd25b5929000a 157735-157754 --> testing pass Upstream job id: Generic-Unit-Test-DPDK#382236 Test environment and result as below: +-------------------------------+----------------+ | Environment | dpdk_unit_test | +===============================+================+ | Fedora Linux 41 | PASS | +-------------------------------+----------------+ | Red Hat Enterprise Linux 8.10 | PASS | +-------------------------------+----------------+ | CentOS Stream 9 | PASS | +-------------------------------+----------------+ | Fedora Linux 40 | PASS | +-------------------------------+----------------+ | CentOS Stream 10 | PASS | +-------------------------------+----------------+ | Fedora Linux 42 | PASS | +-------------------------------+----------------+ | Debian GNU/Linux 12 | PASS | +-------------------------------+----------------+ | Red Hat Enterprise Linux 9.5 | PASS | +-------------------------------+----------------+ | Ubuntu 20.04 | PASS | +-------------------------------+----------------+ | Ubuntu 22.04 | PASS | +-------------------------------+----------------+ | Ubuntu 24.04 | PASS | +-------------------------------+----------------+ Fedora Linux 41 Kernel: 5.15 Compiler: clang gcc (GCC) 14.3.1 20250523 (Red Hat 14.3.1-1) Red Hat Enterprise Linux 8.10 Kernel: 5.15 Compiler: gcc gcc (GCC) 8.5.0 20210514 (Red Hat 8.5.0-22) CentOS Stream 9 Kernel: 5.15 Compiler: gcc gcc (GCC) 11.5.0 20240719 (Red Hat 11.5.0-11) Fedora Linux 40 Kernel: 5.15 Compiler: clang gcc (GCC) 14.2.1 20240912 (Red Hat 14.2.1-3) CentOS Stream 10 Kernel: 5.15 Compiler: gcc gcc (GCC) 14.2.1 20250110 (Red Hat 14.2.1-8) Fedora Linux 42 Kernel: 5.15 Compiler: clang gcc (GCC) 15.2.1 20250808 (Red Hat 15.2.1-1) Debian GNU/Linux 12 Kernel: 5.15 Compiler: gcc gcc (Debian 12.2.0-14+deb12u1) 12.2.0 Red Hat Enterprise Linux 9.5 Kernel: 5.15 Compiler: gcc gcc (GCC) 11.5.0 20240719 (Red Hat 11.5.0-2) Ubuntu 20.04 Kernel: 5.15 Compiler: gcc gcc (Ubuntu 9.4.0-1ubuntu1~20.04.2) 9.4.0 Ubuntu 22.04 Kernel: 5.15 Compiler: gcc gcc (Ubuntu 11.4.0-1ubuntu1~22.04) 11.4.0 Ubuntu 24.04 Kernel: 5.15 Compiler: gcc gcc (Ubuntu 13.3.0-6ubuntu2~24.04) 13.3.0 To view detailed results, visit: https://lab.dpdk.org/results/dashboard/patchsets/34299/ UNH-IOL DPDK Community Lab To manage your email subscriptions, visit: https://lab.dpdk.org/results/dashboard/preferences/subscriptions/