From mboxrd@z Thu Jan 1 00:00:00 1970 Return-Path: Received: from mails.dpdk.org (mails.dpdk.org [217.70.189.124]) by inbox.dpdk.org (Postfix) with ESMTP id 612F748953 for ; Thu, 16 Oct 2025 14:35:16 +0200 (CEST) Received: from mails.dpdk.org (localhost [127.0.0.1]) by mails.dpdk.org (Postfix) with ESMTP id 5C57E40269; Thu, 16 Oct 2025 14:35:16 +0200 (CEST) Received: from mail-yx1-f100.google.com (mail-yx1-f100.google.com [74.125.224.100]) by mails.dpdk.org (Postfix) with ESMTP id 6AF4C40269 for ; Thu, 16 Oct 2025 14:35:14 +0200 (CEST) Received: by mail-yx1-f100.google.com with SMTP id 956f58d0204a3-635c9db8a16so491415d50.0 for ; Thu, 16 Oct 2025 05:35:14 -0700 (PDT) DKIM-Signature: v=1; a=rsa-sha256; c=relaxed/relaxed; d=iol.unh.edu; s=unh-iol; t=1760618114; x=1761222914; darn=dpdk.org; h=references:in-reply-to:cc:to:from:subject:message-id:date:from:to :cc:subject:date:message-id:reply-to; bh=cPU/xt7XwLK+4x/FZ7ngXXfF5xG7HHNk222D1RuUBiU=; b=GiH2La/rWWX8QEjwxvuE0kYKOuCAqjCEPx9NdgYcbSVvR+ITDIzGC/H+tRXLSDJ9ir JL7ZXYtgCWHdId9sqLFnUAl5S3EkErv8i+5A8sfWNJB8ZMPMzGlpfeSJ5sTzI60iaDH3 o5XN5TDlGUOS0mgYi6yYcxYnWaDhiLuWO1he4= X-Google-DKIM-Signature: v=1; a=rsa-sha256; c=relaxed/relaxed; d=1e100.net; s=20230601; t=1760618114; x=1761222914; h=references:in-reply-to:cc:to:from:subject:message-id:date :x-gm-message-state:from:to:cc:subject:date:message-id:reply-to; bh=cPU/xt7XwLK+4x/FZ7ngXXfF5xG7HHNk222D1RuUBiU=; b=tKJr5Yws+/2XSXRv/FoO58XKxm3x2OX96otmb/RrJQodD+TfIKfkK4YuuSIaDPc+tj lMl+x++cGtmN5Jp4s/sVaXR6Hpk1n6zlKFPPOSZgr4Arj/yRajQMrQU4G/4ualNXneNl AXrf1ivgQj926V9YqrwObfLdpaNDfWAs5Z8tSiGkkFo/a2wbs0JAI0AHrUw/nokmqcSe mwRSFUkIjbSB+xR2hpbM1tSC3vFio3ysf0fNftwFRUUFDYlQ2Ba2+AL3UD301dzDDIav 14AcxtvznLbUwrbiaoMsB1vgpW1Emu04IH4un6Jqlfkk4qAmT0hRVRb3XaUiu/SNz+dM HxwQ== X-Gm-Message-State: AOJu0YxOkJB5L9NiyRhlxt+cSqvt7GLFPNFf3iHCxuyolq70WRSkprxM SSyR1DbiKJRuGIP8B9xg20pCrkLdm1zRqvY8gSji3r5/owewtlBltYUL6qnrNFuXaagV4vv8sOE Hr4qpO8qfkUWyqNyE3SCGbePf0hmFc4VVMy04Ma5q1+eu X-Gm-Gg: ASbGncteEyUV26fFoeZ2ggoi34NP5J31ltLLRlpLrCUMZKCTN1fXrcD9zB+OH5yOo6P ucAq4FNMaRVCQ4aNWywTi3O1xWl1JIGtjF/vs1Fy6jxvbmNubFhDJG0pRpnI2QJYUdB2XX6174I /AKqWNIY6f0i8yvVLrNBsd7HZk0/1UZxKbUWZIVAE3w2UH82cDqq+lFjVGGMoGuS87/Ug3KtA3Q BGzUB9DLPeGJrkaEO/BKSXsR6kv1bO6hzufDZ82suJq519PpAFM10MxAhh8UPpFt6GlcZUEfXmn hnl+CsV9R81ZkNydHwhbDXNXwPq0xARCuEvkEtRUpCYRCgyhv8X75JWSd0koGHaS6/ljpatYUKa ASD/mImILtKijHBN0i0WQB5gvruGnF0A= X-Google-Smtp-Source: AGHT+IGrVB7g7ZUmg/11tINjqQVzW1m3u5B7UIX4VFqnELZlP90z/x0ptUB2LzSVUtt1QCfzoS6WkXR2F90Q X-Received: by 2002:a53:d058:0:20b0:63d:ec5d:72c5 with SMTP id 956f58d0204a3-63e161114c2mr56806d50.23.1760618113664; Thu, 16 Oct 2025 05:35:13 -0700 (PDT) Received: from postal.iol.unh.edu (postal.iol.unh.edu. [132.177.123.84]) by smtp-relay.gmail.com with ESMTPS id 00721157ae682-7828c8ea812sm1598377b3.2.2025.10.16.05.35.13 (version=TLS1_2 cipher=ECDHE-ECDSA-AES128-GCM-SHA256 bits=128/128); Thu, 16 Oct 2025 05:35:13 -0700 (PDT) X-Relaying-Domain: iol.unh.edu Date: Thu, 16 Oct 2025 05:35:13 -0700 (PDT) Message-ID: <68f0e681.050a0220.f90db.8c87SMTPIN_ADDED_MISSING@mx.google.com> Received: from [172.21.0.2] (unknown [172.18.0.240]) by postal.iol.unh.edu (Postfix) with ESMTP id 4D22D6051830; Thu, 16 Oct 2025 08:35:13 -0400 (EDT) Subject: |SUCCESS| pw157718 [PATCH] [v1] maintainers: update for LoongArch From: dpdklab@iol.unh.edu To: Test Report Cc: dpdk-test-reports@iol.unh.edu In-Reply-To: <20251016090948.836029-1-zhoumin@loongson.cn> References: <20251016090948.836029-1-zhoumin@loongson.cn> Content-Type: text/plain X-BeenThere: test-report@dpdk.org X-Mailman-Version: 2.1.29 Precedence: list List-Id: automatic DPDK test reports List-Unsubscribe: , List-Archive: List-Post: List-Help: List-Subscribe: , Errors-To: test-report-bounces@dpdk.org Test-Label: iol-unit-amd64-testing Test-Status: SUCCESS http://dpdk.org/patch/157718 _Testing PASS_ Submitter: zhoumin Date: Thursday, October 16 2025 09:09:48 DPDK git baseline: Repo:dpdk Branch: master CommitID:16f4c522003dcfecf23c8d38e009b95a3bbefd03 157718 --> testing pass Upstream job id: Generic-VM-Unit-Test-DPDK#31847 Test environment and result as below: +-------------------------------+----------------+ | Environment | dpdk_unit_test | +===============================+================+ | CentOS Stream 10 | PASS | +-------------------------------+----------------+ | CentOS Stream 9 | PASS | +-------------------------------+----------------+ | Debian GNU/Linux 12 | PASS | +-------------------------------+----------------+ | Fedora Linux 40 | PASS | +-------------------------------+----------------+ | Fedora Linux 41 | PASS | +-------------------------------+----------------+ | Fedora Linux 42 | PASS | +-------------------------------+----------------+ | Red Hat Enterprise Linux 9.5 | PASS | +-------------------------------+----------------+ | Red Hat Enterprise Linux 8.10 | PASS | +-------------------------------+----------------+ | Ubuntu 22.04 | PASS | +-------------------------------+----------------+ | Ubuntu 20.04 | PASS | +-------------------------------+----------------+ | Ubuntu 24.04 | PASS | +-------------------------------+----------------+ | Windows Server 2022 | PASS | +-------------------------------+----------------+ CentOS Stream 10 Kernel: 5.15 Compiler: gcc gcc (GCC) 14.2.1 20250110 (Red Hat 14.2.1-8) CentOS Stream 9 Kernel: 5.15 Compiler: gcc gcc (GCC) 11.5.0 20240719 (Red Hat 11.5.0-11) Debian GNU/Linux 12 Kernel: 5.15 Compiler: gcc gcc (Debian 12.2.0-14+deb12u1) 12.2.0 Fedora Linux 40 Kernel: 5.15 Compiler: gcc gcc (GCC) 14.2.1 20240912 (Red Hat 14.2.1-3) Fedora Linux 41 Kernel: 5.15 Compiler: gcc gcc (GCC) 14.3.1 20250523 (Red Hat 14.3.1-1) Fedora Linux 42 Kernel: 5.15 Compiler: gcc gcc (GCC) 15.2.1 20250808 (Red Hat 15.2.1-1) Red Hat Enterprise Linux 9.5 Kernel: 5.15 Compiler: gcc gcc (GCC) 11.5.0 20240719 (Red Hat 11.5.0-2) Red Hat Enterprise Linux 8.10 Kernel: 5.15 Compiler: gcc gcc (GCC) 8.5.0 20210514 (Red Hat 8.5.0-22) Ubuntu 22.04 Kernel: 5.15 Compiler: gcc gcc (Ubuntu 11.4.0-1ubuntu1~22.04) 11.4.0 Ubuntu 20.04 Kernel: 5.15 Compiler: gcc gcc (Ubuntu 9.4.0-1ubuntu1~20.04.2) 9.4.0 Ubuntu 24.04 Kernel: 5.15 Compiler: gcc gcc (Ubuntu 13.3.0-6ubuntu2~24.04) 13.3.0 Windows Server 2022 Kernel: 10.0.20348.2031 Compiler: clang 15.0.7, gcc 14.1.0 (MinGW), and MSVC VS 19.39.33521 To view detailed results, visit: https://lab.dpdk.org/results/dashboard/patchsets/34297/ UNH-IOL DPDK Community Lab To manage your email subscriptions, visit: https://lab.dpdk.org/results/dashboard/preferences/subscriptions/