From mboxrd@z Thu Jan 1 00:00:00 1970 Return-Path: Received: from mails.dpdk.org (mails.dpdk.org [217.70.189.124]) by inbox.dpdk.org (Postfix) with ESMTP id 5BF2B48953 for ; Thu, 16 Oct 2025 14:59:45 +0200 (CEST) Received: from mails.dpdk.org (localhost [127.0.0.1]) by mails.dpdk.org (Postfix) with ESMTP id 43D6E40269; Thu, 16 Oct 2025 14:59:45 +0200 (CEST) Received: from mail-io1-f97.google.com (mail-io1-f97.google.com [209.85.166.97]) by mails.dpdk.org (Postfix) with ESMTP id 4795240269 for ; Thu, 16 Oct 2025 14:59:44 +0200 (CEST) Received: by mail-io1-f97.google.com with SMTP id ca18e2360f4ac-92aee734585so27570039f.3 for ; Thu, 16 Oct 2025 05:59:44 -0700 (PDT) DKIM-Signature: v=1; a=rsa-sha256; c=relaxed/relaxed; d=iol.unh.edu; s=unh-iol; t=1760619583; x=1761224383; darn=dpdk.org; h=references:in-reply-to:cc:to:from:subject:message-id:date:from:to :cc:subject:date:message-id:reply-to; bh=dmC5J1rNmKIz1pzaf85Z1xhKp792EL4p+TZlE9sa6is=; b=a5zPkT36pEdX/MI/TCuxkR+i6YhYc1QAXfzJ+66ajT3AiIYWKFARucLPSnFw04FbZC ouQuiQ1BrubjlOvvsPYt54/oawJKsaK/pVIVUhQ0HfCC4UtEduC3liGFucGULDWJOoIr 1ZvlEj3RLWpGLTDBRTb4I+KeJTZOrBZ+uXxcI= X-Google-DKIM-Signature: v=1; a=rsa-sha256; c=relaxed/relaxed; d=1e100.net; s=20230601; t=1760619583; x=1761224383; h=references:in-reply-to:cc:to:from:subject:message-id:date :x-gm-message-state:from:to:cc:subject:date:message-id:reply-to; bh=dmC5J1rNmKIz1pzaf85Z1xhKp792EL4p+TZlE9sa6is=; b=LiKbSB0wXABSRNjfQDwYQVRNGG75qsNXWnnU8Sq4zrEVkWwLJhVxUpuGWMfzN/vShH yF7KROQ0GMxasL6/yLtokO+j6gz+vobDgpGotFBtb/VodL29iKSCt5iH6qafaCmZ88sf 3gAO9XBT1a9elam0eLyj42mfPW6rS/fOrH/JkTtm6YLD77PyIhe4EvkrXZy5JW5DR8jS 3oeKGcM3cKOCNSnEp9oGCP/WwapceCFgolERtuQsJLFny6naT7ZVMjeIs+d38ic3rFX/ 0kNWLJCKucTRFZMyhRRUW8BowM40+H0C/tB0oN6JwXt3Eg21hC2XKDNrtv0u4yzh03Y4 meyQ== X-Gm-Message-State: AOJu0YzHBjfinRJQrUupX99mtRV9X0eBfYlPFj55Z0GqxwSkavlHMXaS o/s/JiES2WLPLPyxyQlwNGhyC3biPC2u+HZN7Cp064gcJ60zLYEZlxNo26kEdTSNu1wOW5RMoQT GVB+iHv2kt+Lh3tv8J05Ai44OwSHX6+gS/XuwAzTE4vRm X-Gm-Gg: ASbGncu5cpNLWskbRwZgxtEkYpLSpXHEvEp+z10Fzcnfy1uaOIwVvGPtPEUxgeInrgj UAdxls+V5VjruPVytFvYsKXU+y99xe9HA5ngd/tV5rhx+sUUzWaFDire08tppB5mYCALsc7xvxx AhCxYz2yhhSv+m6aeyZ3IH0WvbnDD1PjdH7lGOhlf0E1IPWLhMqBtkQ2nDVn6jg2cpryufj06sd BFh3AQox5378loMqytdcdkRoQ5bVJ5R+llHJ3ehqLyZdt7F/FUUR2Cf1dVw13GskijPFVYC9tEN 1/fpYRjgNqMtqY2ZzXA8AjJn8ZERYbZ3Xyf70DDGdaWvTGg92cYt1QEsi00RTqSBXI38lFSBtJH 75ZbPxxe58JA9zsoA5s9BA4Cgcjto71A= X-Google-Smtp-Source: AGHT+IGYkto0RuEVMAB7LMH+55+2bMKUSgR97W6E0lFOlW6gYUxwUfHkM0VuWtuiwwpeSe8cJQyhnIW2wRjo X-Received: by 2002:a05:6e02:2306:b0:430:a110:a8b with SMTP id e9e14a558f8ab-430c5266082mr2228305ab.13.1760619583421; Thu, 16 Oct 2025 05:59:43 -0700 (PDT) Received: from postal.iol.unh.edu (postal.iol.unh.edu. [132.177.123.84]) by smtp-relay.gmail.com with ESMTPS id 8926c6da1cb9f-58f726e3a8dsm1585857173.45.2025.10.16.05.59.43 (version=TLS1_2 cipher=ECDHE-ECDSA-AES128-GCM-SHA256 bits=128/128); Thu, 16 Oct 2025 05:59:43 -0700 (PDT) X-Relaying-Domain: iol.unh.edu Date: Thu, 16 Oct 2025 05:59:43 -0700 (PDT) Message-ID: <68f0ec3f.050a0220.53453.eb20SMTPIN_ADDED_MISSING@mx.google.com> Received: from [172.21.0.4] (unknown [172.18.0.240]) by postal.iol.unh.edu (Postfix) with ESMTP id 0DDE56051830; Thu, 16 Oct 2025 08:59:43 -0400 (EDT) Subject: |SUCCESS| pw157735-157754 [PATCH] [v5,21/21] doc: update release not From: dpdklab@iol.unh.edu To: Test Report Cc: dpdk-test-reports@iol.unh.edu, Stephen Hemminger In-Reply-To: <20251016111736.25372-22-zaiyuwang@trustnetic.com> References: <20251016111736.25372-22-zaiyuwang@trustnetic.com> Content-Type: text/plain X-BeenThere: test-report@dpdk.org X-Mailman-Version: 2.1.29 Precedence: list List-Id: automatic DPDK test reports List-Unsubscribe: , List-Archive: List-Post: List-Help: List-Subscribe: , Errors-To: test-report-bounces@dpdk.org Test-Label: iol-compile-amd64-testing Test-Status: SUCCESS http://dpdk.org/patch/157754 _Testing PASS_ Submitter: Zaiyu Wang Date: Thursday, October 16 2025 11:17:35 DPDK git baseline: Repo:dpdk-next-net Branch: master CommitID:791cea04798a8e2de014b99c009cd25b5929000a 157735-157754 --> testing pass Upstream job id: Windows-Compile-DPDK-VS#7221 Test environment and result as below: +---------------------+--------------------+-------------------+ | Environment | dpdk_meson_compile | dpdk_msvc_compile | +=====================+====================+===================+ | Ubuntu 20.04 | PASS | SKIPPED | +---------------------+--------------------+-------------------+ | FreeBSD 14.2 | PASS | SKIPPED | +---------------------+--------------------+-------------------+ | Windows Server 2022 | SKIPPED | PASS | +---------------------+--------------------+-------------------+ Ubuntu 20.04 Kernel: 4.19 Compiler: gcc gcc (Ubuntu 9.4.0-1ubuntu1~20.04.2) 9.4.0 FreeBSD 14.2 Kernel: 14.2-RELEASE Compiler: clang 18.1.6 Windows Server 2022 Kernel: 10.0.20348.2031 Compiler: clang 15.0.7, gcc 14.1.0 (MinGW), and MSVC VS 19.39.33521 To view detailed results, visit: https://lab.dpdk.org/results/dashboard/patchsets/34299/ UNH-IOL DPDK Community Lab To manage your email subscriptions, visit: https://lab.dpdk.org/results/dashboard/preferences/subscriptions/