From mboxrd@z Thu Jan 1 00:00:00 1970 Return-Path: Received: from mails.dpdk.org (mails.dpdk.org [217.70.189.124]) by inbox.dpdk.org (Postfix) with ESMTP id B69A348953 for ; Thu, 16 Oct 2025 15:02:29 +0200 (CEST) Received: from mails.dpdk.org (localhost [127.0.0.1]) by mails.dpdk.org (Postfix) with ESMTP id B0CF940269; Thu, 16 Oct 2025 15:02:29 +0200 (CEST) Received: from mail-oa1-f97.google.com (mail-oa1-f97.google.com [209.85.160.97]) by mails.dpdk.org (Postfix) with ESMTP id 0B1AB40269 for ; Thu, 16 Oct 2025 15:02:28 +0200 (CEST) Received: by mail-oa1-f97.google.com with SMTP id 586e51a60fabf-3c9662c5fb1so251891fac.0 for ; Thu, 16 Oct 2025 06:02:27 -0700 (PDT) DKIM-Signature: v=1; a=rsa-sha256; c=relaxed/relaxed; d=iol.unh.edu; s=unh-iol; t=1760619747; x=1761224547; darn=dpdk.org; h=cc:to:from:subject:message-id:date:from:to:cc:subject:date :message-id:reply-to; bh=Ddlkvh/F3xzU4DghrKUThOI/OEWIgo6S9NDF+jja180=; b=Hc0+EEPHZ3EJlraAAE0Y8GdN94HWUl9mUcOgpm3QqORipRZ/88iOw13UYotdIjxMRC 2ZgHYd5WA/O2HyXAr6lypeBf2KWRzjUU5POpsFOnj0HwGg1jBNGg/LpgTXRbr9akctJE cwoSbfRxPUd0ZAX5AEShNoTWVswnOoiH/Oihg= X-Google-DKIM-Signature: v=1; a=rsa-sha256; c=relaxed/relaxed; d=1e100.net; s=20230601; t=1760619747; x=1761224547; h=cc:to:from:subject:message-id:date:x-gm-message-state:from:to:cc :subject:date:message-id:reply-to; bh=Ddlkvh/F3xzU4DghrKUThOI/OEWIgo6S9NDF+jja180=; b=Q84eMREf5UvLqpJe4P4s9gFdm9Mbnybif8XKVgBIcZZlxwVD8H5DE2GiWhJXhqAFki kUeTncBuSAmfUmJDRl/dzwmAOCeZicvLIW2skRUAWBS4KAAM8adHi8jRP42mCoS9T4P7 v1eNzhSedP/wHPASKU+cG5EW9yXK4qzW7FI/j9CB98RWsXx4Q6DS7Q2lj6RaP9sLS9L5 osiHf8VUHkJ14YkT5ClepDIKvD1NQrgMXkR7xSyztcNLKa6PXtizfYL4XIXfjRCSMIif iWPyqgOYBmqVx25RfNYBe60SY2gH1TkwkIsCoXi9bZPeLRWIrb7BJpq5uXlcOpVtmURD gyNA== X-Gm-Message-State: AOJu0YxXeMM8k2R5+949pOUeKPmkLFPKrNK+JG++FFaLkUC0+ZoMLDKr ELYZ3e5BSi9dSAdvbh8h3BSgMblz9Kqid5Psr9mICd4kW1MnSU3hPKltyX6DVHA98Fn0420oJT/ YhcTvcfLCfDkwyfsKNn9OULHJJVpODXPI4Xlh X-Gm-Gg: ASbGncsrmJcxkPghkYgc8LOBNecz+5hnhRv3cDQ3wyZKkVmuu5ZMRlDAyOLvUhJqbzH tMrnSxgyhGhX1ED0PrjHzVQGGItDACi/y+jUqIVVXuFvOrwutoAZ4ud3PXsFic+iZtEXXVMyyVo xx4URtKbYeB2GkxUNVsE9BlKHRXncyZtDM/ZnbSuaArbWndztIa1fKSWjjiyMrZurws/t8TicaP wfQF76SZJX7k80x8SEvk6rz/Bbh/C7exUYCDL7BSsdUvv6pgkprO4R7LC3CriYMv+LlZRpNRsBE eSUpG4MHX18MvUje9zMrXtqKACCxuyGjzURrsptIR2gn3il8JmJo708G5/jH+Xgaj3OFhg+8UuM 5aTnQU3JdsZZdVvB2Xat25PJNug+qL8Y= X-Google-Smtp-Source: AGHT+IF1Xyn7oztkU1JOf2HOxjnmZlEuItilgdQyIFzpOU/9b+7bR/zzc9Sptpoi7sKroZKhjfinI5kiEKRL X-Received: by 2002:a05:6870:31b5:b0:332:bb5f:cf28 with SMTP id 586e51a60fabf-3c0f81ff775mr16278296fac.47.1760619747283; Thu, 16 Oct 2025 06:02:27 -0700 (PDT) Received: from postal.iol.unh.edu (postal.iol.unh.edu. [132.177.123.84]) by smtp-relay.gmail.com with ESMTPS id 8926c6da1cb9f-58f6d040ea7sm1455612173.2.2025.10.16.06.02.27 (version=TLS1_2 cipher=ECDHE-ECDSA-AES128-GCM-SHA256 bits=128/128); Thu, 16 Oct 2025 06:02:27 -0700 (PDT) X-Relaying-Domain: iol.unh.edu Date: Thu, 16 Oct 2025 06:02:27 -0700 (PDT) Message-ID: <68f0ece3.050a0220.373c61.8cc4SMTPIN_ADDED_MISSING@mx.google.com> Received: from [172.21.0.3] (unknown [172.18.0.240]) by postal.iol.unh.edu (Postfix) with ESMTP id A589C6051830; Thu, 16 Oct 2025 09:02:26 -0400 (EDT) Subject: |SUCCESS| [GIT MASTER] b287e404643aeab5bb5db084c142789df187844e From: dpdklab@iol.unh.edu To: Test Report Cc: dpdk-test-reports@iol.unh.edu, Xueming Li , Christian Ehrhardt , Kevin Traynor , Luca Boccassi Content-Type: text/plain X-BeenThere: test-report@dpdk.org X-Mailman-Version: 2.1.29 Precedence: list List-Id: automatic DPDK test reports List-Unsubscribe: , List-Archive: List-Post: List-Help: List-Subscribe: , Errors-To: test-report-bounces@dpdk.org _Testing PASS_ Branch: tags/v24.11 b287e404643aeab5bb5db084c142789df187844e --> testing pass Upstream job id: Generic-DPDK-Compile-Meson#434771 Test environment and result as below: +-------------------------------+--------------------+-------------------+-------------------------+----------------------+-------------------+------------------+ | Environment | dpdk_meson_compile | dpdk_msvc_compile | dpdk_llvm_clang_compile | dpdk_mingw64_compile | dpdk_compile_spdk | dpdk_compile_ovs | +===============================+====================+===================+=========================+======================+===================+==================+ | Ubuntu 20.04 | PASS | SKIPPED | SKIPPED | SKIPPED | SKIPPED | SKIPPED | +-------------------------------+--------------------+-------------------+-------------------------+----------------------+-------------------+------------------+ | FreeBSD 14.2 | PASS | SKIPPED | SKIPPED | SKIPPED | SKIPPED | SKIPPED | +-------------------------------+--------------------+-------------------+-------------------------+----------------------+-------------------+------------------+ | CentOS Stream 9 | PASS | SKIPPED | SKIPPED | SKIPPED | PASS | SKIPPED | +-------------------------------+--------------------+-------------------+-------------------------+----------------------+-------------------+------------------+ | CentOS Stream 10 | PASS | SKIPPED | SKIPPED | SKIPPED | SKIPPED | SKIPPED | +-------------------------------+--------------------+-------------------+-------------------------+----------------------+-------------------+------------------+ | Debian GNU/Linux 12 | PASS | SKIPPED | SKIPPED | SKIPPED | PASS | SKIPPED | +-------------------------------+--------------------+-------------------+-------------------------+----------------------+-------------------+------------------+ | Fedora Linux 42 | PASS | SKIPPED | SKIPPED | SKIPPED | PASS | PASS | +-------------------------------+--------------------+-------------------+-------------------------+----------------------+-------------------+------------------+ | openSUSE Leap 15.6 | PASS | SKIPPED | SKIPPED | SKIPPED | SKIPPED | SKIPPED | +-------------------------------+--------------------+-------------------+-------------------------+----------------------+-------------------+------------------+ | Red Hat Enterprise Linux 8.10 | PASS | SKIPPED | SKIPPED | SKIPPED | SKIPPED | SKIPPED | +-------------------------------+--------------------+-------------------+-------------------------+----------------------+-------------------+------------------+ | Red Hat Enterprise Linux 9.5 | PASS | SKIPPED | SKIPPED | SKIPPED | SKIPPED | SKIPPED | +-------------------------------+--------------------+-------------------+-------------------------+----------------------+-------------------+------------------+ | Ubuntu 22.04 | PASS | SKIPPED | SKIPPED | SKIPPED | PASS | SKIPPED | +-------------------------------+--------------------+-------------------+-------------------------+----------------------+-------------------+------------------+ | Ubuntu 24.04 | PASS | SKIPPED | SKIPPED | SKIPPED | PASS | PASS | +-------------------------------+--------------------+-------------------+-------------------------+----------------------+-------------------+------------------+ | Alpine Linux 3.22.0 | PASS | SKIPPED | SKIPPED | SKIPPED | SKIPPED | SKIPPED | +-------------------------------+--------------------+-------------------+-------------------------+----------------------+-------------------+------------------+ | Windows Server 2022 | SKIPPED | PASS | PASS | PASS | SKIPPED | SKIPPED | +-------------------------------+--------------------+-------------------+-------------------------+----------------------+-------------------+------------------+ Ubuntu 20.04 Kernel: 4.19 Compiler: gcc gcc (Ubuntu 9.4.0-1ubuntu1~20.04.2) 9.4.0 FreeBSD 14.2 Kernel: 14.2-RELEASE Compiler: clang 18.1.6 CentOS Stream 9 Kernel: 5.15 Compiler: gcc gcc (GCC) 11.5.0 20240719 (Red Hat 11.5.0-11) CentOS Stream 10 Kernel: 5.15 Compiler: gcc gcc (GCC) 14.2.1 20250110 (Red Hat 14.2.1-8) Debian GNU/Linux 12 Kernel: 5.15 Compiler: gcc gcc (Debian 12.2.0-14+deb12u1) 12.2.0 Fedora Linux 42 Kernel: 5.15 Compiler: clang gcc (GCC) 15.2.1 20250808 (Red Hat 15.2.1-1) openSUSE Leap 15.6 Kernel: 5.15 Compiler: gcc gcc (SUSE Linux) 7.5.0 Red Hat Enterprise Linux 8.10 Kernel: 5.15 Compiler: gcc gcc (GCC) 8.5.0 20210514 (Red Hat 8.5.0-22) Red Hat Enterprise Linux 9.5 Kernel: 5.15 Compiler: gcc gcc (GCC) 11.5.0 20240719 (Red Hat 11.5.0-2) Ubuntu 22.04 Kernel: 5.15 Compiler: gcc gcc (Ubuntu 11.4.0-1ubuntu1~22.04) 11.4.0 Ubuntu 24.04 Kernel: 5.15 Compiler: gcc gcc (Ubuntu 13.3.0-6ubuntu2~24.04) 13.3.0 Alpine Linux 3.22.0 Kernel: 5.15 Compiler: gcc gcc (Alpine 14.2.0) 14.2.0 Windows Server 2022 Kernel: 10.0.20348.2031 Compiler: clang 15.0.7, gcc 14.1.0 (MinGW), and MSVC VS 19.39.33521 To view detailed results, visit: https://lab.dpdk.org/results/dashboard/tarballs/35229/ UNH-IOL DPDK Community Lab To manage your email subscriptions, visit: https://lab.dpdk.org/results/dashboard/preferences/subscriptions/