From mboxrd@z Thu Jan 1 00:00:00 1970 Return-Path: Received: from mails.dpdk.org (mails.dpdk.org [217.70.189.124]) by inbox.dpdk.org (Postfix) with ESMTP id 197B848953 for ; Thu, 16 Oct 2025 15:04:55 +0200 (CEST) Received: from mails.dpdk.org (localhost [127.0.0.1]) by mails.dpdk.org (Postfix) with ESMTP id EA44F40269; Thu, 16 Oct 2025 15:04:54 +0200 (CEST) Received: from mail-oo1-f100.google.com (mail-oo1-f100.google.com [209.85.161.100]) by mails.dpdk.org (Postfix) with ESMTP id 4DDE640269 for ; Thu, 16 Oct 2025 15:04:53 +0200 (CEST) Received: by mail-oo1-f100.google.com with SMTP id 006d021491bc7-6505128db16so180879eaf.0 for ; Thu, 16 Oct 2025 06:04:53 -0700 (PDT) DKIM-Signature: v=1; a=rsa-sha256; c=relaxed/relaxed; d=iol.unh.edu; s=unh-iol; t=1760619892; x=1761224692; darn=dpdk.org; h=references:in-reply-to:cc:to:from:subject:message-id:date:from:to :cc:subject:date:message-id:reply-to; bh=FWGRt7/e4l0n2xA1YR28rBnxlPpIj4TKHrG2o5bbeBA=; b=DDdW1oKNJMHuTc48fRe4B65dYXtKahShGfkZ4h/1jXGNTiV240iaZQ8IPQlgxNwj0P lgpn9VNrbzZUTmD9bF2rL6Vwz86iCKhqH8RJDTAAeWZnqAPaaSrYYm7ITLThDREsJgK8 ta/5KVWB+yo9m48WN+9VTI1DEuznWbIj689S8= X-Google-DKIM-Signature: v=1; a=rsa-sha256; c=relaxed/relaxed; d=1e100.net; s=20230601; t=1760619892; x=1761224692; h=references:in-reply-to:cc:to:from:subject:message-id:date :x-gm-message-state:from:to:cc:subject:date:message-id:reply-to; bh=FWGRt7/e4l0n2xA1YR28rBnxlPpIj4TKHrG2o5bbeBA=; b=q/u1s5ikavSxXxC25D7WkB0p2C51uwCVPgZuGjuL645eSk94jlZFh0e57FoZ/u75Y/ ZVxDtaEMK9b7xGb46eW/ghVlZKpKRuUq/QILxpqXGDo6fSbfkAsxQpwUys1ldRjIMwv1 W5133wKsP+ALSJegK1OmlEuwpPrhTk6Zh2vF+Gaz07Slm3D8QRgT/m1PyEnYW+yieUlM LTZfacFdQ2Trdl8apnFN9vEEGpIytrU/7KFCjjdOqf3ztz2F3d4QDUtodoNOMIDGx++b qkGp58QoBt5tLcR5UfBthHAuuEMxVZsTaFtYtXREcVFyZg1rQya0Q6G+fvMGma7GzFuT Dihg== X-Gm-Message-State: AOJu0YzAzZWcon2n0h+oIcG1xtblnGWkrRCNWFoFA9KMHgmdOrbp7bV2 oVyMo7Z/jCA0U/ApfK6bcllRee9gt6N/3dVz7G3y2wJedKw1WTSH5qZVhTYUvSUvxT5RBv0e4Jv c8jI0YUBmebwi5TfN+X9YD9PVb/vdkmfgwuiO3FlTjh1L X-Gm-Gg: ASbGncv+C/NR7TBwnuoggrUivyjXAJDyO9tUe8b3xsUnefRFIt9hdW4MaK1IkcZjAOz Dq1LGiha8wRdaAwV2hrZA3aHVv4j2xiEd/cxyhayhxvWxMZkfdLxtu8Y/L+UmtUsdXMnLXYxxix 232oOCk+tdV+FutD2Hs/A4tupiwF9C0uwi1/cd8wlJT1kX1zXHhbaf4af9I10Jxi/otCj/c6Cdn CU884bqPRQnOvsGQi0FLqOQdy8gHq0E1S995mXJkkPxiF2ekemqDaK5D+76qaMo+OieFT+ajLiH ZyxCehClA5/LpFkgoRaproiBoJOPk4ArhcMnrKkOAbdi6lMK1eM4WAX6qmrLmZI6NzinSfAcRUi aZMOZ+hi/KFizCuvCsX4zK7buywpbf7s= X-Google-Smtp-Source: AGHT+IHv/mEut/W4CKJwegi2nE5x+ykVG4Cqs7msL8DYKlr76bcL0Lq50EY95YbrGMESTLGLEbvU0oahwpmy X-Received: by 2002:a05:6870:35d5:b0:333:7e0:dc27 with SMTP id 586e51a60fabf-3c0f62f5ef8mr15572955fac.14.1760619892195; Thu, 16 Oct 2025 06:04:52 -0700 (PDT) Received: from postal.iol.unh.edu (postal.iol.unh.edu. [132.177.123.84]) by smtp-relay.gmail.com with ESMTPS id 586e51a60fabf-3c8c8b11fa8sm1789022fac.1.2025.10.16.06.04.52 (version=TLS1_2 cipher=ECDHE-ECDSA-AES128-GCM-SHA256 bits=128/128); Thu, 16 Oct 2025 06:04:52 -0700 (PDT) X-Relaying-Domain: iol.unh.edu Date: Thu, 16 Oct 2025 06:04:52 -0700 (PDT) Message-ID: <68f0ed74.050a0220.251384.bc21SMTPIN_ADDED_MISSING@mx.google.com> Received: from [172.21.0.2] (unknown [172.18.0.240]) by postal.iol.unh.edu (Postfix) with ESMTP id A5E196051830; Thu, 16 Oct 2025 09:04:51 -0400 (EDT) Subject: |SUCCESS| pw157716-157715 [PATCH] [v1,2/2] benchmark report for rte_ From: dpdklab@iol.unh.edu To: Test Report Cc: dpdk-test-reports@iol.unh.edu In-Reply-To: <20251016090934.1166954-3-chen.qiguo@zte.com.cn> References: <20251016090934.1166954-3-chen.qiguo@zte.com.cn> Content-Type: text/plain X-BeenThere: test-report@dpdk.org X-Mailman-Version: 2.1.29 Precedence: list List-Id: automatic DPDK test reports List-Unsubscribe: , List-Archive: List-Post: List-Help: List-Subscribe: , Errors-To: test-report-bounces@dpdk.org Test-Label: iol-compile-amd64-testing Test-Status: SUCCESS http://dpdk.org/patch/157715 _Testing PASS_ Submitter: Qiguo Chen Date: Thursday, October 16 2025 09:09:34 DPDK git baseline: Repo:dpdk Branch: master CommitID:16f4c522003dcfecf23c8d38e009b95a3bbefd03 157716-157715 --> testing pass Upstream job id: Windows-Compile-DPDK-Native#31673 Test environment and result as below: +---------------------+--------------------+-------------------+-------------------------+ | Environment | dpdk_meson_compile | dpdk_msvc_compile | dpdk_llvm_clang_compile | +=====================+====================+===================+=========================+ | FreeBSD 14.2 | PASS | SKIPPED | SKIPPED | +---------------------+--------------------+-------------------+-------------------------+ | Ubuntu 20.04 | PASS | SKIPPED | SKIPPED | +---------------------+--------------------+-------------------+-------------------------+ | Windows Server 2022 | SKIPPED | PASS | PASS | +---------------------+--------------------+-------------------+-------------------------+ FreeBSD 14.2 Kernel: 14.2-RELEASE Compiler: clang 18.1.6 Ubuntu 20.04 Kernel: 4.19 Compiler: gcc gcc (Ubuntu 9.4.0-1ubuntu1~20.04.2) 9.4.0 Windows Server 2022 Kernel: 10.0.20348.2031 Compiler: clang 15.0.7, gcc 14.1.0 (MinGW), and MSVC VS 19.39.33521 To view detailed results, visit: https://lab.dpdk.org/results/dashboard/patchsets/34296/ UNH-IOL DPDK Community Lab To manage your email subscriptions, visit: https://lab.dpdk.org/results/dashboard/preferences/subscriptions/