From mboxrd@z Thu Jan 1 00:00:00 1970 Return-Path: Received: from mails.dpdk.org (mails.dpdk.org [217.70.189.124]) by inbox.dpdk.org (Postfix) with ESMTP id D5D9948953 for ; Thu, 16 Oct 2025 15:13:45 +0200 (CEST) Received: from mails.dpdk.org (localhost [127.0.0.1]) by mails.dpdk.org (Postfix) with ESMTP id D114F40269; Thu, 16 Oct 2025 15:13:45 +0200 (CEST) Received: from mail-il1-f228.google.com (mail-il1-f228.google.com [209.85.166.228]) by mails.dpdk.org (Postfix) with ESMTP id 65A9440269 for ; Thu, 16 Oct 2025 15:13:44 +0200 (CEST) Received: by mail-il1-f228.google.com with SMTP id e9e14a558f8ab-42f3acb1744so3249165ab.0 for ; Thu, 16 Oct 2025 06:13:44 -0700 (PDT) DKIM-Signature: v=1; a=rsa-sha256; c=relaxed/relaxed; d=iol.unh.edu; s=unh-iol; t=1760620424; x=1761225224; darn=dpdk.org; h=references:in-reply-to:cc:to:from:subject:message-id:date:from:to :cc:subject:date:message-id:reply-to; bh=diIUVkgg4am8Z7i6lWo1FyCT6U+vADPcC7xNA9a0rx8=; b=XqrfeWsScVlbYH8Rx4lxU3lW1Qj/PTjOguF+PQwg0jCi5dx5fkajGBirSLxYxWhcXe XGn77vtZzuL6XUkc8taXpKCEjPRnvoEBwDpjwB0DP4UXwTwYzA8vZpnKDANfECe7OWpF lXu6Qq1WhJHtpQIsN/XcgOacgP4C/xtzwKL4k= X-Google-DKIM-Signature: v=1; a=rsa-sha256; c=relaxed/relaxed; d=1e100.net; s=20230601; t=1760620424; x=1761225224; h=references:in-reply-to:cc:to:from:subject:message-id:date :x-gm-message-state:from:to:cc:subject:date:message-id:reply-to; bh=diIUVkgg4am8Z7i6lWo1FyCT6U+vADPcC7xNA9a0rx8=; b=v91oznXsuBkQWuP5kpcpOtGjjKRkRmn5cUgIzMrdhMFL+obmY5kKEINs1vdaCspmyx I7OwJOxex0SXJIOnQGi9+gs7LJLMh2K7Citepq58n61F96nXju3VK9XtCPjU/CbvLGR7 HJpbqe+sy2ZkpTsJRRLLNqI1WxSXvBl4LVjXCshneTI3DzFKx8yGDFV51swuMsOu4M3O 60w34zc0VX1hLGkyHEy7YAnaLGZnuY85hSCzHFej/j/2NIFrUZWY7NylIuutlO9PlMXV af7Aa9PRy7g1LTVYhg5YBenld9M6RwG5U3CGtPKJIxFFacCEZcj55+KpdHmofRWwWBTB 22+g== X-Gm-Message-State: AOJu0YzGhes2SFuCHW4orSlTXdJwMPEsf1drpZFRZE6ki1Xg5B8Ag4ze odqCoPOnOR9mqExbxpfrFkDrcFzDU51B2fo/wt2oQlESRQAXIMBPKcJo+SKUuVRnOLuQ6sHMVda A7fXW26pf5daojsrWfCUEmkn1CrjwJeP37fqoMYju+cDxZOUB+GJ7+HGkXIrQ X-Gm-Gg: ASbGncsW6+ABU8rhIq8tbm7MLsrORgULZ+Yxi2aq9zvDOnHpFgabj60ujzDVjC+aywf jQ3UOJnZN++YxORJKNABt3XA3IIGenhBw+AumrPL3BW9K/RwWXmM1lJZVySoKtsK8K84bndgUlA edJpeRGEM5yDzlyu+yrC5Navu9ZfPCEUTeAZU+g5vwX1NnM4iVhoto56CfuN4vmpS24FFHb+w7E j+gDtwHEe3WE9jgHURGUA6Sfd+U1E3PS8aeg5P0CPKhwUHnopkATGk9O9sgjwlEAJ+2YZfdQzB9 DpeC8Mb5R+ZoWlJjy7ECBax/8CxIE11Pw7cKThEmTUxxyIwN38xDjLC5Pimf62Rpc3HM3IEiG4z 5J1XGN20R X-Google-Smtp-Source: AGHT+IFjCkn7WBMZ/2sg+m7KsTkCKeaozIgUZ8quJbyLBsl8oDI/rVJlqTzsPf4V78PQi7VhDT1ZgQg/Nx6I X-Received: by 2002:a05:6e02:1d98:b0:425:7526:7f56 with SMTP id e9e14a558f8ab-430c5204a9fmr2501795ab.5.1760620423626; Thu, 16 Oct 2025 06:13:43 -0700 (PDT) Received: from postal.iol.unh.edu (postal.iol.unh.edu. [2606:4100:3880:1234::84]) by smtp-relay.gmail.com with ESMTPS id 8926c6da1cb9f-58f6e3af2besm1513105173.22.2025.10.16.06.13.43 (version=TLS1_2 cipher=ECDHE-ECDSA-AES128-GCM-SHA256 bits=128/128); Thu, 16 Oct 2025 06:13:43 -0700 (PDT) X-Relaying-Domain: iol.unh.edu Date: Thu, 16 Oct 2025 06:13:43 -0700 (PDT) Message-ID: <68f0ef87.050a0220.27de69.ae74SMTPIN_ADDED_MISSING@mx.google.com> Received: from [172.21.0.2] (unknown [172.18.0.240]) by postal.iol.unh.edu (Postfix) with ESMTP id 383C06051830; Thu, 16 Oct 2025 09:13:43 -0400 (EDT) Subject: |SUCCESS| pw157735-157754 [PATCH] [v5,21/21] doc: update release not From: dpdklab@iol.unh.edu To: Test Report Cc: dpdk-test-reports@iol.unh.edu, Stephen Hemminger In-Reply-To: <20251016111736.25372-22-zaiyuwang@trustnetic.com> References: <20251016111736.25372-22-zaiyuwang@trustnetic.com> Content-Type: text/plain X-BeenThere: test-report@dpdk.org X-Mailman-Version: 2.1.29 Precedence: list List-Id: automatic DPDK test reports List-Unsubscribe: , List-Archive: List-Post: List-Help: List-Subscribe: , Errors-To: test-report-bounces@dpdk.org Test-Label: iol-unit-amd64-testing Test-Status: SUCCESS http://dpdk.org/patch/157754 _Testing PASS_ Submitter: Zaiyu Wang Date: Thursday, October 16 2025 11:17:35 DPDK git baseline: Repo:dpdk-next-net Branch: master CommitID:791cea04798a8e2de014b99c009cd25b5929000a 157735-157754 --> testing pass Upstream job id: Generic-VM-Unit-Test-DPDK#31848 Test environment and result as below: +-------------------------------+----------------+ | Environment | dpdk_unit_test | +===============================+================+ | Fedora Linux 41 | PASS | +-------------------------------+----------------+ | Red Hat Enterprise Linux 8.10 | PASS | +-------------------------------+----------------+ | CentOS Stream 9 | PASS | +-------------------------------+----------------+ | Fedora Linux 40 | PASS | +-------------------------------+----------------+ | CentOS Stream 10 | PASS | +-------------------------------+----------------+ | Fedora Linux 42 | PASS | +-------------------------------+----------------+ | Debian GNU/Linux 12 | PASS | +-------------------------------+----------------+ | Red Hat Enterprise Linux 9.5 | PASS | +-------------------------------+----------------+ | Ubuntu 20.04 | PASS | +-------------------------------+----------------+ | Ubuntu 22.04 | PASS | +-------------------------------+----------------+ | Ubuntu 24.04 | PASS | +-------------------------------+----------------+ | Windows Server 2022 | PASS | +-------------------------------+----------------+ Fedora Linux 41 Kernel: 5.15 Compiler: clang gcc (GCC) 14.3.1 20250523 (Red Hat 14.3.1-1) Red Hat Enterprise Linux 8.10 Kernel: 5.15 Compiler: gcc gcc (GCC) 8.5.0 20210514 (Red Hat 8.5.0-22) CentOS Stream 9 Kernel: 5.15 Compiler: gcc gcc (GCC) 11.5.0 20240719 (Red Hat 11.5.0-11) Fedora Linux 40 Kernel: 5.15 Compiler: clang gcc (GCC) 14.2.1 20240912 (Red Hat 14.2.1-3) CentOS Stream 10 Kernel: 5.15 Compiler: gcc gcc (GCC) 14.2.1 20250110 (Red Hat 14.2.1-8) Fedora Linux 42 Kernel: 5.15 Compiler: clang gcc (GCC) 15.2.1 20250808 (Red Hat 15.2.1-1) Debian GNU/Linux 12 Kernel: 5.15 Compiler: gcc gcc (Debian 12.2.0-14+deb12u1) 12.2.0 Red Hat Enterprise Linux 9.5 Kernel: 5.15 Compiler: gcc gcc (GCC) 11.5.0 20240719 (Red Hat 11.5.0-2) Ubuntu 20.04 Kernel: 5.15 Compiler: gcc gcc (Ubuntu 9.4.0-1ubuntu1~20.04.2) 9.4.0 Ubuntu 22.04 Kernel: 5.15 Compiler: gcc gcc (Ubuntu 11.4.0-1ubuntu1~22.04) 11.4.0 Ubuntu 24.04 Kernel: 5.15 Compiler: gcc gcc (Ubuntu 13.3.0-6ubuntu2~24.04) 13.3.0 Windows Server 2022 Kernel: 10.0.20348.2031 Compiler: clang 15.0.7, gcc 14.1.0 (MinGW), and MSVC VS 19.39.33521 To view detailed results, visit: https://lab.dpdk.org/results/dashboard/patchsets/34299/ UNH-IOL DPDK Community Lab To manage your email subscriptions, visit: https://lab.dpdk.org/results/dashboard/preferences/subscriptions/