From mboxrd@z Thu Jan 1 00:00:00 1970 Return-Path: Received: from mails.dpdk.org (mails.dpdk.org [217.70.189.124]) by inbox.dpdk.org (Postfix) with ESMTP id 6817048953 for ; Thu, 16 Oct 2025 15:18:13 +0200 (CEST) Received: from mails.dpdk.org (localhost [127.0.0.1]) by mails.dpdk.org (Postfix) with ESMTP id 4800240269; Thu, 16 Oct 2025 15:18:13 +0200 (CEST) Received: from mail-yx1-f100.google.com (mail-yx1-f100.google.com [74.125.224.100]) by mails.dpdk.org (Postfix) with ESMTP id 6416140269 for ; Thu, 16 Oct 2025 15:18:11 +0200 (CEST) Received: by mail-yx1-f100.google.com with SMTP id 956f58d0204a3-63d97bcb898so961577d50.0 for ; Thu, 16 Oct 2025 06:18:11 -0700 (PDT) DKIM-Signature: v=1; a=rsa-sha256; c=relaxed/relaxed; d=iol.unh.edu; s=unh-iol; t=1760620690; x=1761225490; darn=dpdk.org; h=references:in-reply-to:cc:to:from:subject:message-id:date:from:to :cc:subject:date:message-id:reply-to; bh=SX2R2IuP3N7FLt3LFR5j7KVgNCPwoBwcD1yqg8zFHoQ=; b=hngMpjtX2qtND+kVMhUlcCzjS3G8A199+cCGspwHHWlDOtD/lN25sevwA96uGHZft6 chSk0wGg+Lcvs434pHK0ZRheZ4vKggykHMziOuze/NxwPW5jtne7UWN75tyl/RQ+vx8k n6aqgMyyWJh7eB56JroUFlAoORtcm56l+1rlQ= X-Google-DKIM-Signature: v=1; a=rsa-sha256; c=relaxed/relaxed; d=1e100.net; s=20230601; t=1760620690; x=1761225490; h=references:in-reply-to:cc:to:from:subject:message-id:date :x-gm-message-state:from:to:cc:subject:date:message-id:reply-to; bh=SX2R2IuP3N7FLt3LFR5j7KVgNCPwoBwcD1yqg8zFHoQ=; b=Ka67vALksmSWkAyVQyMIuEQX3KLCAmwiWgEI6uOs8fpMyx+fI+bMZR+5hxk7mXr5ln oGzecvZUePxkiVhkehnuvpOwuUBX4gsnUrUO5bE1QOILWFw300a6jBW/roTAZ5MeFjNt p55RcJpBl8LOSRL+EhMv83xcyJI3yOM94FwZrVUSKsDVS8hT3NaijjTHs7RA0xXRa/oD uJ5Js7benq2i/LAtf70bhBbuXbuONoOTC7G7RT1kqP102wIRkaYVEUndHRJzomj0NtCg bCsU2Oczsi7QopZ65+GriFjltBdhQ85k3W+3aSq+MM1EXC3+LEb1u7S8gKsSs3IZmNwN VQ3w== X-Gm-Message-State: AOJu0Yx4qeQvVNflMzVUGvXsYuG5UgoJaZoR4qOG9idP3ce6fND8L6Fv 1b94Ph20QtDgIgVznh1rmUMmIuBb+Clw7f8oxwpe10BmuOZsWLansUnnsF4nsb7hVpu0TWCQTSY tn8TMWRdzwY6kjnghddl0CVgcn7wpBQiIen/jyjpq3mW8 X-Gm-Gg: ASbGncsEzyDcMcuYEsMdE3f5HpVC24O+h/Pscm68ZKGsRRbAicisDKMT690Y5x5HLHE eIjUsE+KGJax3ylqmnQ731RLfZINoZiQv9BtfZKc2G+tydDFhF9E3nxrglSvGVgVOqxCCxCsggA XAJUklJtwSwbDEW44AOcy8hIMh5jnoPoRrWB/GHVVTevuIbZyNpIA1/ebs/PywQrgzLI4Aib+wj 82OBUKk2a2AIZRAQpL3fOF0khNRs4na7FUpqPYY+cIQhF7FwhaseTcSXZ8UZnwq6EIlYqDKJkOg wRqDf81dd76Yhx7oMVvTuypeTEdPXIGTiwAK3H47ejj1i037o+iPjhBzJ2vh+XpoIjDtBtWcj2E 5dbLbghLb9mOyRArnKDECigdWeeKadpA= X-Google-Smtp-Source: AGHT+IHKIM3jqAMHHWtsRBLM448aSN4c3s5DbtXr/cwG+OR+IwzPUwPGX75qY42J6JBz9MUo1f5uv2czf81R X-Received: by 2002:a05:690e:dc9:b0:636:d364:4eb0 with SMTP id 956f58d0204a3-63e08fed1f8mr2570794d50.25.1760620690292; Thu, 16 Oct 2025 06:18:10 -0700 (PDT) Received: from postal.iol.unh.edu (postal.iol.unh.edu. [132.177.123.84]) by smtp-relay.gmail.com with ESMTPS id 00721157ae682-7828c7eba2fsm1649657b3.6.2025.10.16.06.18.10 (version=TLS1_2 cipher=ECDHE-ECDSA-AES128-GCM-SHA256 bits=128/128); Thu, 16 Oct 2025 06:18:10 -0700 (PDT) X-Relaying-Domain: iol.unh.edu Date: Thu, 16 Oct 2025 06:18:10 -0700 (PDT) Message-ID: <68f0f092.050a0220.d55a8.905dSMTPIN_ADDED_MISSING@mx.google.com> Received: from [172.21.0.2] (unknown [172.18.0.240]) by postal.iol.unh.edu (Postfix) with ESMTP id EAAA46051830; Thu, 16 Oct 2025 09:18:09 -0400 (EDT) Subject: |SUCCESS| pw157735-157754 [PATCH] [v5,21/21] doc: update release not From: dpdklab@iol.unh.edu To: Test Report Cc: dpdk-test-reports@iol.unh.edu, Stephen Hemminger In-Reply-To: <20251016111736.25372-22-zaiyuwang@trustnetic.com> References: <20251016111736.25372-22-zaiyuwang@trustnetic.com> Content-Type: text/plain X-BeenThere: test-report@dpdk.org X-Mailman-Version: 2.1.29 Precedence: list List-Id: automatic DPDK test reports List-Unsubscribe: , List-Archive: List-Post: List-Help: List-Subscribe: , Errors-To: test-report-bounces@dpdk.org Test-Label: iol-unit-amd64-testing Test-Status: SUCCESS http://dpdk.org/patch/157754 _Testing PASS_ Submitter: Zaiyu Wang Date: Thursday, October 16 2025 11:17:35 DPDK git baseline: Repo:dpdk-next-net Branch: master CommitID:791cea04798a8e2de014b99c009cd25b5929000a 157735-157754 --> testing pass Upstream job id: Generic-VM-Unit-Test-DPDK#31849 Test environment and result as below: +-------------------------------+----------------+ | Environment | dpdk_unit_test | +===============================+================+ | Fedora Linux 41 | PASS | +-------------------------------+----------------+ | Red Hat Enterprise Linux 8.10 | PASS | +-------------------------------+----------------+ | CentOS Stream 9 | PASS | +-------------------------------+----------------+ | Fedora Linux 40 | PASS | +-------------------------------+----------------+ | CentOS Stream 10 | PASS | +-------------------------------+----------------+ | Fedora Linux 42 | PASS | +-------------------------------+----------------+ | Debian GNU/Linux 12 | PASS | +-------------------------------+----------------+ | Red Hat Enterprise Linux 9.5 | PASS | +-------------------------------+----------------+ | Ubuntu 20.04 | PASS | +-------------------------------+----------------+ | Ubuntu 22.04 | PASS | +-------------------------------+----------------+ | Ubuntu 24.04 | PASS | +-------------------------------+----------------+ | Windows Server 2022 | PASS | +-------------------------------+----------------+ Fedora Linux 41 Kernel: 5.15 Compiler: clang gcc (GCC) 14.3.1 20250523 (Red Hat 14.3.1-1) Red Hat Enterprise Linux 8.10 Kernel: 5.15 Compiler: gcc gcc (GCC) 8.5.0 20210514 (Red Hat 8.5.0-22) CentOS Stream 9 Kernel: 5.15 Compiler: gcc gcc (GCC) 11.5.0 20240719 (Red Hat 11.5.0-11) Fedora Linux 40 Kernel: 5.15 Compiler: clang gcc (GCC) 14.2.1 20240912 (Red Hat 14.2.1-3) CentOS Stream 10 Kernel: 5.15 Compiler: gcc gcc (GCC) 14.2.1 20250110 (Red Hat 14.2.1-8) Fedora Linux 42 Kernel: 5.15 Compiler: clang gcc (GCC) 15.2.1 20250808 (Red Hat 15.2.1-1) Debian GNU/Linux 12 Kernel: 5.15 Compiler: gcc gcc (Debian 12.2.0-14+deb12u1) 12.2.0 Red Hat Enterprise Linux 9.5 Kernel: 5.15 Compiler: gcc gcc (GCC) 11.5.0 20240719 (Red Hat 11.5.0-2) Ubuntu 20.04 Kernel: 5.15 Compiler: gcc gcc (Ubuntu 9.4.0-1ubuntu1~20.04.2) 9.4.0 Ubuntu 22.04 Kernel: 5.15 Compiler: gcc gcc (Ubuntu 11.4.0-1ubuntu1~22.04) 11.4.0 Ubuntu 24.04 Kernel: 5.15 Compiler: gcc gcc (Ubuntu 13.3.0-6ubuntu2~24.04) 13.3.0 Windows Server 2022 Kernel: 10.0.20348.2031 Compiler: clang 15.0.7, gcc 14.1.0 (MinGW), and MSVC VS 19.39.33521 To view detailed results, visit: https://lab.dpdk.org/results/dashboard/patchsets/34299/ UNH-IOL DPDK Community Lab To manage your email subscriptions, visit: https://lab.dpdk.org/results/dashboard/preferences/subscriptions/