From mboxrd@z Thu Jan 1 00:00:00 1970 Return-Path: Received: from mails.dpdk.org (mails.dpdk.org [217.70.189.124]) by inbox.dpdk.org (Postfix) with ESMTP id 2198148953 for ; Thu, 16 Oct 2025 15:24:42 +0200 (CEST) Received: from mails.dpdk.org (localhost [127.0.0.1]) by mails.dpdk.org (Postfix) with ESMTP id 00CC240269; Thu, 16 Oct 2025 15:24:42 +0200 (CEST) Received: from mail-io1-f97.google.com (mail-io1-f97.google.com [209.85.166.97]) by mails.dpdk.org (Postfix) with ESMTP id 8783940269 for ; Thu, 16 Oct 2025 15:24:40 +0200 (CEST) Received: by mail-io1-f97.google.com with SMTP id ca18e2360f4ac-93b9022d037so32202139f.2 for ; Thu, 16 Oct 2025 06:24:40 -0700 (PDT) DKIM-Signature: v=1; a=rsa-sha256; c=relaxed/relaxed; d=iol.unh.edu; s=unh-iol; t=1760621080; x=1761225880; darn=dpdk.org; h=cc:to:from:subject:message-id:date:from:to:cc:subject:date :message-id:reply-to; bh=B945tW4H0O2P+wJRl3+FuIgCYxZD5SsliFkEPpCwelM=; b=TSilCD9HnkX5cQpLaPiSyvkR9nddw47k0JvxKpEkJbni17oL05Cq34DIWQ6pKrRY3O fDhrYExMuYTUO62UJCBLtOvFwiAAPJdsdgEC+L9+HBnQ1mq3MfWwmrpUfbS62yzQfCrL 1frmKIOyXZ+VITIUYY/tjpSX+67YX7ak2+Twc= X-Google-DKIM-Signature: v=1; a=rsa-sha256; c=relaxed/relaxed; d=1e100.net; s=20230601; t=1760621080; x=1761225880; h=cc:to:from:subject:message-id:date:x-gm-message-state:from:to:cc :subject:date:message-id:reply-to; bh=B945tW4H0O2P+wJRl3+FuIgCYxZD5SsliFkEPpCwelM=; b=nLACdDIiTdMYwFlxm0YPKSdRuDhvvmLAGB1bGmuMHXi4d2/bQj84cpID+J5AeFyKx5 zqJaLhgrL4XCndQpBcoHQH1PGWhl+oiU8wy+sxfigNdMJGq8tRMmqK6TaNAyZbJbmkQC TrZG7ezoxnR6Iyr8wOajpBC+OJZVJ2KUg+pXr9etDTNoa8YEZOUgwzV5w/Z2CfUf+DFt XTmDcDX4reLd2UchnJ5H1f3WuNS2wJLsyQp85Til7U1X4JiBZbP3kihjSmocfvRuTt/P qBI6nTHPwPdEvzUkZE7p6b8O/puAbngry6/SIjBL+IQNRWD3cAOG6pC344I434IL5vCg UAtg== X-Gm-Message-State: AOJu0YxIv5wrl3bE7Ew4IugU2wwuA3r+KiwmUnBExKZRtFQy7p/ZGVxm 9znKsLEVlUwoeMcbI8Fn8TCyk3GPF4dRLBT0b8iGc5hW2Qf4JKPgqtsOl44cwPQk7T6F8bqPdrH 1l781+l8TXnmJtGa9Ugui3EUzaFGl0KRn12sIvSQWZeydgNHtsyMG X-Gm-Gg: ASbGncv0wUDNQ0b7MrLRibIVl1ZlaJaeFHGyp1lqAz4TWBh1OUD1jkUaE4zJ5jkd0UU ToFXGnh7G0HYAQ6LoalqviZ2GjfmsZHD+xR1pWe8S8Co99jnMW4apj4kU15cVhczJuHy5qTD8se WV9Q8CinAhCk5WFsFjQ1o7AhUlqTS5h8WDsfok3RANGcVprpsOSecFCWl03kVfIQ+0qeuEsnu6e w7yOFXLny+ShIu9x+lFoTwlFFY0CuJbsAZuuch5EQdSC9VC/J3X8XGfX1B16ibNCY5QGPsPfA3Q Smj8pTzrG4FmVEu8ASMiQrcqzWljKoaVG0+6jmCQJLNokBzc+/nbJXby8J0gsCJfO8023Y/ro4J hvHzhfwGt X-Google-Smtp-Source: AGHT+IF4xS8O5mWnbUh16Xi+nIqoJXvjja2GM3O+96qwPg8fhidUrzryf+L9lfwbigboCYPu9lB33caVerJd X-Received: by 2002:a05:6e02:3e06:b0:430:b147:3b70 with SMTP id e9e14a558f8ab-430c524ce8amr3028725ab.6.1760621079783; Thu, 16 Oct 2025 06:24:39 -0700 (PDT) Received: from postal.iol.unh.edu (postal.iol.unh.edu. [2606:4100:3880:1234::84]) by smtp-relay.gmail.com with ESMTPS id 8926c6da1cb9f-58f71e1c584sm1483733173.41.2025.10.16.06.24.39 (version=TLS1_2 cipher=ECDHE-ECDSA-AES128-GCM-SHA256 bits=128/128); Thu, 16 Oct 2025 06:24:39 -0700 (PDT) X-Relaying-Domain: iol.unh.edu Date: Thu, 16 Oct 2025 06:24:39 -0700 (PDT) Message-ID: <68f0f217.050a0220.34f679.91edSMTPIN_ADDED_MISSING@mx.google.com> Received: from [172.21.0.3] (unknown [172.18.0.240]) by postal.iol.unh.edu (Postfix) with ESMTP id 44CF26051830; Thu, 16 Oct 2025 09:24:39 -0400 (EDT) Subject: |SUCCESS| [GIT MASTER] 3b43ce3f4a54468e7ef65760c2fd7b4d6ee6d9fc From: dpdklab@iol.unh.edu To: Test Report Cc: dpdk-test-reports@iol.unh.edu, Xueming Li , Christian Ehrhardt , Kevin Traynor , Luca Boccassi Content-Type: text/plain X-BeenThere: test-report@dpdk.org X-Mailman-Version: 2.1.29 Precedence: list List-Id: automatic DPDK test reports List-Unsubscribe: , List-Archive: List-Post: List-Help: List-Subscribe: , Errors-To: test-report-bounces@dpdk.org _Testing PASS_ Branch: tags/v22.11 3b43ce3f4a54468e7ef65760c2fd7b4d6ee6d9fc --> testing pass Upstream job id: Generic-DPDK-Compile-Meson#434785 Test environment and result as below: +-------------------------------+--------------------+-------------------------+----------------------+ | Environment | dpdk_meson_compile | dpdk_llvm_clang_compile | dpdk_mingw64_compile | +===============================+====================+=========================+======================+ | Ubuntu 20.04 | PASS | SKIPPED | SKIPPED | +-------------------------------+--------------------+-------------------------+----------------------+ | FreeBSD 14.2 | PASS | SKIPPED | SKIPPED | +-------------------------------+--------------------+-------------------------+----------------------+ | Debian GNU/Linux 12 | PASS | SKIPPED | SKIPPED | +-------------------------------+--------------------+-------------------------+----------------------+ | CentOS Stream 9 | PASS | SKIPPED | SKIPPED | +-------------------------------+--------------------+-------------------------+----------------------+ | CentOS Stream 10 | PASS | SKIPPED | SKIPPED | +-------------------------------+--------------------+-------------------------+----------------------+ | Red Hat Enterprise Linux 8.10 | PASS | SKIPPED | SKIPPED | +-------------------------------+--------------------+-------------------------+----------------------+ | Red Hat Enterprise Linux 9.5 | PASS | SKIPPED | SKIPPED | +-------------------------------+--------------------+-------------------------+----------------------+ | Fedora Linux 42 | PASS | SKIPPED | SKIPPED | +-------------------------------+--------------------+-------------------------+----------------------+ | openSUSE Leap 15.6 | PASS | SKIPPED | SKIPPED | +-------------------------------+--------------------+-------------------------+----------------------+ | Ubuntu 24.04 | PASS | SKIPPED | SKIPPED | +-------------------------------+--------------------+-------------------------+----------------------+ | Ubuntu 22.04 | PASS | SKIPPED | SKIPPED | +-------------------------------+--------------------+-------------------------+----------------------+ | Windows Server 2022 | SKIPPED | PASS | PASS | +-------------------------------+--------------------+-------------------------+----------------------+ Ubuntu 20.04 Kernel: 4.19 Compiler: gcc gcc (Ubuntu 9.4.0-1ubuntu1~20.04.2) 9.4.0 FreeBSD 14.2 Kernel: 14.2-RELEASE Compiler: clang 18.1.6 Debian GNU/Linux 12 Kernel: 5.15 Compiler: gcc gcc (Debian 12.2.0-14+deb12u1) 12.2.0 CentOS Stream 9 Kernel: 5.15 Compiler: gcc gcc (GCC) 11.5.0 20240719 (Red Hat 11.5.0-11) CentOS Stream 10 Kernel: 5.15 Compiler: gcc gcc (GCC) 14.2.1 20250110 (Red Hat 14.2.1-8) Red Hat Enterprise Linux 8.10 Kernel: 5.15 Compiler: gcc gcc (GCC) 8.5.0 20210514 (Red Hat 8.5.0-22) Red Hat Enterprise Linux 9.5 Kernel: 5.15 Compiler: gcc gcc (GCC) 11.5.0 20240719 (Red Hat 11.5.0-2) Fedora Linux 42 Kernel: 5.15 Compiler: clang gcc (GCC) 15.2.1 20250808 (Red Hat 15.2.1-1) openSUSE Leap 15.6 Kernel: 5.15 Compiler: gcc gcc (SUSE Linux) 7.5.0 Ubuntu 24.04 Kernel: 5.15 Compiler: gcc gcc (Ubuntu 13.3.0-6ubuntu2~24.04) 13.3.0 Ubuntu 22.04 Kernel: 5.15 Compiler: gcc gcc (Ubuntu 11.4.0-1ubuntu1~22.04) 11.4.0 Windows Server 2022 Kernel: 10.0.20348.2031 Compiler: clang 15.0.7, gcc 14.1.0 (MinGW), and MSVC VS 19.39.33521 To view detailed results, visit: https://lab.dpdk.org/results/dashboard/tarballs/35227/ UNH-IOL DPDK Community Lab To manage your email subscriptions, visit: https://lab.dpdk.org/results/dashboard/preferences/subscriptions/